Workbook
Name JR_PAGE_ANCHOR_0_1: #REF!

Sheet Sheet3
A4: 1 | B4: Nr. | C4: Emërtimi i Programit | D4: Plani i rishikuar viti 2025 | E4: Shpenzime faktike viti 2025 | F4: Perqindja kundrejt 12 mujorit
B5: 1 | C5: Planifikimi, Menaxhimi dhe Administrimi | D5: ='Aneksi nr.1'!I12 -> 1516200000 | E5: ='Aneksi nr.1'!L12 -> 567801454 | F5: 94
B6: 2 | C6: Forcat e Luftimit | D6: ='Aneksi nr.1'!I13 -> 31391874000 | E6: ='Aneksi nr.1'!L13 -> 7026304233 | F6: 95
B7: 3 | C7: Mbështetja e Luftimit | D7: ='Aneksi nr.1'!I14 -> 11156536000 | E7: ='Aneksi nr.1'!L14 -> 2503421559 | F7: 96
B8: 4 | C8: Mbështetja për Shëndetësinë | D8: ='Aneksi nr.1'!I15 -> 2134800000 | E8: ='Aneksi nr.1'!L15 -> 454499203 | F8: 97
B9: 5 | C9: Arsimimi Ushtarak | D9: ='Aneksi nr.1'!I16 -> 1757900000 | E9: ='Aneksi nr.1'!L16 -> 248866549 | F9: 98
B10: 6 | C10: Mbështetje për Ushtarakët | D10: ='Aneksi nr.1'!I17 -> 5200000000 | E10: ='Aneksi nr.1'!L17 -> 2000000000 | F10: 99
B11: 7 | C11: Emergjencat Civile | D11: ='Aneksi nr.1'!I18 -> 5791250000 | E11: ='Aneksi nr.1'!L18 -> 145924886 | F11: 100
C12: Totali i Shpenzimeve të Ministrisë | D12: ='Aneksi nr.1'!I19 -> 58948560000 | E12: ='Aneksi nr.1'!L19 -> 12946817884 | F12: ='Aneksi nr.1'!O19 -> 21.962908
A15: 2 | B15: Nr. | C15: Emërtimi i Programit | D15: Shpenzime korrente Viti 2025 në % | E15: Shpenzime kapitale të brendshme Viti 2025në % | F15: Totali i shpenzimeve buxhetore Viti 2025 në %
B16: 1 | C16: Planifikimi, Menaxhimi dhe Administrimi | D16: 98.92783 | E16: 99.980296 | F16: 98.976664
B17: 2 | C17: Forcat e Luftimit | D17: ='Aneksi 2.0 Forcat e Luftimit'!N22 -> 33.2121 | E17: ='Aneksi 2.0 Forcat e Luftimit'!N25 -> 35.592015 | F17: ='Aneksi 2.0 Forcat e Luftimit'!N30 -> 22.382557
B18: 3 | C18: Mbështetja e Luftimit | D18: ='123'!N22 -> 98.68396 | E18: ='123'!N25 -> 89.305464 | F18: ='123'!N30 -> 96.505417
B19: 4 | C19: Mbështetja për Shëndetësinë | D19: ='Aneksi 2.0 Mbësht .Shëndetësinë'!N22 -> 27.651275 | E19: ='Aneksi 2.0 Mbësht .Shëndetësinë'!N25 -> 0.491232 | F19: ='Aneksi 2.0 Mbësht .Shëndetësinë'!N30 -> 21.290013
B20: 5 | C20: Arsimimi Ushtarak | D20: ='Aneksi 2.0 Arsimi Ushtarak'!N22 -> 26.265631 | E20: ='Aneksi 2.0 Arsimi Ushtarak'!N25 -> 1.4281769 | F20: ='Aneksi 2.0 Arsimi Ushtarak'!#REF! -> #REF!
B21: 6 | C21: Mbështetje për Ushtarakët | D21: ='Aneksi 2.0 Mbeshtet. Ushtaraket'!N22 -> 0 | E21: 0 | F21: ='Aneksi 2.0 Mbeshtet. Ushtaraket'!N32 -> 0
B22: 7 | C22: Emergjencat Civile | D22: ='Aneksi 2.0 Emergjencat Civile'!N22 -> 8.758222 | E22: ='Aneksi 2.0 Emergjencat Civile'!N25 -> 0.72918389 | F22: 80.4
C23: TOTALI I MINISTRISË | D23: 99 | E23: 90 | F23: 96
A26: 3 | B26: Nr. | C26: Emërtimi i Programit | D26: Struktura e shpenz. sipas buxhetit fillestar Viti 2025 në % | E26: Struktura e shpenz. sipas faktit të | F26: #
E27: Vitit 2025në %
B28: 1 | C28: Planifikimi, Menaxhimi dhe Administrimi | D28: ='Aneksi nr.1'!H12 -> 2.572073 | E28: ='Aneksi nr.1'!M12 -> 4.3856449 | F28: =E28-D28 -> 1.8135719
B29: 2 | C29: Forcat e Luftimit | D29: ='Aneksi nr.1'!H13 -> 53.252995 | E29: ='Aneksi nr.1'!M13 -> 54.270511 | F29: =E29-D29 -> 1.0175156
B30: 3 | C30: Mbështetja e Luftimit | D30: ='Aneksi nr.1'!H14 -> 18.925884 | E30: ='Aneksi nr.1'!M14 -> 19.336192 | F30: =E30-D30 -> 0.41030811
B31: 4 | C31: Mbështetja për Shëndetësinë | D31: ='Aneksi nr.1'!H15 -> 3.6214625 | E31: ='Aneksi nr.1'!M15 -> 3.510509 | F31: =E31-D31 -> -0.11095354
B32: 5 | C32: Arsimimi Ushtarak | D32: ='Aneksi nr.1'!H16 -> 2.9820915 | E32: ='Aneksi nr.1'!M16 -> 1.9222217 | F32: =E32-D32 -> -1.0598698
B33: 6 | C33: Mbështetje për Ushtarakët | D33: ='Aneksi nr.1'!H17 -> 8.8212503 | E33: ='Aneksi nr.1'!M17 -> 15.447811 | F33: =E33-D33 -> 6.6265611
B34: 7 | C34: Emergjencat Civile | D34: ='Aneksi nr.1'!H18 -> 9.8242434 | E34: ='Aneksi nr.1'!M18 -> 1.1271101 | F34: =E34-D34 -> -8.6971333
C35: Totali i Shpenzimeve të Ministrisë | D35: =SUM(D28:D34) -> 100 | E35: =SUM(E28:E34) -> 100
A38: 4 | B38: Nr, | C38: Emërtimi i Programit | D38: Plani vjetor i rishikur në mijë lekë | E38: Struktura në % | F38: Fakti i vitit 2025 | G38: Struktura në % | H38: Realizimi në % | I38: Realizimi në %
B39: 1 | C39: ='Aneksi nr.1'!D12 -> Planifikimi, Menaxhimi dhe Administrimi | D39: ='Aneksi nr.1'!I12/1000 -> 1516200 | E39: ='Aneksi nr.1'!J12 -> 2.572073 | F39: ='Aneksi nr.1'!L12/1000 -> 567801.45 | G39: ='Aneksi nr.1'!M12 -> 4.3856449 | H39: =I39 -> 37.448981 | I39: ='Aneksi nr.1'!O12 -> 37.448981
B40: 2 | C40: ='Aneksi nr.1'!D13 -> Forcat e Luftimit | D40: ='Aneksi nr.1'!I13/1000 -> 31391874 | E40: ='Aneksi nr.1'!J13 -> 53.252995 | F40: ='Aneksi nr.1'!L13/1000 -> 7026304.2 | G40: ='Aneksi nr.1'!M13 -> 54.270511 | H40: 96 | I40: ='Aneksi nr.1'!O13 -> 22.382557
B41: 3 | C41: ='Aneksi nr.1'!D14 -> Mbështetja e Luftimit | D41: ='Aneksi nr.1'!I14/1000 -> 11156536 | E41: ='Aneksi nr.1'!J14 -> 18.925884 | F41: ='Aneksi nr.1'!L14/1000 -> 2503421.6 | G41: ='Aneksi nr.1'!M14 -> 19.336192 | H41: =I41 -> 22.439058 | I41: ='Aneksi nr.1'!O14 -> 22.439058
B42: 4 | C42: ='Aneksi nr.1'!D15 -> Mbështetja për Shëndetësinë | D42: ='Aneksi nr.1'!I15/1000 -> 2134800 | E42: ='Aneksi nr.1'!J15 -> 3.6214625 | F42: ='Aneksi nr.1'!L15/1000 -> 454499.2 | G42: ='Aneksi nr.1'!M15 -> 3.510509 | H42: =I42 -> 21.290013 | I42: ='Aneksi nr.1'!O15 -> 21.290013
B43: 5 | C43: ='Aneksi nr.1'!D16 -> Arsimi Ushtarak | D43: ='Aneksi nr.1'!I16/1000 -> 1757900 | E43: ='Aneksi nr.1'!J16 -> 2.9820915 | F43: ='Aneksi nr.1'!L16/1000 -> 248866.55 | G43: ='Aneksi nr.1'!M16 -> 1.9222217 | H43: =I43 -> 14.157037 | I43: ='Aneksi nr.1'!O16 -> 14.157037
B44: 6 | C44: ='Aneksi nr.1'!D17 -> Mbështetje për Ushtarakët | D44: ='Aneksi nr.1'!I17/1000 -> 5200000 | E44: ='Aneksi nr.1'!J17 -> 8.8212503 | F44: ='Aneksi nr.1'!L17/1000 -> 2000000 | G44: ='Aneksi nr.1'!M17 -> 15.447811 | H44: =I44 -> 38.461538 | I44: ='Aneksi nr.1'!O17 -> 38.461538
B45: 7 | C45: ='Aneksi nr.1'!D18 -> Emergjencat Civile | D45: ='Aneksi nr.1'!I18/1000 -> 5791250 | E45: ='Aneksi nr.1'!J18 -> 9.8242434 | F45: ='Aneksi nr.1'!L18/1000 -> 145924.89 | G45: ='Aneksi nr.1'!M18 -> 1.1271101 | H45: ='Aneksi 2.0 Emergjencat Civile'!#REF! -> #REF! | I45: ='Aneksi nr.1'!O18 -> 2.5197477
C46: Totali | D46: ='Aneksi nr.1'!I19/1000 -> 58948560 | E46: ='Aneksi nr.1'!J19 -> 100 | F46: ='Aneksi nr.1'!L19/1000 -> 12946818 | G46: ='Aneksi nr.1'!M19 -> 100 | H46: 96 | I46: ='Aneksi nr.1'!O19 -> 21.962908
A49: 5 | B49: Nr. | C49: Emërtimi i Programit | D49: Plani fillestar | E49: Plani i rishikuar | F49: Ndryshimi i planit vjetor
B50: 1 | C50: ='Aneksi nr.1'!D12 -> Planifikimi, Menaxhimi dhe Administrimi | D50: ='Aneksi nr.1'!G12/1000 -> 1516200 | E50: ='Aneksi nr.1'!I12/1000 -> 1516200 | F50: ='Aneksi nr.1'!K12/1000 -> 0
B51: 2 | C51: ='Aneksi nr.1'!D13 -> Forcat e Luftimit | D51: ='Aneksi nr.1'!G13/1000 -> 31391874 | E51: =('Aneksi 2.0 Forcat e Luftimit'!H22+'Aneksi 2.0 Forcat e Luftimit'!H25)/1000 -> 20391874 | F51: =('Aneksi 2.0 Forcat e Luftimit'!J22+'Aneksi 2.0 Forcat e Luftimit'!J25)/1000 -> 17381335 | G51: =D51-E51 -> 11000000 | H51: =D51-E51 -> 11000000
...

Sheet Sheet2
A1: PROGRAMI BUXHETOR PLANIFIKIMI, MENAXHIMI DHE ADMINISTRIMI | B1: LLOGARIA EKONOMIKE | C1: Shpenzime faktike 2024 | D1: PLANI FILLESTAR | E1: PLANI ME NDRYSHIME | F1: Shpenzime faktike | G1: MBETJE | H1: % e Realizimit | I1: NDRYSHIME
B2: 600 | C2: ='Aneksi nr.1'!E12/1000 -> 1656802.9 | D2: ='Aneksi nr.1'!G12/1000 -> 1516200 | G2: =E2-F2 -> 0 | H2: =F2/E2*100 -> #DIV/0! | I2: =E2-D2 -> -1516200
B3: 601 | C3: ='Aneksi nr.1'!E13/1000 -> 17381335 | D3: ='Aneksi nr.1'!G13/1000 -> 31391874 | G3: =E3-F3 -> 0 | H3: =F3/E3*100 -> #DIV/0! | I3: =E3-D3 -> -31391874 | J3: 0
B4: 602 | C4: ='Aneksi nr.1'!E14/1000 -> 9629528.7 | D4: ='Aneksi nr.1'!G14/1000 -> 11156536 | G4: =E4-F4 -> 0 | H4: =F4/E4*100 -> #DIV/0! | I4: =E4-D4 -> -11156536 | J4: 0
B5: 603 | C5: ='Aneksi nr.1'!E15/1000 -> 1902997 | D5: ='Aneksi nr.1'!G15/1000 -> 2134800 | G5: =E5-F5 -> 0 | H5: =F5/E5*100 -> #DIV/0! | I5: =E5-D5 -> -2134800 | J5: 0
B6: 604 | C6: ='Aneksi nr.1'!E16/1000 -> 1342870.8 | D6: ='Aneksi nr.1'!G16/1000 -> 1757900 | G6: =E6-F6 -> 0 | H6: =F6/E6*100 -> #DIV/0! | I6: =E6-D6 -> -1757900 | J6: 0
B7: 605 | C7: ='Aneksi nr.1'!E17/1000 -> 5228958 | D7: ='Aneksi nr.1'!G17/1000 -> 5200000 | G7: =E7-F7 -> 0 | H7: =F7/E7*100 -> #DIV/0! | I7: =E7-D7 -> -5200000 | J7: 0
B8: 606 | C8: ='Aneksi nr.1'!E18/1000 -> 2400317 | D8: ='Aneksi nr.1'!G18/1000 -> 5791250 | G8: =E8-F8 -> 0 | H8: =F8/E8*100 -> #DIV/0! | I8: =E8-D8 -> -5791250 | J8: 0
B9: 231 | C9: ='Aneksi nr.1'!E19/1000 -> 39542809 | D9: ='Aneksi nr.1'!G19/1000 -> 58948560 | G9: =E9-F9 -> 0 | H9: =F9/E9*100 -> #DIV/0! | I9: =E9-D9 -> -58948560
B10: 231/2 | C10: ='Aneksi nr.1'!E20/1000 -> 24682 | D10: 0 | G10: =E10-F10 -> 0 | H10: =F10/E10*100 -> #DIV/0! | I10: =E10-D10 -> 0 | J10: 0
B11: TOTALI | C11: =SUM(C2:C10) -> 79110300 | D11: =SUM(D2:D10) -> 117897120 | E11: =SUM(E2:E10) -> 0 | F11: =SUM(F2:F10) -> 0 | G11: =SUM(G2:G10) -> 0 | H11: =F11/E11*100 -> #DIV/0! | I11: =SUM(I2:I10) -> -117897120 | J11: 0
A14: PROGRAMI BUXHETOR FORCA E LUFTIMIT | B14: LLOGARIA EKONOMIKE | C14: Shpenzime faktike | D14: PLANI FILLESTAR | E14: PLANI ME NDRYSHIME | F14: Shpenzime faktike | G14: MBETJE | H14: % e Realizimit | I14: NDRYSHIME
B15: 600 | C15: 3590420.7 | D15: 3869168 | E15: 4861644 | F15: 4851623.4 | G15: =E15-F15 -> 10020.518 | H15: =F15/E15*100 -> 99.793886 | I15: =E15-D15 -> 992475.95
B16: 601 | C16: 608428.18 | D16: 680000 | E16: 787160 | F16: 784786.63 | G16: =E16-F16 -> 2373.372 | H16: =F16/E16*100 -> 99.698489 | I16: =E16-D16 -> 107160
B17: 602 | C17: 2994541.7 | D17: 2863090 | E17: 3523090 | F17: 3456990.4 | G17: =E17-F17 -> 66099.65 | H17: =F17/E17*100 -> 98.123816 | I17: =E17-D17 -> 660000
B18: 603 | C18: 0 | D18: 0 | E18: 0 | F18: 0 | G18: =E18-F18 -> 0 | H18: =F18/E18*100 -> #DIV/0! | I18: =E18-D18 -> 0
B19: 604 | C19: 0 | D19: 0 | E19: 0 | F19: 0 | G19: =E19-F19 -> 0 | H19: =F19/E19*100 -> #DIV/0! | I19: =E19-D19 -> 0
B20: 605 | C20: 0 | D20: 0 | E20: 0 | F20: 0 | G20: =E20-F20 -> 0 | H20: =F20/E20*100 -> #DIV/0! | I20: =E20-D20 -> 0
B21: 606 | C21: 71323.006 | D21: 40000 | E21: 66240.873 | F21: 62271.942 | G21: =E21-F21 -> 3968.931 | H21: =F21/E21*100 -> 94.008335 | I21: =E21-D21 -> 26240.873
B22: 231 | C22: 7433459 | D22: 11201500 | E22: 8836120 | F22: 8225662.2 | G22: =E22-F22 -> 610457.81 | H22: =F22/E22*100 -> 93.091336 | I22: =E22-D22 -> -2365380
B23: 231/2 | C23: 0 | D23: 10200000 | E23: 11102400 | F23: 0 | G23: =E23-F23 -> 11102400 | H23: =F23/E23*100 -> 0 | I23: =E23-D23 -> 902400
B24: TOTALI | C24: 14698173 | D24: 28853758 | E24: =SUM(E15:E23) -> 29176655 | F24: =SUM(F15:F23) -> 17381335 | G24: =SUM(G15:G23) -> 11795320 | H24: =F24/E24*100 -> 59.572746 | I24: =SUM(I15:I23) -> 322896.82
C25: 14701748 | D25: 24939590 | E25: 16180095 | F25: 14701748 | G25: 1481922.6 | H25: 0.090863171 | I25: #REF!
D26: 0 | E26: 0
A27: PROGRAMI BUXHETOR MBESHTETJA E LUFTIMIT | B27: LLOGARIA EKONOMIKE | C27: Shpenzime faktike | D27: PLANI FILLESTAR | E27: PLANI ME NDRYSHIME | F27: Shpenzime faktike | G27: MBETJE | H27: % e Realizimit | I27: NDRYSHIME
B28: 600 | C28: 3055112.8 | D28: 3188700 | E28: 3655358.1 | F28: 3643746.6 | G28: =E28-F28 -> 11611.573 | H28: =F28/E28*100 -> 99.682341 | I28: =E28-D28 -> 466658.13
B29: 601 | C29: 528272.23 | D29: 514300 | E29: 605980 | F29: 600774.04 | G29: =E29-F29 -> 5205.956 | H29: =F29/E29*100 -> 99.140903 | I29: =E29-D29 -> 91680
B30: 602 | C30: 1957085 | D30: 2750686 | E30: 3110504 | F30: 3041395.8 | G30: =E30-F30 -> 69108.187 | H30: =F30/E30*100 -> 97.778232 | I30: =E30-D30 -> 359818
B31: 603 | C31: 0 | D31: 0 | E31: 0 | F31: 0 | G31: =E31-F31 -> 0 | H31: =F31/E31*100 -> #DIV/0! | I31: =E31-D31 -> 0
B32: 604 | C32: 289176.97 | D32: 0 | E32: 0 | F32: 0 | G32: =E32-F32 -> 0 | H32: =F32/E32*100 -> #DIV/0! | I32: =E32-D32 -> 0
B33: 605 | C33: 0 | D33: 0 | E33: 0 | F33: 0 | G33: =E33-F33 -> 0 | H33: =F33/E33*100 -> #DIV/0! | I33: =E33-D33 -> 0
B34: 606 | C34: 299352.58 | D34: 301250 | E34: 288529 | F34: 273641.15 | G34: =E34-F34 -> 14887.854 | H34: =F34/E34*100 -> 94.840084 | I34: =E34-D34 -> -12721.001
B35: 231 | C35: 638800.21 | D35: 1558500 | E35: 2317855 | F35: 2069971.2 | G35: =E35-F35 -> 247883.84 | H35: =F35/E35*100 -> 89.305464 | I35: =E35-D35 -> 759355
B36: 231/2 | C36: 0 | D36: 0 | E36: 0 | G36: =E36-F36 -> 0 | H36: =F36/E36*100 -> #DIV/0! | I36: =E36-D36 -> 0
B37: TOTALI | C37: 6767799.8 | D37: 8313436 | E37: =SUM(E28:E36) -> 9978226.1 | F37: =SUM(F28:F36) -> 9629528.7 | G37: =SUM(G28:G36) -> 348697.41 | H37: =F37/E37*100 -> 96.505417 | I37: =SUM(I28:I36) -> 1664790.1
C38: 0 | D38: 0 | E38: 610956.94 | F38: 0 | G38: 0
C39: 6767799.8 | D39: 8020436 | E39: 7409479.1 | F39: 6767799.8 | G39: 641679.24 | H39: 0.091339752
A40: PROGRAMI BUXHETOMBWSHTETJE PWR SHWNDETWSINW | B40: LLOGARIA EKONOMIKE | C40: Shpenzime faktike | D40: PLANI FILLESTAR | E40: PLANI ME NDRYSHIME | F40: Shpenzime faktike | G40: MBETJE | H40: % e Realizimit | I40: NDRYSHIME
B41: 600 | C41: 584137.73 | D41: 510836 | E41: 702836 | F41: 695375.31 | G41: =E41-F41 -> 7460.692 | H41: =F41/E41*100 -> 98.938487 | I41: =E41-D41 -> 192000
B42: 601 | C42: 96245.744 | D42: 95000 | E42: 117000 | F42: 114015.59 | G42: =E42-F42 -> 2984.409 | H42: =F42/E42*100 -> 97.449223 | I42: =E42-D42 -> 22000
...

Sheet Aneksi nr.1
B2: ANEKSI nr.1 Raporti Përmbledhës i Shpenzimeve të Ministrisë/Institucionit Buxhetor
B3: Periudha e Raportimit 04-2026
B4: në/lekë
B5: Emri i Grupit | D5: Ministria e Mbrojtjes | G5: Kodi i grupit | K5: 17
B6: EMËRTIME | E6: Shpenzimet e Ministrisë/Institucionit
E7: Viti paraardhës 2025 | G7: Periudha raportuese | I7: Periudha raportuese | K7: Periudha raportuese | L7: Periudha raportuese | N7: Ndryshimi Vjetor (Plan - Fakt) | O7: % e realizimit
E8: Shpenzime Faktike | F8: Struktura e shpenzimeve në % | G8: Plani Fillestar Vjetor Viti 2026 | H8: Struktura e shpenzimeve në % | I8: Plani Vjetor i Rishikuar Viti 2026 | J8: Struktura e shpenzimeve në % | K8: Ndryshimi i planit vjetor | L8: Shpenzime Faktike të Periudhës/Progresive | M8: Struktura e shpenzimeve në %
E9: (1) | F9: (2) | G9: (3) | H9: (4) | I9: (5) | J9: (6) | K9: 7 (5-3) | L9: (8) | M9: (9) | N9: 10 (5-8) | O9: 11 ( 8/5)
B10: Shpenzimet sipas programeve buxhetore
B11: Kodi i Programit | D11: Emërtimi
B12: 01110 | D12: Planifikimi, Menaxhimi dhe Administrimi | E12: ='Aneksi 2.0 Planif'!D30 -> 1656802891 | F12: =E12/E19*100 -> 4.1898968 | G12: ='Aneksi 2.0 Planif'!F30 -> 1516200000 | H12: =G12/G19*100 -> 2.572073 | I12: ='Aneksi 2.0 Planif'!H30 -> 1516200000 | J12: =I12/I19*100 -> 2.572073 | K12: =I12-G12 -> 0 | L12: ='Aneksi 2.0 Planif'!K30 -> 567801454 | M12: =L12/L19*100 -> 4.3856449 | N12: =I12-L12 -> 948398546 | O12: =L12/I12*100 -> 37.448981
B13: 02120 | D13: Forcat e Luftimit | E13: ='Aneksi 2.0 Forcat e Luftimit'!D30 -> 1.7381335e+10 | F13: =E13/E19*100 -> 43.955741 | G13: ='Aneksi 2.0 Forcat e Luftimit'!F30 -> 31391874000 | H13: =G13/G19*100 -> 53.252995 | I13: ='Aneksi 2.0 Forcat e Luftimit'!H30 -> 31391874000 | J13: =I13/I19*100 -> 53.252995 | K13: =I13-G13 -> 0 | L13: ='Aneksi 2.0 Forcat e Luftimit'!K30 -> 7026304233 | M13: =L13/L19*100 -> 54.270511 | N13: =I13-L13 -> 24365569767 | O13: =L13/I13*100 -> 22.382557
B14: 02150 | D14: Mbështetja e Luftimit | E14: ='Aneksi 2.0 MBSHT.LUFTIMIT'!D35 -> 9629528719 | F14: =E14/E19*100 -> 24.352162 | G14: ='Aneksi 2.0 MBSHT.LUFTIMIT'!F35 -> 11156536000 | H14: =G14/G19*100 -> 18.925884 | I14: ='Aneksi 2.0 MBSHT.LUFTIMIT'!H35 -> 11156536000 | J14: =I14/I19*100 -> 18.925884 | K14: =I14-G14 -> 0 | L14: ='Aneksi 2.0 MBSHT.LUFTIMIT'!K35 -> 2503421559 | M14: =L14/L19*100 -> 19.336192 | N14: =I14-L14 -> 8653114441 | O14: =L14/I14*100 -> 22.439058
B15: 07340 | D15: Mbështetja për Shëndetësinë | E15: ='Aneksi 2.0 Mbësht .Shëndetësinë'!D30 -> 1902997030 | F15: =E15/E19*100 -> 4.8124984 | G15: ='Aneksi 2.0 Mbësht .Shëndetësinë'!F30 -> 2134800000 | H15: =G15/G19*100 -> 3.6214625 | I15: ='Aneksi 2.0 Mbësht .Shëndetësinë'!H30 -> 2134800000 | J15: =I15/I19*100 -> 3.6214625 | K15: =I15-G15 -> 0 | L15: ='Aneksi 2.0 Mbësht .Shëndetësinë'!K30 -> 454499203 | M15: =L15/L19*100 -> 3.510509 | N15: =I15-L15 -> 1680300797 | O15: =L15/I15*100 -> 21.290013
B16: 09430 | D16: Arsimi Ushtarak | E16: ='Aneksi 2.0 Arsimi Ushtarak'!D32 -> 1342870806 | F16: =E16/E19*100 -> 3.3959924 | G16: ='Aneksi 2.0 Arsimi Ushtarak'!F32 -> 1757900000 | H16: =G16/G19*100 -> 2.9820915 | I16: ='Aneksi 2.0 Arsimi Ushtarak'!H32 -> 1757900000 | J16: =I16/I19*100 -> 2.9820915 | K16: =I16-G16 -> 0 | L16: ='Aneksi 2.0 Arsimi Ushtarak'!K32 -> 248866549 | M16: =L16/L19*100 -> 1.9222217 | N16: =I16-L16 -> 1509033451 | O16: =L16/I16*100 -> 14.157037
B17: 10270 | D17: Mbështetje për Ushtarakët | E17: ='Aneksi 2.0 Mbeshtet. Ushtaraket'!D32 -> 5228958000 | F17: =E17/E19*100 -> 13.223537 | G17: ='Aneksi 2.0 Mbeshtet. Ushtaraket'!F32 -> 5200000000 | H17: =G17/G19*100 -> 8.8212503 | I17: ='Aneksi 2.0 Mbeshtet. Ushtaraket'!H32 -> 5200000000 | J17: =I17/I19*100 -> 8.8212503 | K17: =I17-G17 -> 0 | L17: ='Aneksi 2.0 Mbeshtet. Ushtaraket'!K32 -> 2000000000 | M17: =L17/L19*100 -> 15.447811 | N17: =I17-L17 -> 3200000000 | O17: =L17/I17*100 -> 38.461538
B18: 10910 | D18: Emergjencat Civile | E18: ='Aneksi 2.0 Emergjencat Civile'!D30 -> 2.400317e+09 | F18: =E18/E19*100 -> 6.0701731 | G18: ='Aneksi 2.0 Emergjencat Civile'!F30 -> 5791250000 | H18: =G18/G19*100 -> 9.8242434 | I18: ='Aneksi 2.0 Emergjencat Civile'!H30 -> 5791250000 | J18: =I18/I19*100 -> 9.8242434 | K18: =I18-G18 -> 0 | L18: ='Aneksi 2.0 Emergjencat Civile'!K30 -> 145924886 | M18: =L18/L19*100 -> 1.1271101 | N18: =I18-L18 -> 5645325114 | O18: =L18/I18*100 -> 2.5197477
D19: Totali i Shpenzimeve buxhetore te Ministrise (Kap 01,02,03,04,05,08,22) | E19: =SUM(E12:E18) -> 3.9542809e+10 | F19: 100 | G19: =SUM(G12:G18) -> 58948560000 | H19: 100 | I19: =SUM(I12:I18) -> 58948560000 | J19: 100 | K19: =SUM(K12:K18) -> 0 | L19: =SUM(L12:L18) -> 12946817884 | M19: 100 | N19: =SUM(N12:N18) -> 46001742116 | O19: =L19/I19*100 -> 21.962908
D20: Shpenzime nga te Ardhurat Jashte limitit (Kap 06) | E20: 24682000
D21: Totali Shpenzimeve te Ministrisë | O21: =L21/I19*100 -> 0
B22: Shpenzimet sipas klasifikimit ekonomik
B23: Artikulli | D23: Emërtimi
B24: 600 | D24: Paga | E24: ='Aneksi 2.0 Planif'!D15+'Aneksi 2.0 Forcat e Luftimit'!D15+'Aneksi 2.0 MBSHT.LUFTIMIT'!D18+'Aneksi 2.0 Mbësht .Shëndetësinë'!D15+'Aneksi 2.0 Arsimi Ushtarak'!D15+'Aneksi 2.0 Mbeshtet. Ushtaraket'!D15+'Aneksi 2.0 Emergjencat Civile'!D15 -> 10536588852 | F24: =E24/E41*100 -> 26.64603 | G24: ='Aneksi 2.0 Planif'!F15+'Aneksi 2.0 Forcat e Luftimit'!F15+'Aneksi 2.0 MBSHT.LUFTIMIT'!F18+'Aneksi 2.0 Mbësht .Shëndetësinë'!F15+'Aneksi 2.0 Arsimi Ushtarak'!F15+'Aneksi 2.0 Mbeshtet. Ushtaraket'!F15+'Aneksi 2.0 Emergjencat Civile'!F15 -> 11081484000 | H24: =G24/G41*100 -> 18.798566 | I24: ='Aneksi 2.0 Planif'!H15+'Aneksi 2.0 Forcat e Luftimit'!H15+'Aneksi 2.0 MBSHT.LUFTIMIT'!H18+'Aneksi 2.0 Mbësht .Shëndetësinë'!H15+'Aneksi 2.0 Arsimi Ushtarak'!H15+'Aneksi 2.0 Mbeshtet. Ushtaraket'!H15+'Aneksi 2.0 Emergjencat Civile'!H15 -> 11081484000 | J24: =I24/I41*100 -> 18.798566 | K24: =I24-G24 -> 0 | L24: ='Aneksi 2.0 Planif'!K15+'Aneksi 2.0 Forcat e Luftimit'!K15+'Aneksi 2.0 MBSHT.LUFTIMIT'!K18+'Aneksi 2.0 Mbësht .Shëndetësinë'!K15+'Aneksi 2.0 Arsimi Ushtarak'!K15+'Aneksi 2.0 Mbeshtet. Ushtaraket'!K15+'Aneksi 2.0 Emergjencat Civile'!K15 -> 3688379194 | M24: =L24/L41*100 -> 28.488693 | N24: =I24-L24 -> 7393104806 | O24: =L24/I24*100 -> 33.284163
B25: 601 | D25: Sigurime Shoqërore | E25: ='Aneksi 2.0 Planif'!D16+'Aneksi 2.0 Forcat e Luftimit'!D16+'Aneksi 2.0 MBSHT.LUFTIMIT'!D19+'Aneksi 2.0 Mbësht .Shëndetësinë'!D16+'Aneksi 2.0 Arsimi Ushtarak'!D16+'Aneksi 2.0 Mbeshtet. Ushtaraket'!D16+'Aneksi 2.0 Emergjencat Civile'!D16 -> 1757112916 | F25: =E25/E41*100 -> 4.4435713 | G25: ='Aneksi 2.0 Planif'!F16+'Aneksi 2.0 Forcat e Luftimit'!F16+'Aneksi 2.0 MBSHT.LUFTIMIT'!F19+'Aneksi 2.0 Mbësht .Shëndetësinë'!F16+'Aneksi 2.0 Arsimi Ushtarak'!F16+'Aneksi 2.0 Mbeshtet. Ushtaraket'!F16+'Aneksi 2.0 Emergjencat Civile'!F16 -> 1911230000 | H25: =G25/G41*100 -> 3.2421996 | I25: ='Aneksi 2.0 Planif'!H16+'Aneksi 2.0 Forcat e Luftimit'!H16+'Aneksi 2.0 MBSHT.LUFTIMIT'!H19+'Aneksi 2.0 Mbësht .Shëndetësinë'!H16+'Aneksi 2.0 Arsimi Ushtarak'!H16+'Aneksi 2.0 Mbeshtet. Ushtaraket'!H16+'Aneksi 2.0 Emergjencat Civile'!H16 -> 1911230000 | J25: =I25/I41*100 -> 3.2421996 | K25: =I25-G25 -> 0 | L25: ='Aneksi 2.0 Planif'!K16+'Aneksi 2.0 Forcat e Luftimit'!K16+'Aneksi 2.0 MBSHT.LUFTIMIT'!K19+'Aneksi 2.0 Mbësht .Shëndetësinë'!K16+'Aneksi 2.0 Arsimi Ushtarak'!K16+'Aneksi 2.0 Mbeshtet. Ushtaraket'!K16+'Aneksi 2.0 Emergjencat Civile'!K16 -> 639270024 | M25: =L25/L41*100 -> 4.9376614 | N25: =I25-L25 -> 1271959976 | O25: =L25/I25*100 -> 33.448095
B26: 602 | D26: Mallra dhe Shërbime të Tjera | E26: ='Aneksi 2.0 Planif'!D17+'Aneksi 2.0 Forcat e Luftimit'!D17+'Aneksi 2.0 MBSHT.LUFTIMIT'!D20+'Aneksi 2.0 Mbësht .Shëndetësinë'!D17+'Aneksi 2.0 Arsimi Ushtarak'!D17+'Aneksi 2.0 Mbeshtet. Ushtaraket'!D17+'Aneksi 2.0 Emergjencat Civile'!D17 -> 8.252993e+09 | F26: =E26/E41*100 -> 20.871034 | G26: ='Aneksi 2.0 Planif'!F17+'Aneksi 2.0 Forcat e Luftimit'!F17+'Aneksi 2.0 MBSHT.LUFTIMIT'!F20+'Aneksi 2.0 Mbësht .Shëndetësinë'!F17+'Aneksi 2.0 Arsimi Ushtarak'!F17+'Aneksi 2.0 Mbeshtet. Ushtaraket'!F17+'Aneksi 2.0 Emergjencat Civile'!F17 -> 9487687000 | H26: =G26/G41*100 -> 16.094858 | I26: ='Aneksi 2.0 Planif'!H17+'Aneksi 2.0 Forcat e Luftimit'!H17+'Aneksi 2.0 MBSHT.LUFTIMIT'!H20+'Aneksi 2.0 Mbësht .Shëndetësinë'!H17+'Aneksi 2.0 Arsimi Ushtarak'!H17+'Aneksi 2.0 Mbeshtet. Ushtaraket'!H17+'Aneksi 2.0 Emergjencat Civile'!H17 -> 9487687000 | J26: =I26/I41*100 -> 16.094858 | K26: =I26-G26 -> 0 | L26: ='Aneksi 2.0 Planif'!K17+'Aneksi 2.0 Forcat e Luftimit'!K17+'Aneksi 2.0 MBSHT.LUFTIMIT'!K20+'Aneksi 2.0 Mbësht .Shëndetësinë'!K17+'Aneksi 2.0 Arsimi Ushtarak'!K17+'Aneksi 2.0 Mbeshtet. Ushtaraket'!K17+'Aneksi 2.0 Emergjencat Civile'!K17 -> 2373288186 | M26: =L26/L41*100 -> 18.331054 | N26: =I26-L26 -> 7114398814 | O26: =L26/I26*100 -> 25.014402
B27: 603 | D27: Subvencione | E27: ='Aneksi 2.0 Planif'!D18+'Aneksi 2.0 Forcat e Luftimit'!D18+'Aneksi 2.0 MBSHT.LUFTIMIT'!D21+'Aneksi 2.0 Mbësht .Shëndetësinë'!D18+'Aneksi 2.0 Arsimi Ushtarak'!D18+'Aneksi 2.0 Mbeshtet. Ushtaraket'!D18+'Aneksi 2.0 Emergjencat Civile'!D18 -> 0 | F27: =E27/E41*100 -> 0 | G27: ='Aneksi 2.0 Planif'!F18+'Aneksi 2.0 Forcat e Luftimit'!F18+'Aneksi 2.0 MBSHT.LUFTIMIT'!F21+'Aneksi 2.0 Mbësht .Shëndetësinë'!F18+'Aneksi 2.0 Arsimi Ushtarak'!F18+'Aneksi 2.0 Mbeshtet. Ushtaraket'!F18+'Aneksi 2.0 Emergjencat Civile'!F18 -> 0 | H27: =G27/G41*100 -> 0 | I27: ='Aneksi 2.0 Planif'!H18+'Aneksi 2.0 Forcat e Luftimit'!H18+'Aneksi 2.0 MBSHT.LUFTIMIT'!H21+'Aneksi 2.0 Mbësht .Shëndetësinë'!H18+'Aneksi 2.0 Arsimi Ushtarak'!H18+'Aneksi 2.0 Mbeshtet. Ushtaraket'!H18+'Aneksi 2.0 Emergjencat Civile'!H18 -> 0 | J27: =I27/I41*100 -> 0 | K27: =I27-G27 -> 0 | L27: ='Aneksi 2.0 Planif'!K18+'Aneksi 2.0 Forcat e Luftimit'!K18+'Aneksi 2.0 MBSHT.LUFTIMIT'!K21+'Aneksi 2.0 Mbësht .Shëndetësinë'!K18+'Aneksi 2.0 Arsimi Ushtarak'!K18+'Aneksi 2.0 Mbeshtet. Ushtaraket'!K18+'Aneksi 2.0 Emergjencat Civile'!K18 -> 0 | M27: =L27/L41*100 -> 0 | N27: =I27-L27 -> 0 | O27: =L27/I27*100 -> #DIV/0!
B28: 604 | D28: Transferta Korente të Brendshme | E28: ='Aneksi 2.0 Planif'!D19+'Aneksi 2.0 Forcat e Luftimit'!D19+'Aneksi 2.0 MBSHT.LUFTIMIT'!D22+'Aneksi 2.0 Mbësht .Shëndetësinë'!D19+'Aneksi 2.0 Arsimi Ushtarak'!D19+'Aneksi 2.0 Mbeshtet. Ushtaraket'!D19+'Aneksi 2.0 Emergjencat Civile'!D19 -> 5.8190889e+09 | F28: =E28/E41*100 -> 14.715922 | G28: ='Aneksi 2.0 Planif'!F19+'Aneksi 2.0 Forcat e Luftimit'!F19+'Aneksi 2.0 MBSHT.LUFTIMIT'!F22+'Aneksi 2.0 Mbësht .Shëndetësinë'!F19+'Aneksi 2.0 Arsimi Ushtarak'!F19+'Aneksi 2.0 Mbeshtet. Ushtaraket'!F19+'Aneksi 2.0 Emergjencat Civile'!F19 -> 5700000000 | H28: =G28/G41*100 -> 9.6694474 | I28: ='Aneksi 2.0 Planif'!H19+'Aneksi 2.0 Forcat e Luftimit'!H19+'Aneksi 2.0 MBSHT.LUFTIMIT'!H22+'Aneksi 2.0 Mbësht .Shëndetësinë'!H19+'Aneksi 2.0 Arsimi Ushtarak'!H19+'Aneksi 2.0 Mbeshtet. Ushtaraket'!H19+'Aneksi 2.0 Emergjencat Civile'!H19 -> 5700000000 | J28: =I28/I41*100 -> 9.6694474 | K28: =I28-G28 -> 0 | L28: ='Aneksi 2.0 Planif'!K19+'Aneksi 2.0 Forcat e Luftimit'!K19+'Aneksi 2.0 MBSHT.LUFTIMIT'!K22+'Aneksi 2.0 Mbësht .Shëndetësinë'!K19+'Aneksi 2.0 Arsimi Ushtarak'!K19+'Aneksi 2.0 Mbeshtet. Ushtaraket'!K19+'Aneksi 2.0 Emergjencat Civile'!K19 -> 2008971865 | M28: =L28/L41*100 -> 15.517109 | N28: =I28-L28 -> 3691028135 | O28: =L28/I28*100 -> 35.24512
B29: 605 | D29: Transferta Korente të Huaja | E29: ='Aneksi 2.0 Planif'!D20+'Aneksi 2.0 Forcat e Luftimit'!D20+'Aneksi 2.0 MBSHT.LUFTIMIT'!D23+'Aneksi 2.0 Mbësht .Shëndetësinë'!D20+'Aneksi 2.0 Arsimi Ushtarak'!D20+'Aneksi 2.0 Mbeshtet. Ushtaraket'!D20+'Aneksi 2.0 Emergjencat Civile'!D20 -> 251389673 | F29: =E29/E41*100 -> 0.63574056 | G29: ='Aneksi 2.0 Planif'!F20+'Aneksi 2.0 Forcat e Luftimit'!F20+'Aneksi 2.0 MBSHT.LUFTIMIT'!F23+'Aneksi 2.0 Mbësht .Shëndetësinë'!F20+'Aneksi 2.0 Arsimi Ushtarak'!F20+'Aneksi 2.0 Mbeshtet. Ushtaraket'!F20+'Aneksi 2.0 Emergjencat Civile'!F20 -> 293424000 | H29: =G29/G41*100 -> 0.4977628 | I29: ='Aneksi 2.0 Planif'!H20+'Aneksi 2.0 Forcat e Luftimit'!H20+'Aneksi 2.0 MBSHT.LUFTIMIT'!H23+'Aneksi 2.0 Mbësht .Shëndetësinë'!H20+'Aneksi 2.0 Arsimi Ushtarak'!H20+'Aneksi 2.0 Mbeshtet. Ushtaraket'!H20+'Aneksi 2.0 Emergjencat Civile'!H20 -> 293424000 | J29: =I29/I41*100 -> 0.4977628 | K29: =I29-G29 -> 0 | L29: ='Aneksi 2.0 Planif'!K20+'Aneksi 2.0 Forcat e Luftimit'!K20+'Aneksi 2.0 MBSHT.LUFTIMIT'!K23+'Aneksi 2.0 Mbësht .Shëndetësinë'!K20+'Aneksi 2.0 Arsimi Ushtarak'!K20+'Aneksi 2.0 Mbeshtet. Ushtaraket'!K20+'Aneksi 2.0 Emergjencat Civile'!K20 -> 156610464 | M29: =L29/L41*100 -> 1.2096445 | N29: =I29-L29 -> 136813536 | O29: =L29/I29*100 -> 53.373434
B30: 606 | D30: Trans per Buxh. Fam. & Individ | E30: ='Aneksi 2.0 Planif'!D21+'Aneksi 2.0 Forcat e Luftimit'!D21+'Aneksi 2.0 MBSHT.LUFTIMIT'!D24+'Aneksi 2.0 Mbësht .Shëndetësinë'!D21+'Aneksi 2.0 Arsimi Ushtarak'!D21+'Aneksi 2.0 Mbeshtet. Ushtaraket'!D21+'Aneksi 2.0 Emergjencat Civile'!D21 -> 634933054 | F30: =E30/E41*100 -> 1.6056853 | G30: ='Aneksi 2.0 Planif'!F21+'Aneksi 2.0 Forcat e Luftimit'!F21+'Aneksi 2.0 MBSHT.LUFTIMIT'!F24+'Aneksi 2.0 Mbësht .Shëndetësinë'!F21+'Aneksi 2.0 Arsimi Ushtarak'!F21+'Aneksi 2.0 Mbeshtet. Ushtaraket'!F21+'Aneksi 2.0 Emergjencat Civile'!F21 -> 578685000 | H30: =G30/G41*100 -> 0.98167792 | I30: ='Aneksi 2.0 Planif'!H21+'Aneksi 2.0 Forcat e Luftimit'!H21+'Aneksi 2.0 MBSHT.LUFTIMIT'!H24+'Aneksi 2.0 Mbësht .Shëndetësinë'!H21+'Aneksi 2.0 Arsimi Ushtarak'!H21+'Aneksi 2.0 Mbeshtet. Ushtaraket'!H21+'Aneksi 2.0 Emergjencat Civile'!H21 -> 578685000 | J30: =I30/I41*100 -> 0.98167792 | K30: =I30-G30 -> 0 | L30: ='Aneksi 2.0 Planif'!K21+'Aneksi 2.0 Forcat e Luftimit'!K21+'Aneksi 2.0 MBSHT.LUFTIMIT'!K24+'Aneksi 2.0 Mbësht .Shëndetësinë'!K21+'Aneksi 2.0 Arsimi Ushtarak'!K21+'Aneksi 2.0 Mbeshtet. Ushtaraket'!K21+'Aneksi 2.0 Emergjencat Civile'!K21 -> 197338355 | M30: =L30/L41*100 -> 1.5242228 | N30: =I30-L30 -> 381346645 | O30: =L30/I30*100 -> 34.10117
D31: Nen-Totali Shpenzime Korrente | E31: =SUM(E24:E30) -> 2.7252106e+10 | F31: =E31/E41*100 -> 68.917983 | G31: =SUM(G24:G30) -> 29052510000 | H31: =G31/G41*100 -> 49.284512 | I31: =SUM(I24:I30) -> 29052510000 | J31: =I31/I41*100 -> 49.284512 | K31: =SUM(K24:K30) -> 0 | L31: =SUM(L24:L30) -> 9063858088 | M31: =L31/L41*100 -> 70.008385 | N31: =SUM(N24:N30) -> 19988651912 | O31: =L31/I31*100 -> 31.198193
B32: 230 | D32: Kapitale të Patrupëzuara | E32: 1.4002212e+08 | F32: 0 | H32: 0 | J32: 0 | K32: =I32-G32 -> 0 | M32: 0 | N32: =I32-L32 -> 0 | O32: =L32/I32*100 -> #DIV/0!
B33: 231 | D33: Kapitale të Trupëzuara | E33: 1.215068e+10 | F33: =E33/E41 -> 0.30727914 | G33: ='Aneksi 2.0 Planif'!F24+'Aneksi 2.0 Forcat e Luftimit'!F24+'Aneksi 2.0 MBSHT.LUFTIMIT'!F27+'Aneksi 2.0 Mbësht .Shëndetësinë'!F24+'Aneksi 2.0 Arsimi Ushtarak'!F24+'Aneksi 2.0 Mbeshtet. Ushtaraket'!F24+'Aneksi 2.0 Emergjencat Civile'!F24 -> 16884000000 | H33: =G33/G41 -> 0.28641921 | I33: ='Aneksi 2.0 Planif'!H24+'Aneksi 2.0 Forcat e Luftimit'!H24+'Aneksi 2.0 MBSHT.LUFTIMIT'!H27+'Aneksi 2.0 Mbësht .Shëndetësinë'!H24+'Aneksi 2.0 Arsimi Ushtarak'!H24+'Aneksi 2.0 Mbeshtet. Ushtaraket'!H24+'Aneksi 2.0 Emergjencat Civile'!H24 -> 16884000000 | J33: =I33/I41 -> 0.28641921 | K33: =I33-G33 -> 0 | L33: ='Aneksi 2.0 Planif'!K24+'Aneksi 2.0 Forcat e Luftimit'!K24+'Aneksi 2.0 MBSHT.LUFTIMIT'!K27+'Aneksi 2.0 Mbësht .Shëndetësinë'!K24+'Aneksi 2.0 Arsimi Ushtarak'!K24+'Aneksi 2.0 Mbeshtet. Ushtaraket'!K24+'Aneksi 2.0 Emergjencat Civile'!K24 -> 3865693875 | M33: =L33/L41 -> 0.29858255 | N33: =I33-L33 -> 13018306125 | O33: =L33/I33*100 -> 22.895605
D34: Nen-Totali Shpenzime Kapitale me financim te brendshem | E34: =E32+E33 -> 1.2290703e+10 | F34: =E34/E41*100 -> 31.082017 | G34: =G32+G33 -> 16884000000 | H34: =G34/G41*100 -> 28.641921 | I34: =I32+I33 -> 16884000000 | J34: =I34/I41*100 -> 28.641921 | K34: =K32+K33 -> 0 | L34: =L32+L33 -> 3865693875 | M34: =L34/L41*100 -> 29.858255 | N34: =N32+N33 -> 13018306125 | O34: =L34/I34*100 -> 22.895605
B35: 230 | D35: Kapitale të Patrupëzuara | E35: ='Aneksi 2.0 Planif'!D26+'Aneksi 2.0 Forcat e Luftimit'!D26+'Aneksi 2.0 MBSHT.LUFTIMIT'!D32 -> 0 | F35: 0 | G35: 0 | H35: 0 | J35: 0 | K35: =I35-G35 -> 0 | M35: 0 | N35: =I35-L35 -> 0 | O35: =L35/I35*100 -> #DIV/0!
B36: 231 | D36: Kapitale të Trupëzuara | F36: 0.4 | G36: ='Aneksi 2.0 Planif'!F27+'Aneksi 2.0 Forcat e Luftimit'!F27+'Aneksi 2.0 MBSHT.LUFTIMIT'!F30+'Aneksi 2.0 Mbësht .Shëndetësinë'!F27+'Aneksi 2.0 Arsimi Ushtarak'!F27+'Aneksi 2.0 Mbeshtet. Ushtaraket'!F27+'Aneksi 2.0 Emergjencat Civile'!F27 -> 13012050000 | H36: 0 | I36: ='Aneksi 2.0 Planif'!H27+'Aneksi 2.0 Forcat e Luftimit'!H27+'Aneksi 2.0 MBSHT.LUFTIMIT'!H30+'Aneksi 2.0 Mbësht .Shëndetësinë'!H27+'Aneksi 2.0 Arsimi Ushtarak'!H27+'Aneksi 2.0 Mbeshtet. Ushtaraket'!H27+'Aneksi 2.0 Emergjencat Civile'!H27 -> 13012050000 | J36: 0.4 | K36: =I36-G36 -> 0 | L36: ='Aneksi 2.0 Planif'!K27+'Aneksi 2.0 Forcat e Luftimit'!K27+'Aneksi 2.0 MBSHT.LUFTIMIT'!K30+'Aneksi 2.0 Mbësht .Shëndetësinë'!K27+'Aneksi 2.0 Arsimi Ushtarak'!K27+'Aneksi 2.0 Mbeshtet. Ushtaraket'!K27+'Aneksi 2.0 Emergjencat Civile'!K27 -> 17265921 | M36: 0.4 | N36: =I36-L36 -> 12994784079 | O36: =L36/I36*100 -> 0.13269178
D37: Nen-Totali Shpenzime Kapitale me financim te huaj | F37: 0.4 | G37: =SUM(G35:G36) -> 13012050000 | H37: =G37/G41*100 -> 22.073567 | I37: =SUM(I35:I36) -> 13012050000 | J37: 0.4 | L37: =SUM(L35:L36) -> 17265921 | M37: 0.4 | N37: =SUM(N35:N36) -> 12994784079 | O37: =L37/I37*100 -> 0.13269178
D38: Totali Shpenzime Kapitale | E38: =E34 -> 1.2290703e+10 | F38: =F34 -> 31.082017 | G38: =G34+G37 -> 29896050000 | H38: =H34+H37 -> 50.715488 | I38: =I34+I37 -> 29896050000 | J38: =J34 -> 28.641921 | K38: =K34+K37 -> 0 | L38: =L34+L37 -> 3882959796 | M38: =M34 -> 29.858255 | N38: =N34+N37 -> 26013090204 | O38: =L38/I38*100 -> 12.988203
D39: Totali i Shpenz. Buxhetore te Ministrise/Institucionit Buxhetor | E39: =E31+E38 -> 3.9542809e+10 | F39: =F31+F38 -> 100 | H39: =H31+H38 -> 100 | I39: =I31+I38 -> 58948560000 | J39: =J31+J38 -> 77.926433 | K39: =K31+K38 -> 0 | L39: =L31+L38 -> 12946817884 | M39: =M31+M38 -> 99.86664 | N39: =N31+N38 -> 46001742116 | O39: =L39/I39*100 -> 21.962908
D40: Shpenzime nga te Ardhurat Jashte limitit (Kap 06) | E40: 202276000 | G40: 203056246 | I40: =G40 -> 203056246 | L40: 4574427 | N40: =I40-L40 -> 198481819 | O40: =L40/I40*100 -> 2.2527881
D41: Totali (Korrente + Kapitale +me finacim te bendshem +finacimi I huaj) | E41: =E31+E34 -> 3.9542809e+10 | F41: =F31+F38 -> 100 | G41: =G31+G38 -> 58948560000 | H41: =H31+H34+H37 -> 100 | I41: =I31+I34+I37 -> 58948560000 | J41: =J31+J34 -> 77.926433 | K41: =K31+K34+K37 -> 0 | L41: =L31+L34+L37 -> 12946817884 | M41: =M31+M38 -> 99.86664 | N41: =N31+N34+N37 -> 46001742116 | O41: =L41/I41*100 -> 21.962908
...

Sheet Aneksi 1.2
C2: Aneksi 1.2 "Shpenzimet Buxhetore në Total Programi dhe Total Ministrie/Institucioni Buxhetor"
C3: Periudha e Raportimit 04-2026
D4: në/lekë
C5: Kodi i Ministris | D5: Kodi i Programi | E5: Emërtimi i Programit | F5: Viti | G5: Tipi i Buxhetit | H5: Art. 231 HUAJ | I5: Art. 231 | J5: Art. 600 | K5: Art. 601 | L5: Art. 602 | M5: Art. 603 | N5: Art. 604 | O5: Art. 605 | P5: Art. 606 | Q5: Total
C6: 17 | D6: 01110 | E6: Planifikimi, Menaxhimi dhe Administrimi | F6: 2026 | G6: Plani fillestar | I6: ='Aneksi 2.0 Planif'!F25 -> 80000000 | J6: ='Aneksi 2.0 Planif'!F15 -> 612980000 | K6: ='Aneksi 2.0 Planif'!F16 -> 114900000 | L6: ='Aneksi 2.0 Planif'!F17 -> 399896000 | M6: ='Aneksi 2.0 Planif'!F18 -> 0 | N6: ='Aneksi 2.0 Planif'!F19 -> 0 | O6: ='Aneksi 2.0 Planif'!F20 -> 275424000 | P6: ='Aneksi 2.0 Planif'!F21 -> 33000000 | Q6: =SUM(H6:P6) -> 1516200000
C7: 17 | D7: 01110 | E7: Planifikimi, Menaxhimi dhe Administrimi | F7: 2026 | G7: Plani i rishikuar | I7: ='Aneksi 2.0 Planif'!H25 -> 80000000 | J7: ='Aneksi 2.0 Planif'!H15 -> 612980000 | K7: ='Aneksi 2.0 Planif'!H16 -> 114900000 | L7: ='Aneksi 2.0 Planif'!H17 -> 399896000 | M7: ='Aneksi 2.0 Planif'!H18 -> 0 | N7: ='Aneksi 2.0 Planif'!H19 -> 0 | O7: ='Aneksi 2.0 Planif'!H20 -> 275424000 | P7: ='Aneksi 2.0 Planif'!H21 -> 33000000 | Q7: =SUM(H7:P7) -> 1516200000
C8: 17 | D8: 01110 | E8: Planifikimi, Menaxhimi dhe Administrimi | F8: 2026 | G8: Shpenzime faktike | J8: ='Aneksi 2.0 Planif'!K15 -> 170597674 | K8: ='Aneksi 2.0 Planif'!K16 -> 34485603 | L8: ='Aneksi 2.0 Planif'!K17 -> 207346272 | O8: ='Aneksi 2.0 Planif'!K20 -> 146500000 | P8: ='Aneksi 2.0 Planif'!K21 -> 8871905 | Q8: =SUM(H8:P8) -> 567801454
C9: 17 | D9: 01110 | E9: Planifikimi, Menaxhimi dhe Administrimi | F9: 2026 | G9: Angazhime | Q9: =SUM(H9:P9) -> 0
C10: 17 | E10: Ndryshimi ne vlere absolute | F10: 2026 | Q10: =SUM(H10:P10) -> 0
C11: 17 | E11: Realizimi ne % | F11: 2026 | I11: =I8/I7*100 -> 0 | J11: =J8/J7*100 -> 27.830871 | K11: =K8/K7*100 -> 30.01358 | L11: =L8/L7*100 -> 51.850049 | O11: =O8/O7*100 -> 53.190717 | P11: =P8/P7*100 -> 26.884561 | Q11: =Q8/Q7*100 -> 37.448981
C12: 17 | E12: Te ardhura jashte limiti | F12: 2026 | G12: Shpenzime faktike | Q12: =SUM(H12:P12) -> 0
C13: 17 | D13: 02120 | E13: Forcat e Luftimit | F13: 2026 | G13: Plani fillestar | H13: ='Aneksi 2.0 Forcat e Luftimit'!F28 -> 11000000000 | I13: ='Aneksi 2.0 Forcat e Luftimit'!F25 -> 10661500000 | J13: ='Aneksi 2.0 Forcat e Luftimit'!F15 -> 4974568000 | K13: ='Aneksi 2.0 Forcat e Luftimit'!F16 -> 892730000 | L13: ='Aneksi 2.0 Forcat e Luftimit'!F17 -> 3823076000 | P13: ='Aneksi 2.0 Forcat e Luftimit'!F21 -> 40000000 | Q13: =SUM(H13:P13) -> 31391874000
C14: 17 | D14: 02120 | E14: Forcat e Luftimit | F14: 2026 | G14: Plani i rishikuar | H14: ='Aneksi 2.0 Forcat e Luftimit'!H28 -> 11000000000 | I14: ='Aneksi 2.0 Forcat e Luftimit'!H25 -> 10661500000 | J14: ='Aneksi 2.0 Forcat e Luftimit'!H15 -> 4974568000 | K14: ='Aneksi 2.0 Forcat e Luftimit'!H16 -> 892730000 | L14: ='Aneksi 2.0 Forcat e Luftimit'!H17 -> 3823076000 | P14: ='Aneksi 2.0 Forcat e Luftimit'!H21 -> 40000000 | Q14: =SUM(H14:P14) -> 31391874000
C15: 17 | D15: 02120 | E15: Forcat e Luftimit | F15: 2026 | G15: Shpenzime faktike | H15: ='Aneksi 2.0 Forcat e Luftimit'!K28 -> 0 | I15: ='Aneksi 2.0 Forcat e Luftimit'!K25 -> 3794642711 | J15: ='Aneksi 2.0 Forcat e Luftimit'!K15 -> 1756549523 | K15: ='Aneksi 2.0 Forcat e Luftimit'!K16 -> 294310477 | L15: ='Aneksi 2.0 Forcat e Luftimit'!K17 -> 1165695022 | P15: ='Aneksi 2.0 Forcat e Luftimit'!K21 -> 15106500 | Q15: =SUM(H15:P15) -> 7026304233
C16: 17 | D16: 02120 | E16: Forcat e Luftimit | F16: 2026 | G16: Angazhime | Q16: =SUM(H16:P16) -> 0
C17: 17 | E17: Ndryshimi ne vlere absolute | F17: 2026 | Q17: =SUM(H17:P17) -> 0
C18: 17 | E18: Realizimi ne % | F18: 2026 | H18: =H15/H14*100 -> 0 | I18: =I15/I14*100 -> 35.592015 | J18: =J15/J14*100 -> 35.310594 | K18: =K15/K14*100 -> 32.967468 | L18: =L15/L14*100 -> 30.491024 | M18: 0 | N18: 0 | O18: 0 | P18: =P15/P14*100 -> 37.76625 | Q18: =Q15/Q14*100 -> 22.382557
C19: 17 | D19: 02150 | E19: Mbështetja e Luftimit | F19: 2026 | G19: Plani fillestar | I19: ='Aneksi 2.0 MBSHT.LUFTIMIT'!F28 -> 2265500000 | J19: ='Aneksi 2.0 MBSHT.LUFTIMIT'!F18 -> 3941500000 | K19: ='Aneksi 2.0 MBSHT.LUFTIMIT'!F19 -> 641300000 | L19: ='Aneksi 2.0 MBSHT.LUFTIMIT'!F20 -> 3944551000 | P19: ='Aneksi 2.0 MBSHT.LUFTIMIT'!F24 -> 363685000 | Q19: =SUM(H19:P19) -> 11156536000
C20: 17 | D20: 02150 | E20: Mbështetja e Luftimit | F20: 2026 | G20: Plani i rishikuar | I20: ='Aneksi 2.0 MBSHT.LUFTIMIT'!H28 -> 2265500000 | J20: ='Aneksi 2.0 MBSHT.LUFTIMIT'!H18 -> 3941500000 | K20: ='Aneksi 2.0 MBSHT.LUFTIMIT'!H19 -> 641300000 | L20: ='Aneksi 2.0 MBSHT.LUFTIMIT'!H20 -> 3944551000 | P20: ='Aneksi 2.0 MBSHT.LUFTIMIT'!H24 -> 363685000 | Q20: =SUM(H20:P20) -> 11156536000
C21: 17 | D21: 02150 | E21: Mbështetja e Luftimit | F21: 2026 | G21: Shpenzime faktike | I21: ='Aneksi 2.0 MBSHT.LUFTIMIT'!K28 -> 37980094 | J21: ='Aneksi 2.0 MBSHT.LUFTIMIT'!K18 -> 1339938913 | K21: ='Aneksi 2.0 MBSHT.LUFTIMIT'!K19 -> 226770233 | L21: ='Aneksi 2.0 MBSHT.LUFTIMIT'!K20 -> 810831620 | P21: ='Aneksi 2.0 MBSHT.LUFTIMIT'!K24 -> 87900699 | Q21: =SUM(H21:P21) -> 2503421559
C22: 17 | D22: 02150 | E22: Mbështetja e Luftimit | F22: 2026 | G22: Angazhime | Q22: =SUM(H22:P22) -> 0
C23: 17 | E23: Ndryshimi ne vlere absolute | F23: 2026 | Q23: =SUM(H23:P23) -> 0
C24: 17 | E24: Realizimi ne % | F24: 2026 | I24: =I21/I20*100 -> 1.6764553 | J24: =J21/J20*100 -> 33.995659 | K24: =K21/K20*100 -> 35.361022 | L24: =L21/L20*100 -> 20.555739 | P24: =P21/P20*100 -> 24.16946 | Q24: =Q21/Q20*100 -> 22.439058
C25: 17 | D25: 07340 | E25: Mbështetja për Shëndetësinë | F25: 2026 | G25: Plani fillestar | I25: ='Aneksi 2.0 Mbësht .Shëndetësinë'!F25 -> 500000000 | J25: ='Aneksi 2.0 Mbësht .Shëndetësinë'!F15 -> 715336000 | K25: ='Aneksi 2.0 Mbësht .Shëndetësinë'!F16 -> 119300000 | L25: ='Aneksi 2.0 Mbësht .Shëndetësinë'!F17 -> 798164000 | P25: ='Aneksi 2.0 Mbësht .Shëndetësinë'!F21 -> 2000000 | Q25: =SUM(H25:P25) -> 2134800000
C26: 17 | D26: 07340 | E26: Mbështetja për Shëndetësinë | F26: 2026 | G26: Plani i rishikuar | I26: ='Aneksi 2.0 Mbësht .Shëndetësinë'!H25 -> 500000000 | J26: ='Aneksi 2.0 Mbësht .Shëndetësinë'!H15 -> 715336000 | K26: ='Aneksi 2.0 Mbësht .Shëndetësinë'!H16 -> 119300000 | L26: ='Aneksi 2.0 Mbësht .Shëndetësinë'!H17 -> 798164000 | P26: ='Aneksi 2.0 Mbësht .Shëndetësinë'!H21 -> 2000000 | Q26: =SUM(H26:P26) -> 2134800000
C27: 17 | D27: 07340 | E27: Mbështetja për Shëndetësinë | F27: 2026 | G27: Shpenzime faktike | I27: ='Aneksi 2.0 Mbësht .Shëndetësinë'!K25 -> 2456160 | J27: ='Aneksi 2.0 Mbësht .Shëndetësinë'!K15 -> 246002787 | K27: ='Aneksi 2.0 Mbësht .Shëndetësinë'!K16 -> 40384161 | L27: ='Aneksi 2.0 Mbësht .Shëndetësinë'!K17 -> 164866449 | P27: ='Aneksi 2.0 Mbësht .Shëndetësinë'!K21 -> 789646 | Q27: =SUM(H27:P27) -> 454499203
C28: 17 | D28: 07340 | E28: Mbështetja për Shëndetësinë | F28: 2026 | G28: Angazhime | Q28: =SUM(H28:P28) -> 0
C29: 17 | E29: Ndryshimi ne vlere absolute | F29: 2026 | Q29: =SUM(H29:P29) -> 0
C30: 17 | E30: Realizimi ne % | F30: 2026 | I30: =I27/I26*100 -> 0.491232 | J30: =J27/J26*100 -> 34.389823 | K30: =K27/K26*100 -> 33.850931 | L30: =L27/L26*100 -> 20.655711 | P30: =P27/P26*100 -> 39.4823 | Q30: =Q27/Q26*100 -> 21.290013
C31: 17 | E31: Te ardhura jashte limiti | F31: 2026 | G31: Shpenzime faktike | Q31: =SUM(H31:P31) -> 0
C32: 17 | D32: 09430 | E32: Arsimi Ushtarak | F32: 2026 | G32: Plani fillestar | I32: ='Aneksi 2.0 Arsimi Ushtarak'!F25 -> 857000000 | J32: ='Aneksi 2.0 Arsimi Ushtarak'!F15 -> 575300000 | K32: ='Aneksi 2.0 Arsimi Ushtarak'!F16 -> 104600000 | L32: ='Aneksi 2.0 Arsimi Ushtarak'!F17 -> 81000000 | M32: 0 | O32: 0 | P32: ='Aneksi 2.0 Arsimi Ushtarak'!F21 -> 140000000 | Q32: =SUM(H32:P32) -> 1757900000
C33: 17 | D33: 09430 | E33: Arsimi Ushtarak | F33: 2026 | G33: Plani i rishikuar | I33: ='Aneksi 2.0 Arsimi Ushtarak'!H25 -> 857000000 | J33: ='Aneksi 2.0 Arsimi Ushtarak'!H15 -> 575300000 | K33: ='Aneksi 2.0 Arsimi Ushtarak'!H16 -> 104600000 | L33: ='Aneksi 2.0 Arsimi Ushtarak'!F17 -> 81000000 | M33: 0 | O33: 0 | P33: ='Aneksi 2.0 Arsimi Ushtarak'!H21 -> 140000000 | Q33: =SUM(H33:P33) -> 1757900000
C34: 17 | D34: 09430 | E34: Arsimi Ushtarak | F34: 2026 | G34: Shpenzime faktike | I34: ='Aneksi 2.0 Arsimi Ushtarak'!K25 -> 12239476 | J34: ='Aneksi 2.0 Arsimi Ushtarak'!K15 -> 106092440 | K34: ='Aneksi 2.0 Arsimi Ushtarak'!K16 -> 31861869 | L34: ='Aneksi 2.0 Arsimi Ushtarak'!K17 -> 14003159 | M34: 0 | O34: 0 | P34: ='Aneksi 2.0 Arsimi Ushtarak'!K21 -> 84669605 | Q34: =SUM(H34:P34) -> 248866549
C35: 17 | D35: 09430 | E35: Arsimi Ushtarak | F35: 2026 | G35: Angazhime | Q35: =SUM(H35:P35) -> 0
C36: 17 | E36: Ndryshimi ne vlere absolute | F36: 2026 | Q36: =SUM(H36:P36) -> 0
C37: 17 | E37: Realizimi ne % | F37: 2026 | I37: =I34/I33*100 -> 1.4281769 | J37: =J34/J33*100 -> 18.441238 | K37: =K34/K33*100 -> 30.460678 | L37: =L34/L33*100 -> 17.287851 | P37: =P34/P33*100 -> 60.478289 | Q37: =Q34/Q33*100 -> 14.157037
C38: 17 | E38: Te ardhura jashte limiti | F38: 2026 | G38: Shpenzime faktike | Q38: =SUM(H38:P38) -> 0
C39: 17 | D39: 10270 | E39: Mbështetje për Ushtarakët | F39: 2026 | G39: Plani fillestar | N39: ='Aneksi 2.0 Mbeshtet. Ushtaraket'!F19 -> 5200000000 | Q39: =SUM(H39:P39) -> 5200000000
C40: 17 | D40: 10270 | E40: Mbështetje për Ushtarakët | F40: 2026 | G40: Plani i rishikuar | N40: ='Aneksi 2.0 Mbeshtet. Ushtaraket'!H19 -> 5200000000 | Q40: =SUM(H40:P40) -> 5200000000
C41: 17 | D41: 10270 | E41: Mbështetje për Ushtarakët | F41: 2026 | G41: Shpenzime faktike | N41: ='Aneksi 2.0 Mbeshtet. Ushtaraket'!K19 -> 2000000000 | Q41: =SUM(H41:P41) -> 2000000000
...

Sheet Aneksi nr.1.1
C2: ANEKSI 1.1 Raporti i Shpenzimeve të Ministrisë/Institucionit sipas kapitujve
C3: Periudha e Raportimit 04-2026
C4: në lekë
C5: Kodi i Ministrisë | D5: Kodi i Kapitullit | E5: Emërtimi i Kapitullit | F5: Periudha raportuese | G5: Buxheti | H5: Artikujt buxhetore
H6: 230 | I6: 231 | J6: 600 | K6: 601 | L6: 602 | M6: 603 | N6: 604 | O6: 605 | P6: 606 | Q6: Total
F7: Periodike /Vjetore | H7: Shpenzime Kapitale të Patrupëzuara | I7: Shpenzime Kapitale të Trupëzuara | J7: Pagat | K7: Kontrib.e Sigurimeve Shoqërore | L7: Mallra dhe Shërbime | M7: Subveci- net | N7: Të Tjera Transfer.Korrente Brendshme | O7: Transfer. Korrente të Huaja | P7: Transferta për Buxhetet Familiare dhe Individët | Q7: Total
C8: 17 | D8: 01 | E8: Nga Buxheti | F8: 2026 | G8: Plani fillestar | I8: ='Aneksi nr.1'!G33 -> 16884000000 | J8: ='Aneksi nr.1'!G24 -> 11081484000 | K8: ='Aneksi nr.1'!G25 -> 1911230000 | L8: ='Aneksi nr.1'!G26 -> 9487687000 | M8: ='Aneksi nr.1'!G27 -> 0 | N8: ='Aneksi nr.1'!G28 -> 5700000000 | O8: ='Aneksi nr.1'!G29 -> 293424000 | P8: ='Aneksi nr.1'!G30 -> 578685000 | Q8: =SUM(H8:P8) -> 45936510000
C9: 17 | D9: 01 | E9: Nga Buxheti | F9: 2026 | G9: Plani i rishikuar | H9: 0 | I9: ='Aneksi nr.1'!I33 -> 16884000000 | J9: ='Aneksi nr.1'!I24 -> 11081484000 | K9: ='Aneksi nr.1'!I25 -> 1911230000 | L9: ='Aneksi nr.1'!I26 -> 9487687000 | M9: ='Aneksi nr.1'!I27 -> 0 | N9: ='Aneksi nr.1'!I28 -> 5700000000 | O9: ='Aneksi nr.1'!I29 -> 293424000 | P9: ='Aneksi nr.1'!I30 -> 578685000 | Q9: =SUM(H9:P9) -> 45936510000
C10: 17 | D10: 01 | E10: Nga Buxheti | F10: 2026 | G10: Fakti | H10: 0 | I10: ='Aneksi nr.1'!L34+'Aneksi 2.0 Emergjencat Civile'!K27 -> 3882959796 | J10: ='Aneksi nr.1'!L24 -> 3688379194 | K10: ='Aneksi nr.1'!L25 -> 639270024 | L10: ='Aneksi nr.1'!L26 -> 2373288186 | M10: ='Aneksi nr.1'!L27 -> 0 | N10: ='Aneksi nr.1'!L28 -> 2008971865 | O10: ='Aneksi nr.1'!L29 -> 156610464 | P10: ='Aneksi nr.1'!L30 -> 197338355 | Q10: =SUM(H10:P10) -> 12946817884
C11: 17 | D11: 01 | E11: Nga Buxheti | F11: 2026 | G11: Angazhime | Q11: =SUM(H11:P11) -> 0
C12: 17 | D12: 02 | E12: Financim i huaj - Grant | F12: 2026 | G12: Plani fillestar | I12: ='Aneksi nr.1'!G37 -> 13012050000 | Q12: =SUM(H12:P12) -> 13012050000
C13: 17 | D13: 02 | E13: Financim i huaj - Grant | F13: 2026 | G13: Plani i rishikuar | I13: ='Aneksi nr.1'!I37 -> 13012050000 | Q13: =SUM(H13:P13) -> 13012050000
C14: 17 | D14: 02 | E14: Financim i huaj - Grant | F14: 2026 | G14: Fakti | H14: 0 | Q14: =SUM(H14:P14) -> 0
C15: 17 | D15: 02 | E15: Financim i huaj - Grant | F15: 2026 | G15: Angazhime | Q15: =SUM(H15:P15) -> 0
C16: 17 | D16: 04 | E16: TVSH, Detyrim Doganor | F16: 2026 | G16: Plani fillestar | Q16: =SUM(H16:P16) -> 0
C17: 17 | D17: 04 | E17: TVSH, Detyrim Doganor | F17: 2026 | G17: Plani i rishikuar | Q17: =SUM(H17:P17) -> 0
C18: 17 | D18: 04 | E18: TVSH, Detyrim Doganor | F18: 2026 | G18: Fakti | H18: 0 | I18: 0 | J18: 0 | K18: 0 | L18: 0 | M18: 0 | N18: 0 | O18: 0 | P18: 0 | Q18: =SUM(H18:P18) -> 0
C19: 17 | D19: 04 | E19: TVSH, Detyrim Doganor | F19: 2026 | G19: Angazhime | H19: 0 | I19: 0 | J19: 0 | K19: 0 | L19: 0 | M19: 0 | N19: 0 | O19: 0 | P19: 0 | Q19: =SUM(H19:P19) -> 0
C20: 17 | E20: Total | F20: 2026 | G20: Plani fillestar | I20: =I8+I12 -> 29896050000 | J20: =J8 -> 11081484000 | K20: =K8 -> 1911230000 | L20: =L8 -> 9487687000 | M20: =M8 -> 0 | N20: =N8 -> 5700000000 | O20: =O8 -> 293424000 | P20: =P8 -> 578685000 | Q20: =SUM(H20:P20) -> 58948560000
C21: 17 | E21: Total | F21: 2026 | G21: Plani i rishikuar | H21: =H9 -> 0 | I21: =I9+I13 -> 29896050000 | J21: =J9 -> 11081484000 | K21: =K9 -> 1911230000 | L21: =L9 -> 9487687000 | M21: =M9 -> 0 | N21: =N9 -> 5700000000 | O21: =O9 -> 293424000 | P21: =P9 -> 578685000 | Q21: =SUM(H21:P21) -> 58948560000
C22: 17 | E22: Total | F22: 2026 | G22: Fakti | H22: =H10 -> 0 | I22: =I10 -> 3882959796 | J22: =J10 -> 3688379194 | K22: =K10 -> 639270024 | L22: =L10 -> 2373288186 | M22: =M10 -> 0 | N22: =N10 -> 2008971865 | O22: =O10 -> 156610464 | P22: =P10 -> 197338355 | Q22: =SUM(H22:P22) -> 12946817884
C23: 17 | E23: Total | F23: 2026 | G23: Angazhime | H23: =H11+H15+H19 -> 0 | I23: =I11+I15+I19 -> 0 | J23: =J11+J15+J19 -> 0 | K23: =K11+K15+K19 -> 0 | L23: =L11+L15+L19 -> 0 | M23: =M11+M15+M19 -> 0 | N23: =N11+N15+N19 -> 0 | O23: =O11+O15+O19 -> 0 | P23: =P11+P15+P19 -> 0 | Q23: =SUM(H23:P23) -> 0
C24: 17 | E24: Ndryshimi ne vlere absolute | H24: =H21-H22 -> 0 | I24: =I21-I22 -> 26013090204 | J24: =J21-J22 -> 7393104806 | K24: =K21-K22 -> 1271959976 | L24: =L21-L22 -> 7114398814 | M24: =M21-M22 -> 0 | N24: =N21-N22 -> 3691028135 | O24: =O21-O22 -> 136813536 | ... Q24: =Q21-Q22 -> 46001742116
C25: 17 | E25: Realizimi ne % | F25: 2026 | I25: =I22/I21*100 -> 12.988203 | J25: =J22/J21*100 -> 33.284163 | K25: =K22/K21*100 -> 33.448095 | L25: =L22/L21*100 -> 25.014402 | M25: 0 | N25: =N22/N21*100 -> 35.24512 | O25: =O22/O21*100 -> 53.373434 | P25: =P22/P21*100 -> 34.10117 | Q25: =Q22/Q21*100 -> 21.962908
C26: 17 | D26: 06 | E26: Nga të ardhurat jashtë limitit | F26: 2026 | G26: Fakti | H26: 0 | I26: 1.5979845e+08 | J26: 4695039 | L26: 38562762 | Q26: =SUM(H26:P26) -> 2.0305625e+08

Sheet Sheet4
D4: Plan | F4: fakt
C5: Emërtimi Iprogarmit | D5: Numri I punonjesve ne plan | F5: Numri I punonjesve ne plan | H5: NDYSHIMI I NUMRI TEW PUNONJWSVE (PLAN -FAKT)
D6: Nr. | E6: % | F6: Nr. | G6: % | H6: Nr. | I6: %
C7: Planifikimi, Menaxhimi dhe Administrimi | D7: 398 | E7: =D7/D13*100 -> 4.4449408 | F7: 333 | G7: =F7/F13*100 -> 3.9227235 | H7: =D7-F7 -> 65 | I7: =H7/H13*100 -> 13.978495
C8: Forcat e Luftimit | D8: 4255 | E8: =D8/D13*100 -> 47.520661 | F8: 4106 | G8: =F8/F13*100 -> 48.368477 | H8: =D8-F8 -> 149 | I8: =H8/H13*100 -> 32.043011
C9: Mbështetja e Luftimit | D9: 3249 | E9: =D9/D13*100 -> 36.285459 | F9: 3066 | G9: =F9/F13*100 -> 36.117328 | H9: =D9-F9 -> 183 | I9: =H9/H13*100 -> 39.354839
C10: Arsimi Ushtarak | D10: 375 | E10: =D10/D13*100 -> 4.1880724 | F10: 343 | G10: =F10/F13*100 -> 4.040523 | H10: =D10-F10 -> 32 | I10: =H10/H13*100 -> 6.8817204
C11: Mbështetja për Shëndetësinë | D11: 481 | E11: =D11/D13*100 -> 5.3719008 | F11: 468 | G11: =F11/F13*100 -> 5.5130168 | H11: =D11-F11 -> 13 | I11: =H11/H13*100 -> 2.7956989
C12: Emergjencat Civile | D12: 196 | E12: =D12/D13*100 -> 2.1889658 | F12: 173 | G12: =F12/F13*100 -> 2.0379314 | H12: =D12-F12 -> 23 | I12: =H12/H13*100 -> 4.9462366
C13: TOTALI MM | D13: =SUM(D7:D12) -> 8954 | E13: =SUM(E7:E12) -> 100 | F13: =SUM(F7:F12) -> 8489 | G13: =SUM(G7:G12) -> 100 | H13: =D13-F13 -> 465 | I13: =SUM(I7:I12) -> 100

Sheet Aneksi 2.0 Planif
B2: ANEKSI nr. 2 Raporti mbi Ekzekutimin e Buxhetit në nivelin e Programit të Buxhetit
B3: Periudha e Raportimit 4-2026
B4: në/lekë
B6: Emri i Grupit | C6: Ministria e Mbrojtjes | F6: Kodi i grupit | H6: 17
B8: Emri i | C8: Planifikimi, Menaxhimi dhe Administrimi | F8: Kodi i programit | H8: 01110
B9: EMËRTIME | D9: Shpenzimet e Programit
D10: Viti paraardhës | E10: 2025 | F10: Periudha raportuese | H10: Periudha raportuese | J10: Periudha raportuese | K10: Periudha raportuese | M10: Ndryshimi Vjetor ( Plan - Fakt) | N10: % e realizimit
D11: Shpenzime Faktike | E11: Struktura e shpenzimeve në % | F11: Plani Fillestar Vjetor Viti 2026 | G11: Struktura e shpenzimeve në % | H11: Plani Vjetor i Rishikuar Viti 2026 | I11: Struktura e shpenzimeve në % | J11: Ndryshimi i planit vjetor | K11: Shpenzime Faktike të Periudhës/Progresive | L11: Struktura e shpenzimeve në %
D12: (1) | E12: (2) | F12: (3) | G12: (4) | H12: (5) | I12: (6) | J12: 7 (5-3) | K12: (8) | L12: (9) | M12: 10 (5-8) | N12: 11 ( 8/5)
B13: Shpenzimet sipas klasifikimit ekonomik
B14: Kodi i Programit | C14: Emërtimi
B15: 600 | C15: Paga | D15: 665077065 | E15: =D15/D22*100 -> 42.116164 | F15: 612980000 | G15: =F15/F22*100 -> 42.680685 | H15: 612980000 | I15: =H15/H22*100 -> 42.680685 | J15: =H15-F15 -> 0 | K15: 170597674 | L15: =K15/K22*100 -> 30.045304 | M15: =H15-K15 -> 442382326 | N15: =K15/H15*100 -> 27.830871
B16: 601 | C16: Sigurime Shoqërore | D16: 107335094 | E16: =D16/D22*100 -> 6.7970205 | F16: 114900000 | G16: =F16/F22*100 -> 8.0002785 | H16: 114900000 | I16: =H16/H22*100 -> 8.0002785 | J16: =H16-F16 -> 0 | K16: 34485603 | L16: =K16/K22*100 -> 6.073532 | M16: =H16-K16 -> 80414397 | N16: =K16/H16*100 -> 30.01358
B17: 602 | C17: Mallra dhe Shërbime të Tjera | D17: 521568122 | E17: =D17/D22*100 -> 33.028426 | F17: 399896000 | G17: =F17/F22*100 -> 27.844033 | H17: 399896000 | I17: =H17/H22*100 -> 27.844033 | J17: =H17-F17 -> 0 | K17: 207346272 | L17: =K17/K22*100 -> 36.51739 | M17: =H17-K17 -> 192549728 | N17: =K17/H17*100 -> 51.850049
B18: 603 | C18: Subvencione | D18: 0 | E18: =D18/D22*100 -> 0 | G18: =F18/F22*100 -> 0 | I18: =H18/H22*100 -> 0 | J18: =H18-F18 -> 0 | L18: =K18/K22*100 -> 0 | M18: =H18-K18 -> 0 | N18: 0
B19: 604 | C19: Transferta Korente të Brendshme | D19: 0 | E19: =D19/D22*100 -> 0 | G19: =F19/F22*100 -> 0 | I19: =H19/H22*100 -> 0 | J19: =H19-F19 -> 0 | L19: =K19/K22*100 -> 0 | M19: =H19-K19 -> 0 | N19: 0
B20: 605 | C20: Transferta Korente të Huaja | D20: 240411100 | E20: =D20/D22*100 -> 15.22409 | F20: 275424000 | G20: =F20/F22*100 -> 19.177273 | H20: 275424000 | I20: =H20/H22*100 -> 19.177273 | J20: =H20-F20 -> 0 | K20: 146500000 | L20: =K20/K22*100 -> 25.801272 | M20: =H20-K20 -> 128924000 | N20: =K20/H20*100 -> 53.190717
B21: 606 | C21: Trans per Buxh. Fam. & Individ | D21: 44757814 | E21: =D21/D22*100 -> 2.8342993 | F21: 33000000 | G21: =F21/F22*100 -> 2.2977301 | H21: 33000000 | I21: =H21/H22*100 -> 2.2977301 | J21: =H21-F21 -> 0 | K21: 8871905 | L21: =K21/K22*100 -> 1.5625013 | M21: =H21-K21 -> 24128095 | N21: =K21/H21*100 -> 26.884561
C22: Nëntotali Shpenzime Korente | D22: =SUM(D15:D21) -> 1579149195 | E22: =D22/D30*100 -> 95.31304 | F22: =SUM(F15:F21) -> 1436200000 | G22: =F22/F30*100 -> 94.723651 | H22: =SUM(H15:H21) -> 1436200000 | I22: =H22/H30*100 -> 94.723651 | J22: =SUM(J15:J21) -> 0 | K22: =SUM(K15:K21) -> 567801454 | L22: =K22/K30*100 -> 100 | M22: =SUM(M15:M21) -> 868398546 | N22: =K22/H22*100 -> 39.534985
B23: 230 | C23: Kapitale të Patrupëzuara | D23: 0 | E23: =D23/D25*100 -> 0 | F23: 0 | G23: =F23/F25*100 -> 0 | I23: =H23/H25*100 -> 0 | K23: 0 | L23: =K23/K25*100 -> #DIV/0! | M23: =H23-K23 -> 0 | N23: =M23/M30*100 -> 0
B24: 231 | C24: Kapitale të Trupëzuara | D24: 77653696 | E24: =D24/D25*100 -> 100 | F24: 80000000 | G24: =F24/F25*100 -> 100 | H24: 80000000 | I24: =H24/H25*100 -> 100 | J24: =H24-F24 -> 0 | L24: =K24/K25*100 -> #DIV/0! | M24: =H24-K24 -> 80000000 | N24: =M24/M30*100 -> 8.4352723
C25: Nëntotali Shpenzime Kapitale me financim të brendshëm | D25: =D23+D24 -> 77653696 | E25: =D25/D30*100 -> 4.6869604 | F25: =F23+F24 -> 80000000 | G25: =F25/F30*100 -> 5.2763488 | H25: =H23+H24 -> 80000000 | I25: =H25/H30*100 -> 5.2763488 | J25: =J23+J24 -> 0 | K25: =K23+K24 -> 0 | L25: =K25/K30*100 -> 0 | M25: =H25-K25 -> 80000000 | N25: =K25/H25*100 -> 0
B26: 230 | C26: Kapitale të Patrupëzuara | D26: 0 | E26: =D26/D29*100 -> 0 | F26: 0 | G26: =F26/F29*100 -> 0 | H26: 0 | I26: =H26/H29*100 -> 0 | J26: 0 | K26: 0 | L26: =K26/K29*100 -> #DIV/0! | M26: =H26-K26 -> 0 | N26: 0
B27: 231 | C27: Kapitale të Trupëzuara | D27: 0 | E27: =D27/D30*100 -> 0 | F27: 0 | G27: =F27/F30*100 -> 0 | H27: 0 | I27: =H27/H30*100 -> 0 | J27: =H27-F27 -> 0 | L27: =K27/K30*100 -> 0 | M27: =H27-K27 -> 0 | N27: 0
C28: Nëntotali Shpenzime Kapitale me financim të huaj | D28: 0 | F28: 0 | H28: =SUM(H26:H27) -> 0 | J28: =SUM(J26:J27) -> 0 | K28: =SUM(K26:K27) -> 0 | M28: =SUM(M26:M27) -> 0 | N28: 0
C29: Totali i Shpenzimeve Kapitale | D29: 77653696 | F29: =F25 -> 80000000 | H29: =H25 -> 80000000 | J29: =H29-F29 -> 0 | M29: =M25 -> 80000000 | N29: =N25 -> 0
C30: Totali i Shpenzimeve Buxhetore të Programit | D30: =D22+D25 -> 1656802891 | E30: =E22+E25 -> 100 | F30: =F22+F25 -> 1516200000 | G30: =G22+G25 -> 100 | H30: =H22+H29 -> 1516200000 | I30: =I22+I25 -> 100 | J30: =H30-F30 -> 0 | K30: =K22+K29 -> 567801454 | L30: =L22+L25 -> 100 | M30: =M22+M29 -> 948398546 | N30: =K30/H30*100 -> 37.448981
C31: Shpenzime Korente nga të Ardhurat Jashtë limitit (Kap 06) | D31: 0 | K31: 0
C32: Shpenzime Kapitale nga të Ardhurat Jashtë limitit (Kap 06) | D32: 0 | K32: 0
C33: Totali i Shpenzimeve të Programit | D33: 1656802891 | E33: 100 | F33: 1516200000 | G33: 100 | H33: 1516200000 | I33: 100 | J33: 0 | K33: 567801454 | L33: 100 | M33: 948398546 | N33: 37.448981
B34: Shpenzimet sipas produkteve të programit buxhetor

Sheet Aneksi 2.0 Forcat e Luftimit
B2: ANEKSI nr. 2 Raporti mbi Ekzekutimin e Buxhetit në nivelin e Programit të Buxhetit
B3: Periudha e Raportimit 04-2026
B4: në/lekë
B6: Emri i Grupit | C6: Ministria e Mbrojtjes | F6: Kodi i grupit | H6: 17
B8: Emri i | C8: Forcat e Luftimit | F8: Kodi i programit | H8: 02120
B9: EMËRTIME | D9: Shpenzimet e Programit
D10: Viti paraardhës | E10: 2025 | F10: Periudha raportuese | H10: Periudha raportuese | J10: Periudha raportuese | K10: Periudha raportuese | M10: Ndryshimi Vjetor ( Plan - Fakt) | N10: % e realizimit
D11: Shpenzime Faktike | E11: Struktura e shpenzimeve në % | F11: Plani Fillestar Vjetor Viti 2026 | G11: Struktura e shpenzimeve në % | H11: Plani Vjetor i Rishikuar Viti 2026 | I11: Struktura e shpenzimeve në % | J11: Ndryshimi i planit vjetor | K11: Shpenzime Faktike të Periudhës/Progresive | L11: Struktura e shpenzimeve në %
D12: (1) | E12: (2) | F12: (3) | G12: (4) | H12: (5) | I12: (6) | J12: 7 (5-3) | K12: (8) | L12: (9) | M12: 10 (5-8) | N12: 11 ( 8/5)
B13: Shpenzimet sipas klasifikimit ekonomik
B14: Kodi i Programit | C14: Emërtimi
B15: 600 | C15: Paga | D15: 4851623432 | E15: =D15/D22*100 -> 52.990357 | F15: 4974568000 | G15: =F15/F22*100 -> 51.124119 | H15: 4974568000 | I15: =H15/H22*100 -> 51.124119 | J15: =D15 -> 4851623432 | K15: 1756549523 | L15: =K15/K22*100 -> 54.354378 | M15: =H15-K15 -> 3218018477 | N15: =K15/H15*100 -> 35.310594
B16: 601 | C16: Sigurime Shoqërore | D16: 784786628 | E16: =D16/D22*100 -> 8.5715893 | F16: 892730000 | G16: =F16/F22*100 -> 9.174673 | H16: 892730000 | I16: =H16/H22*100 -> 9.174673 | J16: =D16 -> 784786628 | K16: 294310477 | L16: =K16/K22*100 -> 9.1070948 | M16: =H16-K16 -> 598419523 | N16: =K16/H16*100 -> 32.967468
B17: 602 | C17: Mallra dhe Shërbime të Tjera | D17: 3.4569904e+09 | E17: =D17/D22*100 -> 37.757908 | F17: 3823076000 | G17: =F17/F22*100 -> 39.290124 | H17: 3823076000 | I17: =H17/H22*100 -> 39.290124 | J17: =D17 -> 3.4569904e+09 | K17: 1165695022 | L17: =K17/K22*100 -> 36.071074 | M17: =H17-K17 -> 2657380978 | N17: =K17/H17*100 -> 30.491024
B18: 603 | C18: Subvencione | E18: =D18/D22*100 -> 0 | G18: =F18/F22*100 -> 0 | I18: =H18/H22*100 -> 0 | J18: =D18 -> 0 | L18: =K18/K22*100 -> 0 | M18: =H18-K18 -> 0
B19: 604 | C19: Transferta Korente të Brendshme | E19: =D19/D22*100 -> 0 | G19: =F19/F22*100 -> 0 | I19: =H19/H22*100 -> 0 | J19: =D19 -> 0 | L19: =K19/K22*100 -> 0 | M19: =H19-K19 -> 0
B20: 605 | C20: Transferta Korente të Huaja | E20: =D20/D22*100 -> 0 | G20: =F20/F22*100 -> 0 | I20: =H20/H22*100 -> 0 | J20: =D20 -> 0 | L20: =K20/K22*100 -> 0 | M20: =H20-K20 -> 0
B21: 606 | C21: Trans per Buxh. Fam. & Individ | D21: 62271942 | E21: =D21/D22*100 -> 0.68014603 | F21: 40000000 | G21: =F21/F22*100 -> 0.41108389 | H21: 40000000 | I21: =H21/H22*100 -> 0.41108389 | J21: =D21 -> 62271942 | K21: 15106500 | L21: =K21/K22*100 -> 0.46745304 | M21: =H21-K21 -> 24893500 | N21: =K21/H21*100 -> 37.76625
C22: Nëntotali Shpenzime Korente | D22: =D15+D16+D17+D18+D19+D20+D21 -> 9.1556724e+09 | E22: =D22/D30*100 -> 52.675313 | F22: =F15+F16+F17+F18+F19+F20+F21 -> 9730374000 | G22: =F22/F30*100 -> 30.996474 | H22: =H15+H16+H17+H18+H19+H20+H21 -> 9730374000 | I22: =H22/H30*100 -> 30.996474 | J22: =J15+J16+J17+J18+J19+J20+J21 -> 9.1556724e+09 | K22: =K15+K16+K17+K18+K19+K20+K21 -> 3231661522 | L22: =K22/K30*100 -> 45.99376 | M22: =M15+M16+M17+M18+M19+M20+M21 -> 6498712478 | N22: =K22/H22*100 -> 33.2121
B23: 230 | C23: Kapitale të Patrupëzuara | D23: 0 | E23: =D23/D25*100 -> 0 | F23: 0 | G23: =F23/F25*100 -> 0 | H23: 0 | I23: =H23/H25*100 -> 0 | J23: =I23/I25*100 -> 0 | K23: 0 | L23: =K23/K25*100 -> 0 | M23: =H23-K23 -> 0
B24: 231 | C24: Kapitale të Trupëzuara | D24: 8.2256622e+09 | E24: =D24/D25*100 -> 100 | F24: 10661500000 | H24: 10661500000 | I24: =H24/H25*100 -> 100 | J24: =D24 -> 8.2256622e+09 | K24: 3794642711 | L24: =K24/K25*100 -> 100 | M24: =H24-K24 -> 6866857289 | N24: =K24/H24*100 -> 35.592015
C25: Nëntotali Shpenzime Kapitale me financim të brendshëm | D25: =D23+D24 -> 8.2256622e+09 | E25: =D25/D30*100 -> 47.324687 | F25: =F23+F24 -> 10661500000 | G25: =F25/F30*100 -> 33.962611 | H25: =H23+H24 -> 10661500000 | I25: =H25/H30*100 -> 33.962611 | J25: =J23+J24 -> 8.2256622e+09 | K25: =K23+K24 -> 3794642711 | L25: =K25/K30*100 -> 54.00624 | M25: =M23+M24 -> 6866857289 | N25: =K25/H25*100 -> 35.592015
B26: 230 | C26: Kapitale të Patrupëzuara | D26: 0 | E26: =D26/D29*100 -> 0 | F26: 0 | G26: =F26/F29*100 -> 0 | H26: 0 | I26: =H26/H29*100 -> 0 | J26: =H26-F26 -> 0 | K26: 0 | L26: =K26/K29*100 -> 0 | M26: =H26-K26 -> 0 | N26: =K26/H26*100 -> #DIV/0!
B27: 231 | C27: Kapitale të Trupëzuara | E27: =D27/D30*100 -> 0 | F27: 11000000000 | H27: 11000000000 | I27: =H27/H30*100 -> 35.040915 | J27: =H27-F27 -> 0 | K27: 0 | L27: =K27/K30*100 -> 0 | M27: =H27-K27 -> 11000000000 | N27: =K27/H27*100 -> 0
C28: Nëntotali Shpenzime Kapitale me financim të huaj | D28: =D26+D27 -> 0 | E28: =D28/D30*100 -> 0 | F28: =F26+F27 -> 11000000000 | G28: =F28/F30*100 -> 35.040915 | H28: =H26+H27 -> 11000000000 | I28: =H28/H30*100 -> 35.040915 | J28: =J26+J27 -> 0 | K28: =K26+K27 -> 0 | L28: =K28/K30*100 -> 0 | M28: =M26+M27 -> 11000000000
C29: Totali i Shpenzimeve Kapitale | D29: =D25+D28 -> 8.2256622e+09 | E29: =D29/D30*100 -> 47.324687 | F29: =F25+F28 -> 21661500000 | G29: =F29/F30*100 -> 69.003526 | H29: =H25+H28 -> 21661500000 | I29: =H29/H30*100 -> 69.003526 | J29: =J25+J28 -> 8.2256622e+09 | K29: =K25+K28 -> 3794642711 | L29: =K29/K30*100 -> 54.00624 | M29: =M25+M28 -> 17866857289 | N29: =K29/H29*100 -> 17.517913
