Workbook
Name JR_PAGE_ANCHOR_0_1: #REF!

Sheet Sheet3
A4: 1 | B4: Nr. | C4: Emërtimi i Programit | D4: Plani i rishikuar viti 2025 | E4: Shpenzime faktike viti 2025 | F4: Perqindja kundrejt 12 mujorit
B5: 1 | C5: Planifikimi, Menaxhimi dhe Administrimi | D5: ='Aneksi nr.1'!I12 -> 1516200000 | E5: ='Aneksi nr.1'!L12 -> 567801454 | F5: 94
B6: 2 | C6: Forcat e Luftimit | D6: ='Aneksi nr.1'!I13 -> 31391874000 | E6: ='Aneksi nr.1'!L13 -> 7026304233 | F6: 95
B7: 3 | C7: Mbështetja e Luftimit | D7: ='Aneksi nr.1'!I14 -> 11156536000 | E7: ='Aneksi nr.1'!L14 -> 2503421559 | F7: 96
B8: 4 | C8: Mbështetja për Shëndetësinë | D8: ='Aneksi nr.1'!I15 -> 2134800000 | E8: ='Aneksi nr.1'!L15 -> 454499203 | F8: 97
B9: 5 | C9: Arsimimi Ushtarak | D9: ='Aneksi nr.1'!I16 -> 1757900000 | E9: ='Aneksi nr.1'!L16 -> 248866549 | F9: 98
B10: 6 | C10: Mbështetje për Ushtarakët | D10: ='Aneksi nr.1'!I17 -> 5200000000 | E10: ='Aneksi nr.1'!L17 -> 2000000000 | F10: 99
B11: 7 | C11: Emergjencat Civile | D11: ='Aneksi nr.1'!I18 -> 5791250000 | E11: ='Aneksi nr.1'!L18 -> 145924886 | F11: 100
C12: Totali i Shpenzimeve të Ministrisë | D12: ='Aneksi nr.1'!I19 -> 58948560000 | E12: ='Aneksi nr.1'!L19 -> 12946817884 | F12: ='Aneksi nr.1'!O19 -> 21.962908
A15: 2 | B15: Nr. | C15: Emërtimi i Programit | D15: Shpenzime korrente Viti 2025 në % | E15: Shpenzime kapitale të brendshme Viti 2025në % | F15: Totali i shpenzimeve buxhetore Viti 2025 në %
B16: 1 | C16: Planifikimi, Menaxhimi dhe Administrimi | D16: 98.92783 | E16: 99.980296 | F16: 98.976664
B17: 2 | C17: Forcat e Luftimit | D17: ='Aneksi 2.0 Forcat e Luftimit'!N22 -> 33.2121 | E17: ='Aneksi 2.0 Forcat e Luftimit'!N25 -> 35.592015 | F17: ='Aneksi 2.0 Forcat e Luftimit'!N30 -> 22.382557
B18: 3 | C18: Mbështetja e Luftimit | D18: ='123'!N22 -> 98.68396 | E18: ='123'!N25 -> 89.305464 | F18: ='123'!N30 -> 96.505417
B19: 4 | C19: Mbështetja për Shëndetësinë | D19: ='Aneksi 2.0 Mbësht .Shëndetësinë'!N22 -> 27.651275 | E19: ='Aneksi 2.0 Mbësht .Shëndetësinë'!N25 -> 0.491232 | F19: ='Aneksi 2.0 Mbësht .Shëndetësinë'!N30 -> 21.290013
B20: 5 | C20: Arsimimi Ushtarak | D20: ='Aneksi 2.0 Arsimi Ushtarak'!N22 -> 26.265631 | E20: ='Aneksi 2.0 Arsimi Ushtarak'!N25 -> 1.4281769 | F20: ='Aneksi 2.0 Arsimi Ushtarak'!#REF! -> #REF!
B21: 6 | C21: Mbështetje për Ushtarakët | D21: ='Aneksi 2.0 Mbeshtet. Ushtaraket'!N22 -> 0 | E21: 0 | F21: ='Aneksi 2.0 Mbeshtet. Ushtaraket'!N32 -> 0
B22: 7 | C22: Emergjencat Civile | D22: ='Aneksi 2.0 Emergjencat Civile'!N22 -> 8.758222 | E22: ='Aneksi 2.0 Emergjencat Civile'!N25 -> 0.72918389 | F22: 80.4
C23: TOTALI I MINISTRISË | D23: 99 | E23: 90 | F23: 96
A26: 3 | B26: Nr. | C26: Emërtimi i Programit | D26: Struktura e shpenz. sipas buxhetit fillestar Viti 2025 në % | E26: Struktura e shpenz. sipas faktit të | F26: #
E27: Vitit 2025në %
B28: 1 | C28: Planifikimi, Menaxhimi dhe Administrimi | D28: ='Aneksi nr.1'!H12 -> 2.572073 | E28: ='Aneksi nr.1'!M12 -> 4.3856449 | F28: =E28-D28 -> 1.8135719
B29: 2 | C29: Forcat e Luftimit | D29: ='Aneksi nr.1'!H13 -> 53.252995 | E29: ='Aneksi nr.1'!M13 -> 54.270511 | F29: =E29-D29 -> 1.0175156
B30: 3 | C30: Mbështetja e Luftimit | D30: ='Aneksi nr.1'!H14 -> 18.925884 | E30: ='Aneksi nr.1'!M14 -> 19.336192 | F30: =E30-D30 -> 0.41030811
B31: 4 | C31: Mbështetja për Shëndetësinë | D31: ='Aneksi nr.1'!H15 -> 3.6214625 | E31: ='Aneksi nr.1'!M15 -> 3.510509 | F31: =E31-D31 -> -0.11095354
B32: 5 | C32: Arsimimi Ushtarak | D32: ='Aneksi nr.1'!H16 -> 2.9820915 | E32: ='Aneksi nr.1'!M16 -> 1.9222217 | F32: =E32-D32 -> -1.0598698
B33: 6 | C33: Mbështetje për Ushtarakët | D33: ='Aneksi nr.1'!H17 -> 8.8212503 | E33: ='Aneksi nr.1'!M17 -> 15.447811 | F33: =E33-D33 -> 6.6265611
B34: 7 | C34: Emergjencat Civile | D34: ='Aneksi nr.1'!H18 -> 9.8242434 | E34: ='Aneksi nr.1'!M18 -> 1.1271101 | F34: =E34-D34 -> -8.6971333
C35: Totali i Shpenzimeve të Ministrisë | D35: =SUM(D28:D34) -> 100 | E35: =SUM(E28:E34) -> 100
A38: 4 | B38: Nr, | C38: Emërtimi i Programit | D38: Plani vjetor i rishikur në mijë lekë | E38: Struktura në % | F38: Fakti i vitit 2025 | G38: Struktura në % | H38: Realizimi në % | I38: Realizimi në %
B39: 1 | C39: ='Aneksi nr.1'!D12 -> Planifikimi, Menaxhimi dhe Administrimi | D39: ='Aneksi nr.1'!I12/1000 -> 1516200 | E39: ='Aneksi nr.1'!J12 -> 2.572073 | F39: ='Aneksi nr.1'!L12/1000 -> 567801.45 | G39: ='Aneksi nr.1'!M12 -> 4.3856449 | H39: =I39 -> 37.448981 | I39: ='Aneksi nr.1'!O12 -> 37.448981
B40: 2 | C40: ='Aneksi nr.1'!D13 -> Forcat e Luftimit | D40: ='Aneksi nr.1'!I13/1000 -> 31391874 | E40: ='Aneksi nr.1'!J13 -> 53.252995 | F40: ='Aneksi nr.1'!L13/1000 -> 7026304.2 | G40: ='Aneksi nr.1'!M13 -> 54.270511 | H40: 96 | I40: ='Aneksi nr.1'!O13 -> 22.382557
B41: 3 | C41: ='Aneksi nr.1'!D14 -> Mbështetja e Luftimit | D41: ='Aneksi nr.1'!I14/1000 -> 11156536 | E41: ='Aneksi nr.1'!J14 -> 18.925884 | F41: ='Aneksi nr.1'!L14/1000 -> 2503421.6 | G41: ='Aneksi nr.1'!M14 -> 19.336192 | H41: =I41 -> 22.439058 | I41: ='Aneksi nr.1'!O14 -> 22.439058
B42: 4 | C42: ='Aneksi nr.1'!D15 -> Mbështetja për Shëndetësinë | D42: ='Aneksi nr.1'!I15/1000 -> 2134800 | E42: ='Aneksi nr.1'!J15 -> 3.6214625 | F42: ='Aneksi nr.1'!L15/1000 -> 454499.2 | G42: ='Aneksi nr.1'!M15 -> 3.510509 | H42: =I42 -> 21.290013 | I42: ='Aneksi nr.1'!O15 -> 21.290013
B43: 5 | C43: ='Aneksi nr.1'!D16 -> Arsimi Ushtarak | D43: ='Aneksi nr.1'!I16/1000 -> 1757900 | E43: ='Aneksi nr.1'!J16 -> 2.9820915 | F43: ='Aneksi nr.1'!L16/1000 -> 248866.55 | G43: ='Aneksi nr.1'!M16 -> 1.9222217 | H43: =I43 -> 14.157037 | I43: ='Aneksi nr.1'!O16 -> 14.157037
B44: 6 | C44: ='Aneksi nr.1'!D17 -> Mbështetje për Ushtarakët | D44: ='Aneksi nr.1'!I17/1000 -> 5200000 | E44: ='Aneksi nr.1'!J17 -> 8.8212503 | F44: ='Aneksi nr.1'!L17/1000 -> 2000000 | G44: ='Aneksi nr.1'!M17 -> 15.447811 | H44: =I44 -> 38.461538 | I44: ='Aneksi nr.1'!O17 -> 38.461538
B45: 7 | C45: ='Aneksi nr.1'!D18 -> Emergjencat Civile | D45: ='Aneksi nr.1'!I18/1000 -> 5791250 | E45: ='Aneksi nr.1'!J18 -> 9.8242434 | F45: ='Aneksi nr.1'!L18/1000 -> 145924.89 | G45: ='Aneksi nr.1'!M18 -> 1.1271101 | H45: ='Aneksi 2.0 Emergjencat Civile'!#REF! -> #REF! | I45: ='Aneksi nr.1'!O18 -> 2.5197477
C46: Totali | D46: ='Aneksi nr.1'!I19/1000 -> 58948560 | E46: ='Aneksi nr.1'!J19 -> 100 | F46: ='Aneksi nr.1'!L19/1000 -> 12946818 | G46: ='Aneksi nr.1'!M19 -> 100 | H46: 96 | I46: ='Aneksi nr.1'!O19 -> 21.962908
A49: 5 | B49: Nr. | C49: Emërtimi i Programit | D49: Plani fillestar | E49: Plani i rishikuar | F49: Ndryshimi i planit vjetor
B50: 1 | C50: ='Aneksi nr.1'!D12 -> Planifikimi, Menaxhimi dhe Administrimi | D50: ='Aneksi nr.1'!G12/1000 -> 1516200 | E50: ='Aneksi nr.1'!I12/1000 -> 1516200 | F50: ='Aneksi nr.1'!K12/1000 -> 0
B51: 2 | C51: ='Aneksi nr.1'!D13 -> Forcat e Luftimit | D51: ='Aneksi nr.1'!G13/1000 -> 31391874 | E51: =('Aneksi 2.0 Forcat e Luftimit'!H22+'Aneksi 2.0 Forcat e Luftimit'!H25)/1000 -> 20391874 | F51: =('Aneksi 2.0 Forcat e Luftimit'!J22+'Aneksi 2.0 Forcat e Luftimit'!J25)/1000 -> 17381335 | G51: =D51-E51 -> 11000000 | H51: =D51-E51 -> 11000000
B52: 3 | C52: ='Aneksi nr.1'!D14 -> Mbështetja e Luftimit | D52: ='Aneksi nr.1'!G14/1000 -> 11156536 | E52: ='Aneksi nr.1'!I14/1000 -> 11156536 | F52: ='Aneksi nr.1'!K14/1000 -> 0
B53: 4 | C53: ='Aneksi nr.1'!D15 -> Mbështetja për Shëndetësinë | D53: ='Aneksi nr.1'!G15/1000 -> 2134800 | E53: ='Aneksi nr.1'!I15/1000 -> 2134800 | F53: ='Aneksi nr.1'!K15/1000 -> 0
B54: 5 | C54: ='Aneksi nr.1'!D16 -> Arsimi Ushtarak | D54: ='Aneksi nr.1'!G16/1000 -> 1757900 | E54: ='Aneksi nr.1'!I16/1000 -> 1757900 | F54: ='Aneksi nr.1'!K16/1000 -> 0
B55: 6 | C55: ='Aneksi nr.1'!D17 -> Mbështetje për Ushtarakët | D55: ='Aneksi nr.1'!G17/1000 -> 5200000 | E55: ='Aneksi nr.1'!I17/1000 -> 5200000 | F55: ='Aneksi nr.1'!K17/1000 -> 0
B56: 7 | C56: ='Aneksi nr.1'!D18 -> Emergjencat Civile | D56: ='Aneksi nr.1'!G18/1000 -> 5791250 | E56: ='Aneksi nr.1'!I18/1000 -> 5791250 | F56: ='Aneksi nr.1'!K18/1000 -> 0
C57: TOTALI I MINISTRISË | D57: =SUM(D50:D56) -> 58948560 | E57: =SUM(E50:E56) -> 47948560 | F57: =SUM(F50:F56) -> 17381335
B61: Nr | C61: Emertimi i Programit | D61: Shpenzime kapitale (Faktii vitit 2025)
D62: Total projekte sipas planit tw rishikuar | E62: Projekte te Realizuar nw vitin 2025 | F62: Vlera | G62: Realizimi në %
B63: 1 | C63: Planifikimi, Menaxhimi dhe Administrimi | D63: 6 | E63: 5 | F63: 77, 654 | G63: 1
B64: 2 | C64: Forcat e Luftimit | D64: 22 | E64: 18 | F64: 8, 225, 628 | G64: 0.93
B65: 3 | C65: Mbështetja e Luftimit | D65: 35 | E65: 23 | F65: 2, 069, 971 | G65: 0.89
B66: 4 | C66: Mbështetja për Shëndetësinë | D66: 2 | E66: 2 | F66: 193, 285 | G66: 0.98
B67: 5 | C67: Arsimi Ushtarak | D67: 7 | E67: 5 | F67: 396, 905 | G67: 0.86
B68: 6 | C68: Emergjencat Civile | D68: 22 | E68: 18 | F68: 1, 327, 226 | G68: 0.73
C69: Totali i shpenzimeve të Ministrise | D69: 94 | E69: 71 | F69: 12, 290, 669 | G69: 0.9

Sheet Sheet2
A1: PROGRAMI BUXHETOR PLANIFIKIMI, MENAXHIMI DHE ADMINISTRIMI | B1: LLOGARIA EKONOMIKE | C1: Shpenzime faktike 2024 | D1: PLANI FILLESTAR | E1: PLANI ME NDRYSHIME | F1: Shpenzime faktike | G1: MBETJE | H1: % e Realizimit | I1: NDRYSHIME
B2: 600 | C2: ='Aneksi nr.1'!E12/1000 -> 1656802.9 | D2: ='Aneksi nr.1'!G12/1000 -> 1516200 | G2: =E2-F2 -> 0 | H2: =F2/E2*100 -> #DIV/0! | I2: =E2-D2 -> -1516200
B3: 601 | C3: ='Aneksi nr.1'!E13/1000 -> 17381335 | D3: ='Aneksi nr.1'!G13/1000 -> 31391874 | G3: =E3-F3 -> 0 | H3: =F3/E3*100 -> #DIV/0! | I3: =E3-D3 -> -31391874 | J3: 0
B4: 602 | C4: ='Aneksi nr.1'!E14/1000 -> 9629528.7 | D4: ='Aneksi nr.1'!G14/1000 -> 11156536 | G4: =E4-F4 -> 0 | H4: =F4/E4*100 -> #DIV/0! | I4: =E4-D4 -> -11156536 | J4: 0
B5: 603 | C5: ='Aneksi nr.1'!E15/1000 -> 1902997 | D5: ='Aneksi nr.1'!G15/1000 -> 2134800 | G5: =E5-F5 -> 0 | H5: =F5/E5*100 -> #DIV/0! | I5: =E5-D5 -> -2134800 | J5: 0
B6: 604 | C6: ='Aneksi nr.1'!E16/1000 -> 1342870.8 | D6: ='Aneksi nr.1'!G16/1000 -> 1757900 | G6: =E6-F6 -> 0 | H6: =F6/E6*100 -> #DIV/0! | I6: =E6-D6 -> -1757900 | J6: 0
B7: 605 | C7: ='Aneksi nr.1'!E17/1000 -> 5228958 | D7: ='Aneksi nr.1'!G17/1000 -> 5200000 | G7: =E7-F7 -> 0 | H7: =F7/E7*100 -> #DIV/0! | I7: =E7-D7 -> -5200000 | J7: 0
B8: 606 | C8: ='Aneksi nr.1'!E18/1000 -> 2400317 | D8: ='Aneksi nr.1'!G18/1000 -> 5791250 | G8: =E8-F8 -> 0 | H8: =F8/E8*100 -> #DIV/0! | I8: =E8-D8 -> -5791250 | J8: 0
B9: 231 | C9: ='Aneksi nr.1'!E19/1000 -> 39542809 | D9: ='Aneksi nr.1'!G19/1000 -> 58948560 | G9: =E9-F9 -> 0 | H9: =F9/E9*100 -> #DIV/0! | I9: =E9-D9 -> -58948560
B10: 231/2 | C10: ='Aneksi nr.1'!E20/1000 -> 24682 | D10: 0 | G10: =E10-F10 -> 0 | H10: =F10/E10*100 -> #DIV/0! | I10: =E10-D10 -> 0 | J10: 0
B11: TOTALI | C11: =SUM(C2:C10) -> 79110300 | D11: =SUM(D2:D10) -> 117897120 | E11: =SUM(E2:E10) -> 0 | F11: =SUM(F2:F10) -> 0 | G11: =SUM(G2:G10) -> 0 | H11: =F11/E11*100 -> #DIV/0! | I11: =SUM(I2:I10) -> -117897120 | J11: 0
A14: PROGRAMI BUXHETOR FORCA E LUFTIMIT | B14: LLOGARIA EKONOMIKE | C14: Shpenzime faktike | D14: PLANI FILLESTAR | E14: PLANI ME NDRYSHIME | F14: Shpenzime faktike | G14: MBETJE | H14: % e Realizimit | I14: NDRYSHIME
B15: 600 | C15: 3590420.7 | D15: 3869168 | E15: 4861644 | F15: 4851623.4 | G15: =E15-F15 -> 10020.518 | H15: =F15/E15*100 -> 99.793886 | I15: =E15-D15 -> 992475.95
B16: 601 | C16: 608428.18 | D16: 680000 | E16: 787160 | F16: 784786.63 | G16: =E16-F16 -> 2373.372 | H16: =F16/E16*100 -> 99.698489 | I16: =E16-D16 -> 107160
B17: 602 | C17: 2994541.7 | D17: 2863090 | E17: 3523090 | F17: 3456990.4 | G17: =E17-F17 -> 66099.65 | H17: =F17/E17*100 -> 98.123816 | I17: =E17-D17 -> 660000
B18: 603 | C18: 0 | D18: 0 | E18: 0 | F18: 0 | G18: =E18-F18 -> 0 | H18: =F18/E18*100 -> #DIV/0! | I18: =E18-D18 -> 0
B19: 604 | C19: 0 | D19: 0 | E19: 0 | F19: 0 | G19: =E19-F19 -> 0 | H19: =F19/E19*100 -> #DIV/0! | I19: =E19-D19 -> 0
B20: 605 | C20: 0 | D20: 0 | E20: 0 | F20: 0 | G20: =E20-F20 -> 0 | H20: =F20/E20*100 -> #DIV/0! | I20: =E20-D20 -> 0
B21: 606 | C21: 71323.006 | D21: 40000 | E21: 66240.873 | F21: 62271.942 | G21: =E21-F21 -> 3968.931 | H21: =F21/E21*100 -> 94.008335 | I21: =E21-D21 -> 26240.873
B22: 231 | C22: 7433459 | D22: 11201500 | E22: 8836120 | F22: 8225662.2 | G22: =E22-F22 -> 610457.81 | H22: =F22/E22*100 -> 93.091336 | I22: =E22-D22 -> -2365380
B23: 231/2 | C23: 0 | D23: 10200000 | E23: 11102400 | F23: 0 | G23: =E23-F23 -> 11102400 | H23: =F23/E23*100 -> 0 | I23: =E23-D23 -> 902400
B24: TOTALI | C24: 14698173 | D24: 28853758 | E24: =SUM(E15:E23) -> 29176655 | F24: =SUM(F15:F23) -> 17381335 | G24: =SUM(G15:G23) -> 11795320 | H24: =F24/E24*100 -> 59.572746 | I24: =SUM(I15:I23) -> 322896.82
C25: 14701748 | D25: 24939590 | E25: 16180095 | F25: 14701748 | G25: 1481922.6 | H25: 0.090863171 | I25: #REF!
D26: 0 | E26: 0
A27: PROGRAMI BUXHETOR MBESHTETJA E LUFTIMIT | B27: LLOGARIA EKONOMIKE | C27: Shpenzime faktike | D27: PLANI FILLESTAR | E27: PLANI ME NDRYSHIME | F27: Shpenzime faktike | G27: MBETJE | H27: % e Realizimit | I27: NDRYSHIME
B28: 600 | C28: 3055112.8 | D28: 3188700 | E28: 3655358.1 | F28: 3643746.6 | G28: =E28-F28 -> 11611.573 | H28: =F28/E28*100 -> 99.682341 | I28: =E28-D28 -> 466658.13
B29: 601 | C29: 528272.23 | D29: 514300 | E29: 605980 | F29: 600774.04 | G29: =E29-F29 -> 5205.956 | H29: =F29/E29*100 -> 99.140903 | I29: =E29-D29 -> 91680
B30: 602 | C30: 1957085 | D30: 2750686 | E30: 3110504 | F30: 3041395.8 | G30: =E30-F30 -> 69108.187 | H30: =F30/E30*100 -> 97.778232 | I30: =E30-D30 -> 359818
B31: 603 | C31: 0 | D31: 0 | E31: 0 | F31: 0 | G31: =E31-F31 -> 0 | H31: =F31/E31*100 -> #DIV/0! | I31: =E31-D31 -> 0
B32: 604 | C32: 289176.97 | D32: 0 | E32: 0 | F32: 0 | G32: =E32-F32 -> 0 | H32: =F32/E32*100 -> #DIV/0! | I32: =E32-D32 -> 0
B33: 605 | C33: 0 | D33: 0 | E33: 0 | F33: 0 | G33: =E33-F33 -> 0 | H33: =F33/E33*100 -> #DIV/0! | I33: =E33-D33 -> 0
B34: 606 | C34: 299352.58 | D34: 301250 | E34: 288529 | F34: 273641.15 | G34: =E34-F34 -> 14887.854 | H34: =F34/E34*100 -> 94.840084 | I34: =E34-D34 -> -12721.001
B35: 231 | C35: 638800.21 | D35: 1558500 | E35: 2317855 | F35: 2069971.2 | G35: =E35-F35 -> 247883.84 | H35: =F35/E35*100 -> 89.305464 | I35: =E35-D35 -> 759355
B36: 231/2 | C36: 0 | D36: 0 | E36: 0 | G36: =E36-F36 -> 0 | H36: =F36/E36*100 -> #DIV/0! | I36: =E36-D36 -> 0
B37: TOTALI | C37: 6767799.8 | D37: 8313436 | E37: =SUM(E28:E36) -> 9978226.1 | F37: =SUM(F28:F36) -> 9629528.7 | G37: =SUM(G28:G36) -> 348697.41 | H37: =F37/E37*100 -> 96.505417 | I37: =SUM(I28:I36) -> 1664790.1
C38: 0 | D38: 0 | E38: 610956.94 | F38: 0 | G38: 0
C39: 6767799.8 | D39: 8020436 | E39: 7409479.1 | F39: 6767799.8 | G39: 641679.24 | H39: 0.091339752
A40: PROGRAMI BUXHETOMBWSHTETJE PWR SHWNDETWSINW | B40: LLOGARIA EKONOMIKE | C40: Shpenzime faktike | D40: PLANI FILLESTAR | E40: PLANI ME NDRYSHIME | F40: Shpenzime faktike | G40: MBETJE | H40: % e Realizimit | I40: NDRYSHIME
B41: 600 | C41: 584137.73 | D41: 510836 | E41: 702836 | F41: 695375.31 | G41: =E41-F41 -> 7460.692 | H41: =F41/E41*100 -> 98.938487 | I41: =E41-D41 -> 192000
B42: 601 | C42: 96245.744 | D42: 95000 | E42: 117000 | F42: 114015.59 | G42: =E42-F42 -> 2984.409 | H42: =F42/E42*100 -> 97.449223 | I42: =E42-D42 -> 22000
B43: 602 | C43: 881452.25 | D43: 798164 | E43: 898164 | F43: 895915.2 | G43: =E43-F43 -> 2248.8 | H43: =F43/E43*100 -> 99.749623 | I43: =E43-D43 -> 100000
B44: 603 | C44: 0 | D44: 0 | E44: 0 | F44: 0 | G44: =E44-F44 -> 0 | H44: =F44/E44*100 -> #DIV/0! | I44: =E44-D44 -> 0
B45: 604 | C45: 0 | D45: 0 | E45: 0 | F45: 0 | G45: =E45-F45 -> 0 | H45: =F45/E45*100 -> #DIV/0! | I45: =E45-D45 -> 0
B46: 605 | C46: 0 | D46: 0 | E46: 0 | F46: 0 | G46: =E46-F46 -> 0 | H46: =F46/E46*100 -> #DIV/0! | I46: =E46-D46 -> 0
B47: 606 | C47: 4138.197 | D47: 2000 | E47: 4439.96 | F47: 4406.131 | G47: =E47-F47 -> 33.829 | H47: =F47/E47*100 -> 99.238079 | I47: =E47-D47 -> 2439.96
B48: 231 | C48: 339449.1 | D48: 500000 | E48: 197000 | F48: 193284.8 | G48: =E48-F48 -> 3715.2 | H48: =F48/E48*100 -> 98.114112 | I48: =E48-D48 -> -303000
B49: 231/2 | C49: 0 | D49: 0 | E49: 0 | G49: =E49-F49 -> 0 | H49: =F49/E49*100 -> #DIV/0! | I49: =E49-D49 -> 0
B50: TOTALI | C50: 1905423 | D50: 1906000 | E50: =SUM(E41:E49) -> 1919440 | F50: =SUM(F41:F49) -> 1902997 | G50: =SUM(G41:G49) -> 16442.93 | H50: =F50/E50*100 -> 99.143348 | I50: =SUM(I41:I49) -> 13439.96
C51: 0 | D51: 0 | E51: 37726.289 | F51: 0 | G51: 0
C52: 1905423 | D52: 1906000 | E52: 1943726.3 | F52: 1905423 | G52: 38303.271
A53: PROGRAMI BUXHETOR ARSIMI USHTARAK | B53: LLOGARIA EKONOMIKE | C53: Shpenzime faktike | D53: PLANI FILLESTAR | E53: PLANI ME NDRYSHIME | F53: Shpenzime faktike | G53: MBETJE | H53: % e Realizimit | I53: NDRYSHIME
B54: 600 | C54: 418063.97 | D54: 549000 | E54: 503290 | F54: 478323.14 | G54: =E54-F54 -> 24966.864 | H54: =F54/E54*100 -> 95.039269 | I54: =E54-D54 -> -45710
B55: 601 | C55: 99767.19 | D55: 100000 | E55: 119700 | F55: 117426.73 | G55: =E55-F55 -> 2273.275 | H55: =F55/E55*100 -> 98.100856 | I55: =E55-D55 -> 19700
B56: 602 | C56: 100127.6 | D56: 81000 | E56: 107510 | F56: 100983.83 | G56: =E56-F56 -> 6526.171 | H56: =F56/E56*100 -> 93.929708 | I56: =E56-D56 -> 26510
B57: 603 | C57: 0 | D57: 0 | E57: 0 | F57: 0 | G57: =E57-F57 -> 0 | H57: =F57/E57*100 -> #DIV/0! | I57: =E57-D57 -> 0
B58: 604 | C58: 0 | D58: 0 | E58: 0 | F58: 0 | G58: =E58-F58 -> 0 | H58: =F58/E58*100 -> #DIV/0! | I58: =E58-D58 -> 0
B59: 605 | C59: 0 | D59: 0 | E59: 0 | F59: 0 | G59: =E59-F59 -> 0 | H59: =F59/E59*100 -> #DIV/0! | I59: =E59-D59 -> 0
B60: 606 | C60: 197765.96 | D60: 140000 | E60: 259270.86 | F60: 249232.27 | G60: =E60-F60 -> 10038.588 | H60: =F60/E60*100 -> 96.128146 | I60: =E60-D60 -> 119270.86
B61: 231 | C61: 356148.7 | D61: 557000 | E61: 462031 | F61: 396904.85 | G61: =E61-F61 -> 65126.151 | H61: =F61/E61*100 -> 85.904376 | I61: =E61-D61 -> -94969
B62: 231/2 | C62: 0 | D62: 0 | E62: 0 | G62: =E62-F62 -> 0 | H62: =F62/E62*100 -> #DIV/0! | I62: =E62-D62 -> 0
B63: TOTALI | C63: 1171873.4 | D63: 1427000 | E63: =SUM(E54:E62) -> 1451801.9 | F63: =SUM(F54:F62) -> 1342870.8 | G63: =SUM(G54:G62) -> 108931.05 | H63: =F63/E63*100 -> 92.496838 | I63: =SUM(I54:I62) -> 24801.855
C64: 0 | D64: 0 | E64: -61668.477 | F64: 0 | G64: 0
C65: 1171873.4 | D65: 1327000 | E65: 1265331.5 | F65: 1171873.4 | G65: 93458.107
A66: PROGRAMI BUXHETOR MBESHTETJE SOCIALE PER USHTARAKET | B66: LLOGARIA EKONOMIKE | C66: Shpenzime faktike | D66: PLANI FILLESTAR | E66: PLANI ME NDRYSHIME | F66: Shpenzime faktike | G66: MBETJE | H66: % e Realizimit | I66: NDRYSHIME
B67: 600 | I67: =E67-D67 -> 0
B68: 601 | I68: =E68-D68 -> 0
B69: 602 | I69: =E69-D69 -> 0
B70: 603 | I70: =E70-D70 -> 0
B71: 604 | C71: 5243000 | D71: 5200000 | E71: 5228958 | F71: 5228958 | G71: =E71-F71 -> 0 | H71: =F71/E71*100 -> 100 | I71: =E71-D71 -> 28958
B72: 605 | H72: =F72/E72*100 -> #DIV/0! | I72: =E72-D72 -> 0
B73: 606 | H73: =F73/E73*100 -> #DIV/0! | I73: =E73-D73 -> 0
B74: 231 | H74: =F74/E74*100 -> #DIV/0! | I74: =E74-D74 -> 0
B75: 231/2 | H75: =F75/E75*100 -> #DIV/0! | I75: =E75-D75 -> 0
B76: TOTALI | C76: 5243000 | D76: 5200000 | E76: =SUM(E67:E75) -> 5228958 | F76: =SUM(F67:F75) -> 5228958 | G76: =SUM(G67:G75) -> 0 | H76: =F76/E76*100 -> 100 | I76: =SUM(I67:I75) -> 28958
C77: 0 | D77: 0 | E77: 43000 | F77: 0 | G77: 0
C78: 5243000 | D78: 5200000 | E78: 5243000 | F78: 5243000 | G78: 0
A79: PROGRAMI BUXHETOR EMERGJENCAT CIVILE | B79: LLOGARIA EKONOMIKE | C79: Shpenzime faktike | D79: PLANI FILLESTAR | E79: PLANI ME NDRYSHIME | F79: Shpenzime faktike | G79: MBETJE | H79: % e Realizimit | I79: NDRYSHIME
B80: 600 | C80: 183918.08 | D80: 164000 | E80: 205402.02 | F80: 202443.36 | G80: =E80-F80 -> 2958.664 | H80: =F80/E80*100 -> 98.559574 | I80: =E80-D80 -> 41402.021
B81: 601 | C81: 30866.06 | D81: 27000 | E81: 35020 | F81: 32774.835 | G81: =E81-F81 -> 2245.165 | H81: =F81/E81*100 -> 93.588906 | I81: =E81-D81 -> 8020
B82: 602 | C82: 256893.75 | D82: 441000 | E82: 281000 | F82: 236139.72 | G82: =E82-F82 -> 44860.276 | H82: =F82/E82*100 -> 84.035489 | I82: =E82-D82 -> -160000
B83: 603 | C83: 0 | D83: 0 | E83: 0 | F83: 0 | G83: =E83-F83 -> 0 | H83: =F83/E83*100 -> #DIV/0! | I83: =E83-D83 -> 0
B84: 604 | C84: 595063.25 | D84: 800000 | E84: 639272 | F84: 590130.89 | G84: =E84-F84 -> 49141.114 | H84: =F84/E84*100 -> 92.312957 | I84: =E84-D84 -> -160728
B85: 605 | C85: 11182.824 | D85: 18000 | E85: 11000 | F85: 10978.573 | G85: =E85-F85 -> 21.427 | H85: =F85/E85*100 -> 99.805209 | I85: =E85-D85 -> -7000
B86: 606 | C86: 1573.942 | D86: 0 | E86: 985.46 | F86: 623.755 | G86: =E86-F86 -> 361.705 | H86: =F86/E86*100 -> 63.295821 | I86: =E86-D86 -> 985.46
B87: 231 | C87: 1275168.1 | D87: 2000000 | E87: 1814180 | F87: 1327225.8 | G87: =E87-F87 -> 486954.18 | H87: =F87/E87*100 -> 73.158442 | I87: =E87-D87 -> -185820
B88: 231/2 | D88: 2012050 | F88: 0 | G88: =E88-F88 -> 0 | H88: =F88/E88*100 -> #DIV/0! | I88: =E88-D88 -> -2012050
B89: TOTALI | C89: 2354666 | D89: 5462050 | E89: =SUM(E80:E88) -> 2986859.5 | F89: =SUM(F80:F88) -> 2400317 | G89: =SUM(G80:G88) -> 586542.53 | H89: =F89/E89*100 -> 80.362567 | I89: =SUM(I80:I88) -> -2475190.5
C90: 0 | D90: 0 | E90: -2374844 | F90: 0 | G90: 0
C91: 2354666 | D91: 5382050 | E91: 3007206 | F91: 2354666 | G91: 652539.95
A92: TOTAL MINISTRIA E MBROJTJES | B92: LLOGARIA EKONOMIKE | C92: Shpenzime faktike | D92: PLANI FILLESTAR | E92: PLANI ME NDRYSHIME | F92: Shpenzime faktike | G92: MBETJE | H92: % e Realizimit | I92: NDRYSHIME
B93: 600 | C93: 8488505.2 | D93: 8866684 | E93: =E2+E15+E28+E41+E54+E67+E80 -> 9928530.1 | F93: =F2+F15+F28+F41+F54+F67+F80 -> 9871511.8 | G93: =G2+G15+G28+G41+G54+G67+G80 -> 57018.311 | H93: =F93/E93*100 -> 99.425712 | I93: =I2+I15+I28+I41+I54+I67+I80 -> 130626.1
B94: 601 | C94: 1460354.4 | D94: 1526300 | E94: =E3+E16+E29+E42+E55+E68+E81 -> 1664860 | F94: =F3+F16+F29+F42+F55+F68+F81 -> 1649777.8 | G94: =G3+G16+G29+G42+G55+G68+G81 -> 15082.177 | H94: =F94/E94*100 -> 99.094087 | I94: =I3+I16+I29+I42+I55+I68+I81 -> -31143314
B95: 602 | C95: 6750920.5 | D95: 7333836 | E95: =E4+E17+E30+E43+E56+E69+E82 -> 7920268 | F95: =F4+F17+F30+F43+F56+F69+F82 -> 7731424.9 | G95: =G4+G17+G30+G43+G56+G69+G82 -> 188843.08 | H95: =F95/E95*100 -> 97.615698 | I95: =I4+I17+I30+I43+I56+I69+I82 -> -10170208
B96: 603 | C96: 0 | D96: 0 | E96: =E5+E18+E31+E44+E57+E70+E83 -> 0 | F96: =F5+F18+F31+F44+F57+F70+F83 -> 0 | G96: =G5+G18+G31+G44+G57+G70+G83 -> 0 | H96: =F96/E96*100 -> #DIV/0! | I96: =I5+I18+I31+I44+I57+I70+I83 -> -2134800
B97: 604 | C97: 6127240.2 | D97: 6000000 | E97: =E6+E19+E32+E45+E58+E71+E84 -> 5868230 | F97: =F6+F19+F32+F45+F58+F71+F84 -> 5819088.9 | G97: =G6+G19+G32+G45+G58+G71+G84 -> 49141.114 | H97: =F97/E97*100 -> 99.162591 | I97: =I6+I19+I32+I45+I58+I71+I84 -> -1889670
B98: 605 | C98: 476197.82 | D98: 293424 | E98: =E7+E20+E33+E46+E59+E72+E85 -> 11000 | F98: =F7+F20+F33+F46+F59+F72+F85 -> 10978.573 | G98: =G7+G20+G33+G46+G59+G72+G85 -> 21.427 | H98: =F98/E98*100 -> 99.805209 | I98: =I7+I20+I33+I46+I59+I72+I85 -> -5207000
B99: 606 | C99: 624838.57 | D99: 516250 | E99: =E8+E21+E34+E47+E60+E73+E86 -> 619466.15 | F99: =F8+F21+F34+F47+F60+F73+F86 -> 590175.24 | G99: =G8+G21+G34+G47+G60+G73+G86 -> 29290.907 | H99: =F99/E99*100 -> 95.271589 | I99: =I8+I21+I34+I47+I60+I73+I86 -> -5655033.9
B100: 231 | C100: 10153292 | D100: 15937000 | E100: =E9+E22+E35+E48+E61+E74+E87 -> 13627186 | F100: =F9+F22+F35+F48+F61+F74+F87 -> 12213049 | G100: =G9+G22+G35+G48+G61+G74+G87 -> 1414137.2 | H100: =F100/E100*100 -> 89.622676 | I100: =I9+I22+I35+I48+I61+I74+I87 -> -61138374
B101: 231/2 | C101: 0 | D101: 12212050 | E101: =E10+E23+E36+E49+E62+E75+E88 -> 11102400 | F101: =F10+F23+F36+F49+F62+F75+F88 -> 0 | G101: =G10+G23+G36+G49+G62+G75+G88 -> 11102400 | H101: =F101/E101*100 -> 0 | I101: =I10+I23+I36+I49+I62+I75+I88 -> -1109650
B102: TOTALI | C102: 34081349 | D102: 52685544 | E102: =SUM(E93:E101) -> 50741940 | F102: =SUM(F93:F101) -> 37886006 | G102: =SUM(G93:G101) -> 12855934 | H102: =F102/E102*100 -> 74.664086 | I102: =SUM(I93:I101) -> -1.1831742e+08
...

Sheet Aneksi nr.1
B2: ANEKSI nr.1 Raporti Përmbledhës i Shpenzimeve të Ministrisë/Institucionit Buxhetor
B3: Periudha e Raportimit 04-2026
B4: në/lekë
B5: Emri i Grupit | D5: Ministria e Mbrojtjes | G5: Kodi i grupit | K5: 17
B6: EMËRTIME | E6: Shpenzimet e Ministrisë/Institucionit
E7: Viti paraardhës 2025 | G7: Periudha raportuese | I7: Periudha raportuese | K7: Periudha raportuese | L7: Periudha raportuese | N7: Ndryshimi Vjetor (Plan - Fakt) | O7: % e realizimit
E8: Shpenzime Faktike | F8: Struktura e shpenzimeve në % | G8: Plani Fillestar Vjetor Viti 2026 | H8: Struktura e shpenzimeve në % | I8: Plani Vjetor i Rishikuar Viti 2026 | J8: Struktura e shpenzimeve në % | K8: Ndryshimi i planit vjetor | L8: Shpenzime Faktike të Periudhës/Progresive | M8: Struktura e shpenzimeve në %
E9: (1) | F9: (2) | G9: (3) | H9: (4) | I9: (5) | J9: (6) | K9: 7 (5-3) | L9: (8) | M9: (9) | N9: 10 (5-8) | O9: 11 ( 8/5)
B10: Shpenzimet sipas programeve buxhetore
B11: Kodi i Programit | D11: Emërtimi
B12: 01110 | D12: Planifikimi, Menaxhimi dhe Administrimi | E12: ='Aneksi 2.0 Planif'!D30 -> 1656802891 | F12: =E12/E19*100 -> 4.1898968 | G12: ='Aneksi 2.0 Planif'!F30 -> 1516200000 | H12: =G12/G19*100 -> 2.572073 | I12: ='Aneksi 2.0 Planif'!H30 -> 1516200000 | J12: =I12/I19*100 -> 2.572073 | K12: =I12-G12 -> 0 | L12: ='Aneksi 2.0 Planif'!K30 -> 567801454 | M12: =L12/L19*100 -> 4.3856449 | N12: =I12-L12 -> 948398546 | O12: =L12/I12*100 -> 37.448981
B13: 02120 | D13: Forcat e Luftimit | E13: ='Aneksi 2.0 Forcat e Luftimit'!D30 -> 1.7381335e+10 | F13: =E13/E19*100 -> 43.955741 | G13: ='Aneksi 2.0 Forcat e Luftimit'!F30 -> 31391874000 | H13: =G13/G19*100 -> 53.252995 | I13: ='Aneksi 2.0 Forcat e Luftimit'!H30 -> 31391874000 | J13: =I13/I19*100 -> 53.252995 | K13: =I13-G13 -> 0 | L13: ='Aneksi 2.0 Forcat e Luftimit'!K30 -> 7026304233 | M13: =L13/L19*100 -> 54.270511 | N13: =I13-L13 -> 24365569767 | O13: =L13/I13*100 -> 22.382557
B14: 02150 | D14: Mbështetja e Luftimit | E14: ='Aneksi 2.0 MBSHT.LUFTIMIT'!D35 -> 9629528719 | F14: =E14/E19*100 -> 24.352162 | G14: ='Aneksi 2.0 MBSHT.LUFTIMIT'!F35 -> 11156536000 | H14: =G14/G19*100 -> 18.925884 | I14: ='Aneksi 2.0 MBSHT.LUFTIMIT'!H35 -> 11156536000 | J14: =I14/I19*100 -> 18.925884 | K14: =I14-G14 -> 0 | L14: ='Aneksi 2.0 MBSHT.LUFTIMIT'!K35 -> 2503421559 | M14: =L14/L19*100 -> 19.336192 | N14: =I14-L14 -> 8653114441 | O14: =L14/I14*100 -> 22.439058
B15: 07340 | D15: Mbështetja për Shëndetësinë | E15: ='Aneksi 2.0 Mbësht .Shëndetësinë'!D30 -> 1902997030 | F15: =E15/E19*100 -> 4.8124984 | G15: ='Aneksi 2.0 Mbësht .Shëndetësinë'!F30 -> 2134800000 | H15: =G15/G19*100 -> 3.6214625 | I15: ='Aneksi 2.0 Mbësht .Shëndetësinë'!H30 -> 2134800000 | J15: =I15/I19*100 -> 3.6214625 | K15: =I15-G15 -> 0 | L15: ='Aneksi 2.0 Mbësht .Shëndetësinë'!K30 -> 454499203 | M15: =L15/L19*100 -> 3.510509 | N15: =I15-L15 -> 1680300797 | O15: =L15/I15*100 -> 21.290013
B16: 09430 | D16: Arsimi Ushtarak | E16: ='Aneksi 2.0 Arsimi Ushtarak'!D32 -> 1342870806 | F16: =E16/E19*100 -> 3.3959924 | G16: ='Aneksi 2.0 Arsimi Ushtarak'!F32 -> 1757900000 | H16: =G16/G19*100 -> 2.9820915 | I16: ='Aneksi 2.0 Arsimi Ushtarak'!H32 -> 1757900000 | J16: =I16/I19*100 -> 2.9820915 | K16: =I16-G16 -> 0 | L16: ='Aneksi 2.0 Arsimi Ushtarak'!K32 -> 248866549 | M16: =L16/L19*100 -> 1.9222217 | N16: =I16-L16 -> 1509033451 | O16: =L16/I16*100 -> 14.157037
B17: 10270 | D17: Mbështetje për Ushtarakët | E17: ='Aneksi 2.0 Mbeshtet. Ushtaraket'!D32 -> 5228958000 | F17: =E17/E19*100 -> 13.223537 | G17: ='Aneksi 2.0 Mbeshtet. Ushtaraket'!F32 -> 5200000000 | H17: =G17/G19*100 -> 8.8212503 | I17: ='Aneksi 2.0 Mbeshtet. Ushtaraket'!H32 -> 5200000000 | J17: =I17/I19*100 -> 8.8212503 | K17: =I17-G17 -> 0 | L17: ='Aneksi 2.0 Mbeshtet. Ushtaraket'!K32 -> 2000000000 | M17: =L17/L19*100 -> 15.447811 | N17: =I17-L17 -> 3200000000 | O17: =L17/I17*100 -> 38.461538
B18: 10910 | D18: Emergjencat Civile | E18: ='Aneksi 2.0 Emergjencat Civile'!D30 -> 2.400317e+09 | F18: =E18/E19*100 -> 6.0701731 | G18: ='Aneksi 2.0 Emergjencat Civile'!F30 -> 5791250000 | H18: =G18/G19*100 -> 9.8242434 | I18: ='Aneksi 2.0 Emergjencat Civile'!H30 -> 5791250000 | J18: =I18/I19*100 -> 9.8242434 | K18: =I18-G18 -> 0 | L18: ='Aneksi 2.0 Emergjencat Civile'!K30 -> 145924886 | M18: =L18/L19*100 -> 1.1271101 | N18: =I18-L18 -> 5645325114 | O18: =L18/I18*100 -> 2.5197477
D19: Totali i Shpenzimeve buxhetore te Ministrise (Kap 01,02,03,04,05,08,22) | E19: =SUM(E12:E18) -> 3.9542809e+10 | F19: 100 | G19: =SUM(G12:G18) -> 58948560000 | H19: 100 | I19: =SUM(I12:I18) -> 58948560000 | J19: 100 | K19: =SUM(K12:K18) -> 0 | L19: =SUM(L12:L18) -> 12946817884 | M19: 100 | N19: =SUM(N12:N18) -> 46001742116 | O19: =L19/I19*100 -> 21.962908
D20: Shpenzime nga te Ardhurat Jashte limitit (Kap 06) | E20: 24682000
D21: Totali Shpenzimeve te Ministrisë | O21: =L21/I19*100 -> 0
B22: Shpenzimet sipas klasifikimit ekonomik
B23: Artikulli | D23: Emërtimi
B24: 600 | D24: Paga | E24: ='Aneksi 2.0 Planif'!D15+'Aneksi 2.0 Forcat e Luftimit'!D15+'Aneksi 2.0 MBSHT.LUFTIMIT'!D18+'Aneksi 2.0 Mbësht .Shëndetësinë'!D15+'Aneksi 2.0 Arsimi Ushtarak'!D15+'Aneksi 2.0 Mbeshtet. Ushtaraket'!D15+'Aneksi 2.0 Emergjencat Civile'!D15 -> 10536588852 | F24: =E24/E41*100 -> 26.64603 | G24: ='Aneksi 2.0 Planif'!F15+'Aneksi 2.0 Forcat e Luftimit'!F15+'Aneksi 2.0 MBSHT.LUFTIMIT'!F18+'Aneksi 2.0 Mbësht .Shëndetësinë'!F15+'Aneksi 2.0 Arsimi Ushtarak'!F15+'Aneksi 2.0 Mbeshtet. Ushtaraket'!F15+'Aneksi 2.0 Emergjencat Civile'!F15 -> 11081484000 | H24: =G24/G41*100 -> 18.798566 | I24: ='Aneksi 2.0 Planif'!H15+'Aneksi 2.0 Forcat e Luftimit'!H15+'Aneksi 2.0 MBSHT.LUFTIMIT'!H18+'Aneksi 2.0 Mbësht .Shëndetësinë'!H15+'Aneksi 2.0 Arsimi Ushtarak'!H15+'Aneksi 2.0 Mbeshtet. Ushtaraket'!H15+'Aneksi 2.0 Emergjencat Civile'!H15 -> 11081484000 | J24: =I24/I41*100 -> 18.798566 | K24: =I24-G24 -> 0 | L24: ='Aneksi 2.0 Planif'!K15+'Aneksi 2.0 Forcat e Luftimit'!K15+'Aneksi 2.0 MBSHT.LUFTIMIT'!K18+'Aneksi 2.0 Mbësht .Shëndetësinë'!K15+'Aneksi 2.0 Arsimi Ushtarak'!K15+'Aneksi 2.0 Mbeshtet. Ushtaraket'!K15+'Aneksi 2.0 Emergjencat Civile'!K15 -> 3688379194 | M24: =L24/L41*100 -> 28.488693 | N24: =I24-L24 -> 7393104806 | O24: =L24/I24*100 -> 33.284163
B25: 601 | D25: Sigurime Shoqërore | E25: ='Aneksi 2.0 Planif'!D16+'Aneksi 2.0 Forcat e Luftimit'!D16+'Aneksi 2.0 MBSHT.LUFTIMIT'!D19+'Aneksi 2.0 Mbësht .Shëndetësinë'!D16+'Aneksi 2.0 Arsimi Ushtarak'!D16+'Aneksi 2.0 Mbeshtet. Ushtaraket'!D16+'Aneksi 2.0 Emergjencat Civile'!D16 -> 1757112916 | F25: =E25/E41*100 -> 4.4435713 | G25: ='Aneksi 2.0 Planif'!F16+'Aneksi 2.0 Forcat e Luftimit'!F16+'Aneksi 2.0 MBSHT.LUFTIMIT'!F19+'Aneksi 2.0 Mbësht .Shëndetësinë'!F16+'Aneksi 2.0 Arsimi Ushtarak'!F16+'Aneksi 2.0 Mbeshtet. Ushtaraket'!F16+'Aneksi 2.0 Emergjencat Civile'!F16 -> 1911230000 | H25: =G25/G41*100 -> 3.2421996 | I25: ='Aneksi 2.0 Planif'!H16+'Aneksi 2.0 Forcat e Luftimit'!H16+'Aneksi 2.0 MBSHT.LUFTIMIT'!H19+'Aneksi 2.0 Mbësht .Shëndetësinë'!H16+'Aneksi 2.0 Arsimi Ushtarak'!H16+'Aneksi 2.0 Mbeshtet. Ushtaraket'!H16+'Aneksi 2.0 Emergjencat Civile'!H16 -> 1911230000 | J25: =I25/I41*100 -> 3.2421996 | K25: =I25-G25 -> 0 | L25: ='Aneksi 2.0 Planif'!K16+'Aneksi 2.0 Forcat e Luftimit'!K16+'Aneksi 2.0 MBSHT.LUFTIMIT'!K19+'Aneksi 2.0 Mbësht .Shëndetësinë'!K16+'Aneksi 2.0 Arsimi Ushtarak'!K16+'Aneksi 2.0 Mbeshtet. Ushtaraket'!K16+'Aneksi 2.0 Emergjencat Civile'!K16 -> 639270024 | M25: =L25/L41*100 -> 4.9376614 | N25: =I25-L25 -> 1271959976 | O25: =L25/I25*100 -> 33.448095
B26: 602 | D26: Mallra dhe Shërbime të Tjera | E26: ='Aneksi 2.0 Planif'!D17+'Aneksi 2.0 Forcat e Luftimit'!D17+'Aneksi 2.0 MBSHT.LUFTIMIT'!D20+'Aneksi 2.0 Mbësht .Shëndetësinë'!D17+'Aneksi 2.0 Arsimi Ushtarak'!D17+'Aneksi 2.0 Mbeshtet. Ushtaraket'!D17+'Aneksi 2.0 Emergjencat Civile'!D17 -> 8.252993e+09 | F26: =E26/E41*100 -> 20.871034 | G26: ='Aneksi 2.0 Planif'!F17+'Aneksi 2.0 Forcat e Luftimit'!F17+'Aneksi 2.0 MBSHT.LUFTIMIT'!F20+'Aneksi 2.0 Mbësht .Shëndetësinë'!F17+'Aneksi 2.0 Arsimi Ushtarak'!F17+'Aneksi 2.0 Mbeshtet. Ushtaraket'!F17+'Aneksi 2.0 Emergjencat Civile'!F17 -> 9487687000 | H26: =G26/G41*100 -> 16.094858 | I26: ='Aneksi 2.0 Planif'!H17+'Aneksi 2.0 Forcat e Luftimit'!H17+'Aneksi 2.0 MBSHT.LUFTIMIT'!H20+'Aneksi 2.0 Mbësht .Shëndetësinë'!H17+'Aneksi 2.0 Arsimi Ushtarak'!H17+'Aneksi 2.0 Mbeshtet. Ushtaraket'!H17+'Aneksi 2.0 Emergjencat Civile'!H17 -> 9487687000 | J26: =I26/I41*100 -> 16.094858 | K26: =I26-G26 -> 0 | L26: ='Aneksi 2.0 Planif'!K17+'Aneksi 2.0 Forcat e Luftimit'!K17+'Aneksi 2.0 MBSHT.LUFTIMIT'!K20+'Aneksi 2.0 Mbësht .Shëndetësinë'!K17+'Aneksi 2.0 Arsimi Ushtarak'!K17+'Aneksi 2.0 Mbeshtet. Ushtaraket'!K17+'Aneksi 2.0 Emergjencat Civile'!K17 -> 2373288186 | M26: =L26/L41*100 -> 18.331054 | N26: =I26-L26 -> 7114398814 | O26: =L26/I26*100 -> 25.014402
B27: 603 | D27: Subvencione | E27: ='Aneksi 2.0 Planif'!D18+'Aneksi 2.0 Forcat e Luftimit'!D18+'Aneksi 2.0 MBSHT.LUFTIMIT'!D21+'Aneksi 2.0 Mbësht .Shëndetësinë'!D18+'Aneksi 2.0 Arsimi Ushtarak'!D18+'Aneksi 2.0 Mbeshtet. Ushtaraket'!D18+'Aneksi 2.0 Emergjencat Civile'!D18 -> 0 | F27: =E27/E41*100 -> 0 | G27: ='Aneksi 2.0 Planif'!F18+'Aneksi 2.0 Forcat e Luftimit'!F18+'Aneksi 2.0 MBSHT.LUFTIMIT'!F21+'Aneksi 2.0 Mbësht .Shëndetësinë'!F18+'Aneksi 2.0 Arsimi Ushtarak'!F18+'Aneksi 2.0 Mbeshtet. Ushtaraket'!F18+'Aneksi 2.0 Emergjencat Civile'!F18 -> 0 | H27: =G27/G41*100 -> 0 | I27: ='Aneksi 2.0 Planif'!H18+'Aneksi 2.0 Forcat e Luftimit'!H18+'Aneksi 2.0 MBSHT.LUFTIMIT'!H21+'Aneksi 2.0 Mbësht .Shëndetësinë'!H18+'Aneksi 2.0 Arsimi Ushtarak'!H18+'Aneksi 2.0 Mbeshtet. Ushtaraket'!H18+'Aneksi 2.0 Emergjencat Civile'!H18 -> 0 | J27: =I27/I41*100 -> 0 | K27: =I27-G27 -> 0 | L27: ='Aneksi 2.0 Planif'!K18+'Aneksi 2.0 Forcat e Luftimit'!K18+'Aneksi 2.0 MBSHT.LUFTIMIT'!K21+'Aneksi 2.0 Mbësht .Shëndetësinë'!K18+'Aneksi 2.0 Arsimi Ushtarak'!K18+'Aneksi 2.0 Mbeshtet. Ushtaraket'!K18+'Aneksi 2.0 Emergjencat Civile'!K18 -> 0 | M27: =L27/L41*100 -> 0 | N27: =I27-L27 -> 0 | O27: =L27/I27*100 -> #DIV/0!
B28: 604 | D28: Transferta Korente të Brendshme | E28: ='Aneksi 2.0 Planif'!D19+'Aneksi 2.0 Forcat e Luftimit'!D19+'Aneksi 2.0 MBSHT.LUFTIMIT'!D22+'Aneksi 2.0 Mbësht .Shëndetësinë'!D19+'Aneksi 2.0 Arsimi Ushtarak'!D19+'Aneksi 2.0 Mbeshtet. Ushtaraket'!D19+'Aneksi 2.0 Emergjencat Civile'!D19 -> 5.8190889e+09 | F28: =E28/E41*100 -> 14.715922 | G28: ='Aneksi 2.0 Planif'!F19+'Aneksi 2.0 Forcat e Luftimit'!F19+'Aneksi 2.0 MBSHT.LUFTIMIT'!F22+'Aneksi 2.0 Mbësht .Shëndetësinë'!F19+'Aneksi 2.0 Arsimi Ushtarak'!F19+'Aneksi 2.0 Mbeshtet. Ushtaraket'!F19+'Aneksi 2.0 Emergjencat Civile'!F19 -> 5700000000 | H28: =G28/G41*100 -> 9.6694474 | I28: ='Aneksi 2.0 Planif'!H19+'Aneksi 2.0 Forcat e Luftimit'!H19+'Aneksi 2.0 MBSHT.LUFTIMIT'!H22+'Aneksi 2.0 Mbësht .Shëndetësinë'!H19+'Aneksi 2.0 Arsimi Ushtarak'!H19+'Aneksi 2.0 Mbeshtet. Ushtaraket'!H19+'Aneksi 2.0 Emergjencat Civile'!H19 -> 5700000000 | J28: =I28/I41*100 -> 9.6694474 | K28: =I28-G28 -> 0 | L28: ='Aneksi 2.0 Planif'!K19+'Aneksi 2.0 Forcat e Luftimit'!K19+'Aneksi 2.0 MBSHT.LUFTIMIT'!K22+'Aneksi 2.0 Mbësht .Shëndetësinë'!K19+'Aneksi 2.0 Arsimi Ushtarak'!K19+'Aneksi 2.0 Mbeshtet. Ushtaraket'!K19+'Aneksi 2.0 Emergjencat Civile'!K19 -> 2008971865 | M28: =L28/L41*100 -> 15.517109 | N28: =I28-L28 -> 3691028135 | O28: =L28/I28*100 -> 35.24512
B29: 605 | D29: Transferta Korente të Huaja | E29: ='Aneksi 2.0 Planif'!D20+'Aneksi 2.0 Forcat e Luftimit'!D20+'Aneksi 2.0 MBSHT.LUFTIMIT'!D23+'Aneksi 2.0 Mbësht .Shëndetësinë'!D20+'Aneksi 2.0 Arsimi Ushtarak'!D20+'Aneksi 2.0 Mbeshtet. Ushtaraket'!D20+'Aneksi 2.0 Emergjencat Civile'!D20 -> 251389673 | F29: =E29/E41*100 -> 0.63574056 | G29: ='Aneksi 2.0 Planif'!F20+'Aneksi 2.0 Forcat e Luftimit'!F20+'Aneksi 2.0 MBSHT.LUFTIMIT'!F23+'Aneksi 2.0 Mbësht .Shëndetësinë'!F20+'Aneksi 2.0 Arsimi Ushtarak'!F20+'Aneksi 2.0 Mbeshtet. Ushtaraket'!F20+'Aneksi 2.0 Emergjencat Civile'!F20 -> 293424000 | H29: =G29/G41*100 -> 0.4977628 | I29: ='Aneksi 2.0 Planif'!H20+'Aneksi 2.0 Forcat e Luftimit'!H20+'Aneksi 2.0 MBSHT.LUFTIMIT'!H23+'Aneksi 2.0 Mbësht .Shëndetësinë'!H20+'Aneksi 2.0 Arsimi Ushtarak'!H20+'Aneksi 2.0 Mbeshtet. Ushtaraket'!H20+'Aneksi 2.0 Emergjencat Civile'!H20 -> 293424000 | J29: =I29/I41*100 -> 0.4977628 | K29: =I29-G29 -> 0 | L29: ='Aneksi 2.0 Planif'!K20+'Aneksi 2.0 Forcat e Luftimit'!K20+'Aneksi 2.0 MBSHT.LUFTIMIT'!K23+'Aneksi 2.0 Mbësht .Shëndetësinë'!K20+'Aneksi 2.0 Arsimi Ushtarak'!K20+'Aneksi 2.0 Mbeshtet. Ushtaraket'!K20+'Aneksi 2.0 Emergjencat Civile'!K20 -> 156610464 | M29: =L29/L41*100 -> 1.2096445 | N29: =I29-L29 -> 136813536 | O29: =L29/I29*100 -> 53.373434
B30: 606 | D30: Trans per Buxh. Fam. & Individ | E30: ='Aneksi 2.0 Planif'!D21+'Aneksi 2.0 Forcat e Luftimit'!D21+'Aneksi 2.0 MBSHT.LUFTIMIT'!D24+'Aneksi 2.0 Mbësht .Shëndetësinë'!D21+'Aneksi 2.0 Arsimi Ushtarak'!D21+'Aneksi 2.0 Mbeshtet. Ushtaraket'!D21+'Aneksi 2.0 Emergjencat Civile'!D21 -> 634933054 | F30: =E30/E41*100 -> 1.6056853 | G30: ='Aneksi 2.0 Planif'!F21+'Aneksi 2.0 Forcat e Luftimit'!F21+'Aneksi 2.0 MBSHT.LUFTIMIT'!F24+'Aneksi 2.0 Mbësht .Shëndetësinë'!F21+'Aneksi 2.0 Arsimi Ushtarak'!F21+'Aneksi 2.0 Mbeshtet. Ushtaraket'!F21+'Aneksi 2.0 Emergjencat Civile'!F21 -> 578685000 | H30: =G30/G41*100 -> 0.98167792 | I30: ='Aneksi 2.0 Planif'!H21+'Aneksi 2.0 Forcat e Luftimit'!H21+'Aneksi 2.0 MBSHT.LUFTIMIT'!H24+'Aneksi 2.0 Mbësht .Shëndetësinë'!H21+'Aneksi 2.0 Arsimi Ushtarak'!H21+'Aneksi 2.0 Mbeshtet. Ushtaraket'!H21+'Aneksi 2.0 Emergjencat Civile'!H21 -> 578685000 | J30: =I30/I41*100 -> 0.98167792 | K30: =I30-G30 -> 0 | L30: ='Aneksi 2.0 Planif'!K21+'Aneksi 2.0 Forcat e Luftimit'!K21+'Aneksi 2.0 MBSHT.LUFTIMIT'!K24+'Aneksi 2.0 Mbësht .Shëndetësinë'!K21+'Aneksi 2.0 Arsimi Ushtarak'!K21+'Aneksi 2.0 Mbeshtet. Ushtaraket'!K21+'Aneksi 2.0 Emergjencat Civile'!K21 -> 197338355 | M30: =L30/L41*100 -> 1.5242228 | N30: =I30-L30 -> 381346645 | O30: =L30/I30*100 -> 34.10117
D31: Nen-Totali Shpenzime Korrente | E31: =SUM(E24:E30) -> 2.7252106e+10 | F31: =E31/E41*100 -> 68.917983 | G31: =SUM(G24:G30) -> 29052510000 | H31: =G31/G41*100 -> 49.284512 | I31: =SUM(I24:I30) -> 29052510000 | J31: =I31/I41*100 -> 49.284512 | K31: =SUM(K24:K30) -> 0 | L31: =SUM(L24:L30) -> 9063858088 | M31: =L31/L41*100 -> 70.008385 | N31: =SUM(N24:N30) -> 19988651912 | O31: =L31/I31*100 -> 31.198193
B32: 230 | D32: Kapitale të Patrupëzuara | E32: 1.4002212e+08 | F32: 0 | H32: 0 | J32: 0 | K32: =I32-G32 -> 0 | M32: 0 | N32: =I32-L32 -> 0 | O32: =L32/I32*100 -> #DIV/0!
B33: 231 | D33: Kapitale të Trupëzuara | E33: 1.215068e+10 | F33: =E33/E41 -> 0.30727914 | G33: ='Aneksi 2.0 Planif'!F24+'Aneksi 2.0 Forcat e Luftimit'!F24+'Aneksi 2.0 MBSHT.LUFTIMIT'!F27+'Aneksi 2.0 Mbësht .Shëndetësinë'!F24+'Aneksi 2.0 Arsimi Ushtarak'!F24+'Aneksi 2.0 Mbeshtet. Ushtaraket'!F24+'Aneksi 2.0 Emergjencat Civile'!F24 -> 16884000000 | H33: =G33/G41 -> 0.28641921 | I33: ='Aneksi 2.0 Planif'!H24+'Aneksi 2.0 Forcat e Luftimit'!H24+'Aneksi 2.0 MBSHT.LUFTIMIT'!H27+'Aneksi 2.0 Mbësht .Shëndetësinë'!H24+'Aneksi 2.0 Arsimi Ushtarak'!H24+'Aneksi 2.0 Mbeshtet. Ushtaraket'!H24+'Aneksi 2.0 Emergjencat Civile'!H24 -> 16884000000 | J33: =I33/I41 -> 0.28641921 | K33: =I33-G33 -> 0 | L33: ='Aneksi 2.0 Planif'!K24+'Aneksi 2.0 Forcat e Luftimit'!K24+'Aneksi 2.0 MBSHT.LUFTIMIT'!K27+'Aneksi 2.0 Mbësht .Shëndetësinë'!K24+'Aneksi 2.0 Arsimi Ushtarak'!K24+'Aneksi 2.0 Mbeshtet. Ushtaraket'!K24+'Aneksi 2.0 Emergjencat Civile'!K24 -> 3865693875 | M33: =L33/L41 -> 0.29858255 | N33: =I33-L33 -> 13018306125 | O33: =L33/I33*100 -> 22.895605
D34: Nen-Totali Shpenzime Kapitale me financim te brendshem | E34: =E32+E33 -> 1.2290703e+10 | F34: =E34/E41*100 -> 31.082017 | G34: =G32+G33 -> 16884000000 | H34: =G34/G41*100 -> 28.641921 | I34: =I32+I33 -> 16884000000 | J34: =I34/I41*100 -> 28.641921 | K34: =K32+K33 -> 0 | L34: =L32+L33 -> 3865693875 | M34: =L34/L41*100 -> 29.858255 | N34: =N32+N33 -> 13018306125 | O34: =L34/I34*100 -> 22.895605
B35: 230 | D35: Kapitale të Patrupëzuara | E35: ='Aneksi 2.0 Planif'!D26+'Aneksi 2.0 Forcat e Luftimit'!D26+'Aneksi 2.0 MBSHT.LUFTIMIT'!D32 -> 0 | F35: 0 | G35: 0 | H35: 0 | J35: 0 | K35: =I35-G35 -> 0 | M35: 0 | N35: =I35-L35 -> 0 | O35: =L35/I35*100 -> #DIV/0!
B36: 231 | D36: Kapitale të Trupëzuara | F36: 0.4 | G36: ='Aneksi 2.0 Planif'!F27+'Aneksi 2.0 Forcat e Luftimit'!F27+'Aneksi 2.0 MBSHT.LUFTIMIT'!F30+'Aneksi 2.0 Mbësht .Shëndetësinë'!F27+'Aneksi 2.0 Arsimi Ushtarak'!F27+'Aneksi 2.0 Mbeshtet. Ushtaraket'!F27+'Aneksi 2.0 Emergjencat Civile'!F27 -> 13012050000 | H36: 0 | I36: ='Aneksi 2.0 Planif'!H27+'Aneksi 2.0 Forcat e Luftimit'!H27+'Aneksi 2.0 MBSHT.LUFTIMIT'!H30+'Aneksi 2.0 Mbësht .Shëndetësinë'!H27+'Aneksi 2.0 Arsimi Ushtarak'!H27+'Aneksi 2.0 Mbeshtet. Ushtaraket'!H27+'Aneksi 2.0 Emergjencat Civile'!H27 -> 13012050000 | J36: 0.4 | K36: =I36-G36 -> 0 | L36: ='Aneksi 2.0 Planif'!K27+'Aneksi 2.0 Forcat e Luftimit'!K27+'Aneksi 2.0 MBSHT.LUFTIMIT'!K30+'Aneksi 2.0 Mbësht .Shëndetësinë'!K27+'Aneksi 2.0 Arsimi Ushtarak'!K27+'Aneksi 2.0 Mbeshtet. Ushtaraket'!K27+'Aneksi 2.0 Emergjencat Civile'!K27 -> 17265921 | M36: 0.4 | N36: =I36-L36 -> 12994784079 | O36: =L36/I36*100 -> 0.13269178
D37: Nen-Totali Shpenzime Kapitale me financim te huaj | F37: 0.4 | G37: =SUM(G35:G36) -> 13012050000 | H37: =G37/G41*100 -> 22.073567 | I37: =SUM(I35:I36) -> 13012050000 | J37: 0.4 | L37: =SUM(L35:L36) -> 17265921 | M37: 0.4 | N37: =SUM(N35:N36) -> 12994784079 | O37: =L37/I37*100 -> 0.13269178
D38: Totali Shpenzime Kapitale | E38: =E34 -> 1.2290703e+10 | F38: =F34 -> 31.082017 | G38: =G34+G37 -> 29896050000 | H38: =H34+H37 -> 50.715488 | I38: =I34+I37 -> 29896050000 | J38: =J34 -> 28.641921 | K38: =K34+K37 -> 0 | L38: =L34+L37 -> 3882959796 | M38: =M34 -> 29.858255 | N38: =N34+N37 -> 26013090204 | O38: =L38/I38*100 -> 12.988203
D39: Totali i Shpenz. Buxhetore te Ministrise/Institucionit Buxhetor | E39: =E31+E38 -> 3.9542809e+10 | F39: =F31+F38 -> 100 | H39: =H31+H38 -> 100 | I39: =I31+I38 -> 58948560000 | J39: =J31+J38 -> 77.926433 | K39: =K31+K38 -> 0 | L39: =L31+L38 -> 12946817884 | M39: =M31+M38 -> 99.86664 | N39: =N31+N38 -> 46001742116 | O39: =L39/I39*100 -> 21.962908
D40: Shpenzime nga te Ardhurat Jashte limitit (Kap 06) | E40: 202276000 | G40: 203056246 | I40: =G40 -> 203056246 | L40: 4574427 | N40: =I40-L40 -> 198481819 | O40: =L40/I40*100 -> 2.2527881
D41: Totali (Korrente + Kapitale +me finacim te bendshem +finacimi I huaj) | E41: =E31+E34 -> 3.9542809e+10 | F41: =F31+F38 -> 100 | G41: =G31+G38 -> 58948560000 | H41: =H31+H34+H37 -> 100 | I41: =I31+I34+I37 -> 58948560000 | J41: =J31+J34 -> 77.926433 | K41: =K31+K34+K37 -> 0 | L41: =L31+L34+L37 -> 12946817884 | M41: =M31+M38 -> 99.86664 | N41: =N31+N34+N37 -> 46001742116 | O41: =L41/I41*100 -> 21.962908
D42: Totali (Korrente + Kapitale +me finacim te bendshem sipas Sifqit) | E42: =E41 -> 3.9542809e+10 | G42: =G41-G37 -> 45936510000 | I42: =I41-I37 -> 45936510000 | K42: =K41-K37 -> 0 | L42: =L39 -> 12946817884 | N42: =N41-N37 -> 33006958037 | O42: =L42/I42*100 -> 28.184157
D43: Numri i punonjësve | E43: 8489 | G43: 9299 | I43: 9299 | L43: 9299 | N43: =I43-L43 -> 0

Sheet Aneksi 1.2
C2: Aneksi 1.2 "Shpenzimet Buxhetore në Total Programi dhe Total Ministrie/Institucioni Buxhetor"
C3: Periudha e Raportimit 04-2026
D4: në/lekë
C5: Kodi i Ministris | D5: Kodi i Programi | E5: Emërtimi i Programit | F5: Viti | G5: Tipi i Buxhetit | H5: Art. 231 HUAJ | I5: Art. 231 | J5: Art. 600 | K5: Art. 601 | L5: Art. 602 | M5: Art. 603 | N5: Art. 604 | O5: Art. 605 | P5: Art. 606 | Q5: Total
C6: 17 | D6: 01110 | E6: Planifikimi, Menaxhimi dhe Administrimi | F6: 2026 | G6: Plani fillestar | I6: ='Aneksi 2.0 Planif'!F25 -> 80000000 | J6: ='Aneksi 2.0 Planif'!F15 -> 612980000 | K6: ='Aneksi 2.0 Planif'!F16 -> 114900000 | L6: ='Aneksi 2.0 Planif'!F17 -> 399896000 | M6: ='Aneksi 2.0 Planif'!F18 -> 0 | N6: ='Aneksi 2.0 Planif'!F19 -> 0 | O6: ='Aneksi 2.0 Planif'!F20 -> 275424000 | P6: ='Aneksi 2.0 Planif'!F21 -> 33000000 | Q6: =SUM(H6:P6) -> 1516200000
C7: 17 | D7: 01110 | E7: Planifikimi, Menaxhimi dhe Administrimi | F7: 2026 | G7: Plani i rishikuar | I7: ='Aneksi 2.0 Planif'!H25 -> 80000000 | J7: ='Aneksi 2.0 Planif'!H15 -> 612980000 | K7: ='Aneksi 2.0 Planif'!H16 -> 114900000 | L7: ='Aneksi 2.0 Planif'!H17 -> 399896000 | M7: ='Aneksi 2.0 Planif'!H18 -> 0 | N7: ='Aneksi 2.0 Planif'!H19 -> 0 | O7: ='Aneksi 2.0 Planif'!H20 -> 275424000 | P7: ='Aneksi 2.0 Planif'!H21 -> 33000000 | Q7: =SUM(H7:P7) -> 1516200000
C8: 17 | D8: 01110 | E8: Planifikimi, Menaxhimi dhe Administrimi | F8: 2026 | G8: Shpenzime faktike | J8: ='Aneksi 2.0 Planif'!K15 -> 170597674 | K8: ='Aneksi 2.0 Planif'!K16 -> 34485603 | L8: ='Aneksi 2.0 Planif'!K17 -> 207346272 | O8: ='Aneksi 2.0 Planif'!K20 -> 146500000 | P8: ='Aneksi 2.0 Planif'!K21 -> 8871905 | Q8: =SUM(H8:P8) -> 567801454
C9: 17 | D9: 01110 | E9: Planifikimi, Menaxhimi dhe Administrimi | F9: 2026 | G9: Angazhime | Q9: =SUM(H9:P9) -> 0
C10: 17 | E10: Ndryshimi ne vlere absolute | F10: 2026 | Q10: =SUM(H10:P10) -> 0
C11: 17 | E11: Realizimi ne % | F11: 2026 | I11: =I8/I7*100 -> 0 | J11: =J8/J7*100 -> 27.830871 | K11: =K8/K7*100 -> 30.01358 | L11: =L8/L7*100 -> 51.850049 | O11: =O8/O7*100 -> 53.190717 | P11: =P8/P7*100 -> 26.884561 | Q11: =Q8/Q7*100 -> 37.448981
C12: 17 | E12: Te ardhura jashte limiti | F12: 2026 | G12: Shpenzime faktike | Q12: =SUM(H12:P12) -> 0
C13: 17 | D13: 02120 | E13: Forcat e Luftimit | F13: 2026 | G13: Plani fillestar | H13: ='Aneksi 2.0 Forcat e Luftimit'!F28 -> 11000000000 | I13: ='Aneksi 2.0 Forcat e Luftimit'!F25 -> 10661500000 | J13: ='Aneksi 2.0 Forcat e Luftimit'!F15 -> 4974568000 | K13: ='Aneksi 2.0 Forcat e Luftimit'!F16 -> 892730000 | L13: ='Aneksi 2.0 Forcat e Luftimit'!F17 -> 3823076000 | P13: ='Aneksi 2.0 Forcat e Luftimit'!F21 -> 40000000 | Q13: =SUM(H13:P13) -> 31391874000
C14: 17 | D14: 02120 | E14: Forcat e Luftimit | F14: 2026 | G14: Plani i rishikuar | H14: ='Aneksi 2.0 Forcat e Luftimit'!H28 -> 11000000000 | I14: ='Aneksi 2.0 Forcat e Luftimit'!H25 -> 10661500000 | J14: ='Aneksi 2.0 Forcat e Luftimit'!H15 -> 4974568000 | K14: ='Aneksi 2.0 Forcat e Luftimit'!H16 -> 892730000 | L14: ='Aneksi 2.0 Forcat e Luftimit'!H17 -> 3823076000 | P14: ='Aneksi 2.0 Forcat e Luftimit'!H21 -> 40000000 | Q14: =SUM(H14:P14) -> 31391874000
C15: 17 | D15: 02120 | E15: Forcat e Luftimit | F15: 2026 | G15: Shpenzime faktike | H15: ='Aneksi 2.0 Forcat e Luftimit'!K28 -> 0 | I15: ='Aneksi 2.0 Forcat e Luftimit'!K25 -> 3794642711 | J15: ='Aneksi 2.0 Forcat e Luftimit'!K15 -> 1756549523 | K15: ='Aneksi 2.0 Forcat e Luftimit'!K16 -> 294310477 | L15: ='Aneksi 2.0 Forcat e Luftimit'!K17 -> 1165695022 | P15: ='Aneksi 2.0 Forcat e Luftimit'!K21 -> 15106500 | Q15: =SUM(H15:P15) -> 7026304233
C16: 17 | D16: 02120 | E16: Forcat e Luftimit | F16: 2026 | G16: Angazhime | Q16: =SUM(H16:P16) -> 0
C17: 17 | E17: Ndryshimi ne vlere absolute | F17: 2026 | Q17: =SUM(H17:P17) -> 0
C18: 17 | E18: Realizimi ne % | F18: 2026 | H18: =H15/H14*100 -> 0 | I18: =I15/I14*100 -> 35.592015 | J18: =J15/J14*100 -> 35.310594 | K18: =K15/K14*100 -> 32.967468 | L18: =L15/L14*100 -> 30.491024 | M18: 0 | N18: 0 | O18: 0 | P18: =P15/P14*100 -> 37.76625 | Q18: =Q15/Q14*100 -> 22.382557
C19: 17 | D19: 02150 | E19: Mbështetja e Luftimit | F19: 2026 | G19: Plani fillestar | I19: ='Aneksi 2.0 MBSHT.LUFTIMIT'!F28 -> 2265500000 | J19: ='Aneksi 2.0 MBSHT.LUFTIMIT'!F18 -> 3941500000 | K19: ='Aneksi 2.0 MBSHT.LUFTIMIT'!F19 -> 641300000 | L19: ='Aneksi 2.0 MBSHT.LUFTIMIT'!F20 -> 3944551000 | P19: ='Aneksi 2.0 MBSHT.LUFTIMIT'!F24 -> 363685000 | Q19: =SUM(H19:P19) -> 11156536000
C20: 17 | D20: 02150 | E20: Mbështetja e Luftimit | F20: 2026 | G20: Plani i rishikuar | I20: ='Aneksi 2.0 MBSHT.LUFTIMIT'!H28 -> 2265500000 | J20: ='Aneksi 2.0 MBSHT.LUFTIMIT'!H18 -> 3941500000 | K20: ='Aneksi 2.0 MBSHT.LUFTIMIT'!H19 -> 641300000 | L20: ='Aneksi 2.0 MBSHT.LUFTIMIT'!H20 -> 3944551000 | P20: ='Aneksi 2.0 MBSHT.LUFTIMIT'!H24 -> 363685000 | Q20: =SUM(H20:P20) -> 11156536000
C21: 17 | D21: 02150 | E21: Mbështetja e Luftimit | F21: 2026 | G21: Shpenzime faktike | I21: ='Aneksi 2.0 MBSHT.LUFTIMIT'!K28 -> 37980094 | J21: ='Aneksi 2.0 MBSHT.LUFTIMIT'!K18 -> 1339938913 | K21: ='Aneksi 2.0 MBSHT.LUFTIMIT'!K19 -> 226770233 | L21: ='Aneksi 2.0 MBSHT.LUFTIMIT'!K20 -> 810831620 | P21: ='Aneksi 2.0 MBSHT.LUFTIMIT'!K24 -> 87900699 | Q21: =SUM(H21:P21) -> 2503421559
C22: 17 | D22: 02150 | E22: Mbështetja e Luftimit | F22: 2026 | G22: Angazhime | Q22: =SUM(H22:P22) -> 0
C23: 17 | E23: Ndryshimi ne vlere absolute | F23: 2026 | Q23: =SUM(H23:P23) -> 0
C24: 17 | E24: Realizimi ne % | F24: 2026 | I24: =I21/I20*100 -> 1.6764553 | J24: =J21/J20*100 -> 33.995659 | K24: =K21/K20*100 -> 35.361022 | L24: =L21/L20*100 -> 20.555739 | P24: =P21/P20*100 -> 24.16946 | Q24: =Q21/Q20*100 -> 22.439058
C25: 17 | D25: 07340 | E25: Mbështetja për Shëndetësinë | F25: 2026 | G25: Plani fillestar | I25: ='Aneksi 2.0 Mbësht .Shëndetësinë'!F25 -> 500000000 | J25: ='Aneksi 2.0 Mbësht .Shëndetësinë'!F15 -> 715336000 | K25: ='Aneksi 2.0 Mbësht .Shëndetësinë'!F16 -> 119300000 | L25: ='Aneksi 2.0 Mbësht .Shëndetësinë'!F17 -> 798164000 | P25: ='Aneksi 2.0 Mbësht .Shëndetësinë'!F21 -> 2000000 | Q25: =SUM(H25:P25) -> 2134800000
C26: 17 | D26: 07340 | E26: Mbështetja për Shëndetësinë | F26: 2026 | G26: Plani i rishikuar | I26: ='Aneksi 2.0 Mbësht .Shëndetësinë'!H25 -> 500000000 | J26: ='Aneksi 2.0 Mbësht .Shëndetësinë'!H15 -> 715336000 | K26: ='Aneksi 2.0 Mbësht .Shëndetësinë'!H16 -> 119300000 | L26: ='Aneksi 2.0 Mbësht .Shëndetësinë'!H17 -> 798164000 | P26: ='Aneksi 2.0 Mbësht .Shëndetësinë'!H21 -> 2000000 | Q26: =SUM(H26:P26) -> 2134800000
C27: 17 | D27: 07340 | E27: Mbështetja për Shëndetësinë | F27: 2026 | G27: Shpenzime faktike | I27: ='Aneksi 2.0 Mbësht .Shëndetësinë'!K25 -> 2456160 | J27: ='Aneksi 2.0 Mbësht .Shëndetësinë'!K15 -> 246002787 | K27: ='Aneksi 2.0 Mbësht .Shëndetësinë'!K16 -> 40384161 | L27: ='Aneksi 2.0 Mbësht .Shëndetësinë'!K17 -> 164866449 | P27: ='Aneksi 2.0 Mbësht .Shëndetësinë'!K21 -> 789646 | Q27: =SUM(H27:P27) -> 454499203
C28: 17 | D28: 07340 | E28: Mbështetja për Shëndetësinë | F28: 2026 | G28: Angazhime | Q28: =SUM(H28:P28) -> 0
C29: 17 | E29: Ndryshimi ne vlere absolute | F29: 2026 | Q29: =SUM(H29:P29) -> 0
C30: 17 | E30: Realizimi ne % | F30: 2026 | I30: =I27/I26*100 -> 0.491232 | J30: =J27/J26*100 -> 34.389823 | K30: =K27/K26*100 -> 33.850931 | L30: =L27/L26*100 -> 20.655711 | P30: =P27/P26*100 -> 39.4823 | Q30: =Q27/Q26*100 -> 21.290013
C31: 17 | E31: Te ardhura jashte limiti | F31: 2026 | G31: Shpenzime faktike | Q31: =SUM(H31:P31) -> 0
C32: 17 | D32: 09430 | E32: Arsimi Ushtarak | F32: 2026 | G32: Plani fillestar | I32: ='Aneksi 2.0 Arsimi Ushtarak'!F25 -> 857000000 | J32: ='Aneksi 2.0 Arsimi Ushtarak'!F15 -> 575300000 | K32: ='Aneksi 2.0 Arsimi Ushtarak'!F16 -> 104600000 | L32: ='Aneksi 2.0 Arsimi Ushtarak'!F17 -> 81000000 | M32: 0 | O32: 0 | P32: ='Aneksi 2.0 Arsimi Ushtarak'!F21 -> 140000000 | Q32: =SUM(H32:P32) -> 1757900000
C33: 17 | D33: 09430 | E33: Arsimi Ushtarak | F33: 2026 | G33: Plani i rishikuar | I33: ='Aneksi 2.0 Arsimi Ushtarak'!H25 -> 857000000 | J33: ='Aneksi 2.0 Arsimi Ushtarak'!H15 -> 575300000 | K33: ='Aneksi 2.0 Arsimi Ushtarak'!H16 -> 104600000 | L33: ='Aneksi 2.0 Arsimi Ushtarak'!F17 -> 81000000 | M33: 0 | O33: 0 | P33: ='Aneksi 2.0 Arsimi Ushtarak'!H21 -> 140000000 | Q33: =SUM(H33:P33) -> 1757900000
C34: 17 | D34: 09430 | E34: Arsimi Ushtarak | F34: 2026 | G34: Shpenzime faktike | I34: ='Aneksi 2.0 Arsimi Ushtarak'!K25 -> 12239476 | J34: ='Aneksi 2.0 Arsimi Ushtarak'!K15 -> 106092440 | K34: ='Aneksi 2.0 Arsimi Ushtarak'!K16 -> 31861869 | L34: ='Aneksi 2.0 Arsimi Ushtarak'!K17 -> 14003159 | M34: 0 | O34: 0 | P34: ='Aneksi 2.0 Arsimi Ushtarak'!K21 -> 84669605 | Q34: =SUM(H34:P34) -> 248866549
C35: 17 | D35: 09430 | E35: Arsimi Ushtarak | F35: 2026 | G35: Angazhime | Q35: =SUM(H35:P35) -> 0
C36: 17 | E36: Ndryshimi ne vlere absolute | F36: 2026 | Q36: =SUM(H36:P36) -> 0
C37: 17 | E37: Realizimi ne % | F37: 2026 | I37: =I34/I33*100 -> 1.4281769 | J37: =J34/J33*100 -> 18.441238 | K37: =K34/K33*100 -> 30.460678 | L37: =L34/L33*100 -> 17.287851 | P37: =P34/P33*100 -> 60.478289 | Q37: =Q34/Q33*100 -> 14.157037
C38: 17 | E38: Te ardhura jashte limiti | F38: 2026 | G38: Shpenzime faktike | Q38: =SUM(H38:P38) -> 0
C39: 17 | D39: 10270 | E39: Mbështetje për Ushtarakët | F39: 2026 | G39: Plani fillestar | N39: ='Aneksi 2.0 Mbeshtet. Ushtaraket'!F19 -> 5200000000 | Q39: =SUM(H39:P39) -> 5200000000
C40: 17 | D40: 10270 | E40: Mbështetje për Ushtarakët | F40: 2026 | G40: Plani i rishikuar | N40: ='Aneksi 2.0 Mbeshtet. Ushtaraket'!H19 -> 5200000000 | Q40: =SUM(H40:P40) -> 5200000000
C41: 17 | D41: 10270 | E41: Mbështetje për Ushtarakët | F41: 2026 | G41: Shpenzime faktike | N41: ='Aneksi 2.0 Mbeshtet. Ushtaraket'!K19 -> 2000000000 | Q41: =SUM(H41:P41) -> 2000000000
C42: 17 | D42: 10270 | E42: Mbështetje për Ushtarakët | F42: 2026 | G42: Angazhime | Q42: =SUM(H42:P42) -> 0
C43: 17 | E43: Ndryshimi ne vlere absolute | F43: 2026 | Q43: =SUM(H43:P43) -> 0
C44: 17 | E44: Realizimi ne % | F44: 2026 | N44: =N41/N40*100 -> 38.461538 | Q44: =Q41/Q40*100 -> 38.461538
C45: 17 | E45: Te ardhura jashte limiti | F45: 2026 | G45: Shpenzime faktike | Q45: =SUM(H45:P45) -> 0
C46: 17 | D46: 10910 | E46: Emergjencat Civile | F46: 2026 | G46: Plani fillestar | H46: ='Aneksi 2.0 Emergjencat Civile'!F28 -> 2012050000 | I46: ='Aneksi 2.0 Emergjencat Civile'!F25 -> 2520000000 | J46: ='Aneksi 2.0 Emergjencat Civile'!F15 -> 261800000 | K46: ='Aneksi 2.0 Emergjencat Civile'!F16 -> 38400000 | L46: ='Aneksi 2.0 Emergjencat Civile'!F17 -> 441000000 | N46: ='Aneksi 2.0 Emergjencat Civile'!F19 -> 500000000 | O46: ='Aneksi 2.0 Emergjencat Civile'!F20 -> 18000000 | P46: ='Aneksi 2.0 Emergjencat Civile'!F21 -> 0 | Q46: =SUM(H46:P46) -> 5791250000
C47: 17 | D47: 10910 | E47: Emergjencat Civile | F47: 2026 | G47: Plani i rishikuar | H47: ='Aneksi 2.0 Emergjencat Civile'!H28 -> 2012050000 | I47: ='Aneksi 2.0 Emergjencat Civile'!H25 -> 2520000000 | J47: ='Aneksi 2.0 Emergjencat Civile'!H15 -> 261800000 | K47: ='Aneksi 2.0 Emergjencat Civile'!H16 -> 38400000 | L47: ='Aneksi 2.0 Emergjencat Civile'!H17 -> 441000000 | N47: ='Aneksi 2.0 Emergjencat Civile'!H19 -> 500000000 | O47: ='Aneksi 2.0 Emergjencat Civile'!H20 -> 18000000 | P47: ='Aneksi 2.0 Emergjencat Civile'!H21 -> 0 | Q47: =SUM(H47:P47) -> 5791250000
C48: 17 | D48: 10910 | E48: Emergjencat Civile | F48: 2026 | G48: Shpenzime faktike | H48: ='Aneksi 2.0 Emergjencat Civile'!K28 -> 17265921 | I48: ='Aneksi 2.0 Emergjencat Civile'!K25 -> 18375434 | J48: ='Aneksi 2.0 Emergjencat Civile'!K15 -> 69197857 | K48: ='Aneksi 2.0 Emergjencat Civile'!K16 -> 11457681 | L48: ='Aneksi 2.0 Emergjencat Civile'!K17 -> 10545664 | N48: ='Aneksi 2.0 Emergjencat Civile'!K19 -> 8971865 | O48: ='Aneksi 2.0 Emergjencat Civile'!K20 -> 10110464 | P48: ='Aneksi 2.0 Emergjencat Civile'!K21 -> 0 | Q48: =SUM(H48:P48) -> 145924886
C49: 17 | D49: 10910 | E49: Emergjencat Civile | F49: 2026 | G49: Angazhime | Q49: =SUM(H49:P49) -> 0
C50: 17 | E50: Ndryshimi ne vlere absolute | F50: 2026 | Q50: =SUM(H50:P50) -> 0
C51: 17 | E51: Realizimi ne % | F51: 2026 | H51: =H48/H47*100 -> 0.85812584 | I51: =I48/I47*100 -> 0.72918389 | J51: =J48/J47*100 -> 26.431573 | K51: =K48/K47*100 -> 29.837711 | L51: =L48/L47*100 -> 2.391307 | N51: =N48/N47*100 -> 1.794373 | O51: =O48/O47*100 -> 56.169244 | Q51: =Q48/Q47*100 -> 2.5197477
C52: 17 | E52: Total i Ministrisë/Institucionit | F52: 2026 | G52: Plani fillestar | H52: =H6+H13+H19+H25+H32+H39+H46 -> 13012050000 | I52: =I6+I13+I19+I25+I32+I39+I46 -> 16884000000 | J52: =J6+J13+J19+J25+J32+J39+J46 -> 11081484000 | K52: =K6+K13+K19+K25+K32+K39+K46 -> 1911230000 | L52: =L6+L13+L19+L25+L32+L39+L46 -> 9487687000 | M52: =M6+M13+M19+M25+M32+M39+M46 -> 0 | N52: =N6+N13+N19+N25+N32+N39+N46 -> 5700000000 | O52: =O6+O13+O19+O25+O32+O39+O46 -> 293424000 | ... Q52: =Q6+Q13+Q19+Q25+Q32+Q39+Q46 -> 58948560000
C53: 17 | E53: Total i Ministrisë/Institucionit | F53: 2026 | G53: Plani i rishikuar | H53: =H7+H14+H20+H26+H33+H40+H47 -> 13012050000 | I53: =I7+I14+I20+I26+I33+I40+I47 -> 16884000000 | J53: =J7+J14+J20+J26+J33+J40+J47 -> 11081484000 | K53: =K7+K14+K20+K26+K33+K40+K47 -> 1911230000 | L53: =L7+L14+L20+L26+L33+L40+L47 -> 9487687000 | M53: =M7+M14+M20+M26+M33+M40+M47 -> 0 | N53: =N7+N14+N20+N26+N33+N40+N47 -> 5700000000 | O53: =O7+O14+O20+O26+O33+O40+O47 -> 293424000 | ... Q53: =Q7+Q14+Q20+Q26+Q33+Q40+Q47 -> 58948560000
C54: 17 | E54: Total i Ministrisë/Institucionit | F54: 2026 | G54: Shpenzime faktike | H54: =H8+H15+H21+H27+H34+H41+H48 -> 17265921 | I54: =I8+I15+I21+I27+I34+I41+I48 -> 3865693875 | J54: =J8+J15+J21+J27+J34+J41+J48 -> 3688379194 | K54: =K8+K15+K21+K27+K34+K41+K48 -> 639270024 | L54: =L8+L15+L21+L27+L34+L41+L48 -> 2373288186 | M54: =M8+M15+M21+M27+M34+M41+M48 -> 0 | N54: =N8+N15+N21+N27+N34+N41+N48 -> 2008971865 | O54: =O8+O15+O21+O27+O34+O41+O48 -> 156610464 | ... Q54: =Q8+Q15+Q21+Q27+Q34+Q41+Q48 -> 12946817884
C55: 17 | E55: Total i Ministrisë/Institucionit | F55: 2026 | G55: Angazhime
C56: 17 | E56: Numri i punonjesve në Total | F56: 2026 | G56: Plani fillestar | H56: 9299 | Q56: 9299
C57: 17 | E57: Numri i punonjesve në Total | F57: 2026 | G57: Plani i rishikuar | H57: 9299 | Q57: 9299
C58: 17 | E58: Numri i punonjesve në Total | F58: 2026 | G58: Numri faktik | H58: 8846 | Q58: 8846
E59: Realizimi ne % | F59: 2026 | H59: =H54/H53*100 -> 0.13269178 | I59: =I54/I53*100 -> 22.895605 | J59: =J54/J53*100 -> 33.284163 | K59: =K54/K53*100 -> 33.448095 | L59: =L54/L53*100 -> 25.014402 | N59: =N54/N53*100 -> 35.24512 | O59: =O54/O53*100 -> 53.373434 | P59: =P54/P53*100 -> 34.10117 | Q59: =Q54/Q53*100 -> 21.962908

Sheet Aneksi nr.1.1
C2: ANEKSI 1.1 Raporti i Shpenzimeve të Ministrisë/Institucionit sipas kapitujve
C3: Periudha e Raportimit 04-2026
C4: në lekë
C5: Kodi i Ministrisë | D5: Kodi i Kapitullit | E5: Emërtimi i Kapitullit | F5: Periudha raportuese | G5: Buxheti | H5: Artikujt buxhetore
H6: 230 | I6: 231 | J6: 600 | K6: 601 | L6: 602 | M6: 603 | N6: 604 | O6: 605 | P6: 606 | Q6: Total
F7: Periodike /Vjetore | H7: Shpenzime Kapitale të Patrupëzuara | I7: Shpenzime Kapitale të Trupëzuara | J7: Pagat | K7: Kontrib.e Sigurimeve Shoqërore | L7: Mallra dhe Shërbime | M7: Subveci- net | N7: Të Tjera Transfer.Korrente Brendshme | O7: Transfer. Korrente të Huaja | P7: Transferta për Buxhetet Familiare dhe Individët | Q7: Total
C8: 17 | D8: 01 | E8: Nga Buxheti | F8: 2026 | G8: Plani fillestar | I8: ='Aneksi nr.1'!G33 -> 16884000000 | J8: ='Aneksi nr.1'!G24 -> 11081484000 | K8: ='Aneksi nr.1'!G25 -> 1911230000 | L8: ='Aneksi nr.1'!G26 -> 9487687000 | M8: ='Aneksi nr.1'!G27 -> 0 | N8: ='Aneksi nr.1'!G28 -> 5700000000 | O8: ='Aneksi nr.1'!G29 -> 293424000 | P8: ='Aneksi nr.1'!G30 -> 578685000 | Q8: =SUM(H8:P8) -> 45936510000
C9: 17 | D9: 01 | E9: Nga Buxheti | F9: 2026 | G9: Plani i rishikuar | H9: 0 | I9: ='Aneksi nr.1'!I33 -> 16884000000 | J9: ='Aneksi nr.1'!I24 -> 11081484000 | K9: ='Aneksi nr.1'!I25 -> 1911230000 | L9: ='Aneksi nr.1'!I26 -> 9487687000 | M9: ='Aneksi nr.1'!I27 -> 0 | N9: ='Aneksi nr.1'!I28 -> 5700000000 | O9: ='Aneksi nr.1'!I29 -> 293424000 | P9: ='Aneksi nr.1'!I30 -> 578685000 | Q9: =SUM(H9:P9) -> 45936510000
C10: 17 | D10: 01 | E10: Nga Buxheti | F10: 2026 | G10: Fakti | H10: 0 | I10: ='Aneksi nr.1'!L34+'Aneksi 2.0 Emergjencat Civile'!K27 -> 3882959796 | J10: ='Aneksi nr.1'!L24 -> 3688379194 | K10: ='Aneksi nr.1'!L25 -> 639270024 | L10: ='Aneksi nr.1'!L26 -> 2373288186 | M10: ='Aneksi nr.1'!L27 -> 0 | N10: ='Aneksi nr.1'!L28 -> 2008971865 | O10: ='Aneksi nr.1'!L29 -> 156610464 | P10: ='Aneksi nr.1'!L30 -> 197338355 | Q10: =SUM(H10:P10) -> 12946817884
C11: 17 | D11: 01 | E11: Nga Buxheti | F11: 2026 | G11: Angazhime | Q11: =SUM(H11:P11) -> 0
C12: 17 | D12: 02 | E12: Financim i huaj - Grant | F12: 2026 | G12: Plani fillestar | I12: ='Aneksi nr.1'!G37 -> 13012050000 | Q12: =SUM(H12:P12) -> 13012050000
C13: 17 | D13: 02 | E13: Financim i huaj - Grant | F13: 2026 | G13: Plani i rishikuar | I13: ='Aneksi nr.1'!I37 -> 13012050000 | Q13: =SUM(H13:P13) -> 13012050000
C14: 17 | D14: 02 | E14: Financim i huaj - Grant | F14: 2026 | G14: Fakti | H14: 0 | Q14: =SUM(H14:P14) -> 0
C15: 17 | D15: 02 | E15: Financim i huaj - Grant | F15: 2026 | G15: Angazhime | Q15: =SUM(H15:P15) -> 0
C16: 17 | D16: 04 | E16: TVSH, Detyrim Doganor | F16: 2026 | G16: Plani fillestar | Q16: =SUM(H16:P16) -> 0
C17: 17 | D17: 04 | E17: TVSH, Detyrim Doganor | F17: 2026 | G17: Plani i rishikuar | Q17: =SUM(H17:P17) -> 0
C18: 17 | D18: 04 | E18: TVSH, Detyrim Doganor | F18: 2026 | G18: Fakti | H18: 0 | I18: 0 | J18: 0 | K18: 0 | L18: 0 | M18: 0 | N18: 0 | O18: 0 | P18: 0 | Q18: =SUM(H18:P18) -> 0
C19: 17 | D19: 04 | E19: TVSH, Detyrim Doganor | F19: 2026 | G19: Angazhime | H19: 0 | I19: 0 | J19: 0 | K19: 0 | L19: 0 | M19: 0 | N19: 0 | O19: 0 | P19: 0 | Q19: =SUM(H19:P19) -> 0
C20: 17 | E20: Total | F20: 2026 | G20: Plani fillestar | I20: =I8+I12 -> 29896050000 | J20: =J8 -> 11081484000 | K20: =K8 -> 1911230000 | L20: =L8 -> 9487687000 | M20: =M8 -> 0 | N20: =N8 -> 5700000000 | O20: =O8 -> 293424000 | P20: =P8 -> 578685000 | Q20: =SUM(H20:P20) -> 58948560000
C21: 17 | E21: Total | F21: 2026 | G21: Plani i rishikuar | H21: =H9 -> 0 | I21: =I9+I13 -> 29896050000 | J21: =J9 -> 11081484000 | K21: =K9 -> 1911230000 | L21: =L9 -> 9487687000 | M21: =M9 -> 0 | N21: =N9 -> 5700000000 | O21: =O9 -> 293424000 | P21: =P9 -> 578685000 | Q21: =SUM(H21:P21) -> 58948560000
C22: 17 | E22: Total | F22: 2026 | G22: Fakti | H22: =H10 -> 0 | I22: =I10 -> 3882959796 | J22: =J10 -> 3688379194 | K22: =K10 -> 639270024 | L22: =L10 -> 2373288186 | M22: =M10 -> 0 | N22: =N10 -> 2008971865 | O22: =O10 -> 156610464 | P22: =P10 -> 197338355 | Q22: =SUM(H22:P22) -> 12946817884
C23: 17 | E23: Total | F23: 2026 | G23: Angazhime | H23: =H11+H15+H19 -> 0 | I23: =I11+I15+I19 -> 0 | J23: =J11+J15+J19 -> 0 | K23: =K11+K15+K19 -> 0 | L23: =L11+L15+L19 -> 0 | M23: =M11+M15+M19 -> 0 | N23: =N11+N15+N19 -> 0 | O23: =O11+O15+O19 -> 0 | P23: =P11+P15+P19 -> 0 | Q23: =SUM(H23:P23) -> 0
C24: 17 | E24: Ndryshimi ne vlere absolute | H24: =H21-H22 -> 0 | I24: =I21-I22 -> 26013090204 | J24: =J21-J22 -> 7393104806 | K24: =K21-K22 -> 1271959976 | L24: =L21-L22 -> 7114398814 | M24: =M21-M22 -> 0 | N24: =N21-N22 -> 3691028135 | O24: =O21-O22 -> 136813536 | ... Q24: =Q21-Q22 -> 46001742116
C25: 17 | E25: Realizimi ne % | F25: 2026 | I25: =I22/I21*100 -> 12.988203 | J25: =J22/J21*100 -> 33.284163 | K25: =K22/K21*100 -> 33.448095 | L25: =L22/L21*100 -> 25.014402 | M25: 0 | N25: =N22/N21*100 -> 35.24512 | O25: =O22/O21*100 -> 53.373434 | P25: =P22/P21*100 -> 34.10117 | Q25: =Q22/Q21*100 -> 21.962908
C26: 17 | D26: 06 | E26: Nga të ardhurat jashtë limitit | F26: 2026 | G26: Fakti | H26: 0 | I26: 1.5979845e+08 | J26: 4695039 | L26: 38562762 | Q26: =SUM(H26:P26) -> 2.0305625e+08

Sheet Sheet4
D4: Plan | F4: fakt
C5: Emërtimi Iprogarmit | D5: Numri I punonjesve ne plan | F5: Numri I punonjesve ne plan | H5: NDYSHIMI I NUMRI TEW PUNONJWSVE (PLAN -FAKT)
D6: Nr. | E6: % | F6: Nr. | G6: % | H6: Nr. | I6: %
C7: Planifikimi, Menaxhimi dhe Administrimi | D7: 398 | E7: =D7/D13*100 -> 4.4449408 | F7: 333 | G7: =F7/F13*100 -> 3.9227235 | H7: =D7-F7 -> 65 | I7: =H7/H13*100 -> 13.978495
C8: Forcat e Luftimit | D8: 4255 | E8: =D8/D13*100 -> 47.520661 | F8: 4106 | G8: =F8/F13*100 -> 48.368477 | H8: =D8-F8 -> 149 | I8: =H8/H13*100 -> 32.043011
C9: Mbështetja e Luftimit | D9: 3249 | E9: =D9/D13*100 -> 36.285459 | F9: 3066 | G9: =F9/F13*100 -> 36.117328 | H9: =D9-F9 -> 183 | I9: =H9/H13*100 -> 39.354839
C10: Arsimi Ushtarak | D10: 375 | E10: =D10/D13*100 -> 4.1880724 | F10: 343 | G10: =F10/F13*100 -> 4.040523 | H10: =D10-F10 -> 32 | I10: =H10/H13*100 -> 6.8817204
C11: Mbështetja për Shëndetësinë | D11: 481 | E11: =D11/D13*100 -> 5.3719008 | F11: 468 | G11: =F11/F13*100 -> 5.5130168 | H11: =D11-F11 -> 13 | I11: =H11/H13*100 -> 2.7956989
C12: Emergjencat Civile | D12: 196 | E12: =D12/D13*100 -> 2.1889658 | F12: 173 | G12: =F12/F13*100 -> 2.0379314 | H12: =D12-F12 -> 23 | I12: =H12/H13*100 -> 4.9462366
C13: TOTALI MM | D13: =SUM(D7:D12) -> 8954 | E13: =SUM(E7:E12) -> 100 | F13: =SUM(F7:F12) -> 8489 | G13: =SUM(G7:G12) -> 100 | H13: =D13-F13 -> 465 | I13: =SUM(I7:I12) -> 100

Sheet Aneksi 2.0 Planif
B2: ANEKSI nr. 2 Raporti mbi Ekzekutimin e Buxhetit në nivelin e Programit të Buxhetit
B3: Periudha e Raportimit 4-2026
B4: në/lekë
B6: Emri i Grupit | C6: Ministria e Mbrojtjes | F6: Kodi i grupit | H6: 17
B8: Emri i | C8: Planifikimi, Menaxhimi dhe Administrimi | F8: Kodi i programit | H8: 01110
B9: EMËRTIME | D9: Shpenzimet e Programit
D10: Viti paraardhës | E10: 2025 | F10: Periudha raportuese | H10: Periudha raportuese | J10: Periudha raportuese | K10: Periudha raportuese | M10: Ndryshimi Vjetor ( Plan - Fakt) | N10: % e realizimit
D11: Shpenzime Faktike | E11: Struktura e shpenzimeve në % | F11: Plani Fillestar Vjetor Viti 2026 | G11: Struktura e shpenzimeve në % | H11: Plani Vjetor i Rishikuar Viti 2026 | I11: Struktura e shpenzimeve në % | J11: Ndryshimi i planit vjetor | K11: Shpenzime Faktike të Periudhës/Progresive | L11: Struktura e shpenzimeve në %
D12: (1) | E12: (2) | F12: (3) | G12: (4) | H12: (5) | I12: (6) | J12: 7 (5-3) | K12: (8) | L12: (9) | M12: 10 (5-8) | N12: 11 ( 8/5)
B13: Shpenzimet sipas klasifikimit ekonomik
B14: Kodi i Programit | C14: Emërtimi
B15: 600 | C15: Paga | D15: 665077065 | E15: =D15/D22*100 -> 42.116164 | F15: 612980000 | G15: =F15/F22*100 -> 42.680685 | H15: 612980000 | I15: =H15/H22*100 -> 42.680685 | J15: =H15-F15 -> 0 | K15: 170597674 | L15: =K15/K22*100 -> 30.045304 | M15: =H15-K15 -> 442382326 | N15: =K15/H15*100 -> 27.830871
B16: 601 | C16: Sigurime Shoqërore | D16: 107335094 | E16: =D16/D22*100 -> 6.7970205 | F16: 114900000 | G16: =F16/F22*100 -> 8.0002785 | H16: 114900000 | I16: =H16/H22*100 -> 8.0002785 | J16: =H16-F16 -> 0 | K16: 34485603 | L16: =K16/K22*100 -> 6.073532 | M16: =H16-K16 -> 80414397 | N16: =K16/H16*100 -> 30.01358
B17: 602 | C17: Mallra dhe Shërbime të Tjera | D17: 521568122 | E17: =D17/D22*100 -> 33.028426 | F17: 399896000 | G17: =F17/F22*100 -> 27.844033 | H17: 399896000 | I17: =H17/H22*100 -> 27.844033 | J17: =H17-F17 -> 0 | K17: 207346272 | L17: =K17/K22*100 -> 36.51739 | M17: =H17-K17 -> 192549728 | N17: =K17/H17*100 -> 51.850049
B18: 603 | C18: Subvencione | D18: 0 | E18: =D18/D22*100 -> 0 | G18: =F18/F22*100 -> 0 | I18: =H18/H22*100 -> 0 | J18: =H18-F18 -> 0 | L18: =K18/K22*100 -> 0 | M18: =H18-K18 -> 0 | N18: 0
B19: 604 | C19: Transferta Korente të Brendshme | D19: 0 | E19: =D19/D22*100 -> 0 | G19: =F19/F22*100 -> 0 | I19: =H19/H22*100 -> 0 | J19: =H19-F19 -> 0 | L19: =K19/K22*100 -> 0 | M19: =H19-K19 -> 0 | N19: 0
B20: 605 | C20: Transferta Korente të Huaja | D20: 240411100 | E20: =D20/D22*100 -> 15.22409 | F20: 275424000 | G20: =F20/F22*100 -> 19.177273 | H20: 275424000 | I20: =H20/H22*100 -> 19.177273 | J20: =H20-F20 -> 0 | K20: 146500000 | L20: =K20/K22*100 -> 25.801272 | M20: =H20-K20 -> 128924000 | N20: =K20/H20*100 -> 53.190717
B21: 606 | C21: Trans per Buxh. Fam. & Individ | D21: 44757814 | E21: =D21/D22*100 -> 2.8342993 | F21: 33000000 | G21: =F21/F22*100 -> 2.2977301 | H21: 33000000 | I21: =H21/H22*100 -> 2.2977301 | J21: =H21-F21 -> 0 | K21: 8871905 | L21: =K21/K22*100 -> 1.5625013 | M21: =H21-K21 -> 24128095 | N21: =K21/H21*100 -> 26.884561
C22: Nëntotali Shpenzime Korente | D22: =SUM(D15:D21) -> 1579149195 | E22: =D22/D30*100 -> 95.31304 | F22: =SUM(F15:F21) -> 1436200000 | G22: =F22/F30*100 -> 94.723651 | H22: =SUM(H15:H21) -> 1436200000 | I22: =H22/H30*100 -> 94.723651 | J22: =SUM(J15:J21) -> 0 | K22: =SUM(K15:K21) -> 567801454 | L22: =K22/K30*100 -> 100 | M22: =SUM(M15:M21) -> 868398546 | N22: =K22/H22*100 -> 39.534985
B23: 230 | C23: Kapitale të Patrupëzuara | D23: 0 | E23: =D23/D25*100 -> 0 | F23: 0 | G23: =F23/F25*100 -> 0 | I23: =H23/H25*100 -> 0 | K23: 0 | L23: =K23/K25*100 -> #DIV/0! | M23: =H23-K23 -> 0 | N23: =M23/M30*100 -> 0
B24: 231 | C24: Kapitale të Trupëzuara | D24: 77653696 | E24: =D24/D25*100 -> 100 | F24: 80000000 | G24: =F24/F25*100 -> 100 | H24: 80000000 | I24: =H24/H25*100 -> 100 | J24: =H24-F24 -> 0 | L24: =K24/K25*100 -> #DIV/0! | M24: =H24-K24 -> 80000000 | N24: =M24/M30*100 -> 8.4352723
C25: Nëntotali Shpenzime Kapitale me financim të brendshëm | D25: =D23+D24 -> 77653696 | E25: =D25/D30*100 -> 4.6869604 | F25: =F23+F24 -> 80000000 | G25: =F25/F30*100 -> 5.2763488 | H25: =H23+H24 -> 80000000 | I25: =H25/H30*100 -> 5.2763488 | J25: =J23+J24 -> 0 | K25: =K23+K24 -> 0 | L25: =K25/K30*100 -> 0 | M25: =H25-K25 -> 80000000 | N25: =K25/H25*100 -> 0
B26: 230 | C26: Kapitale të Patrupëzuara | D26: 0 | E26: =D26/D29*100 -> 0 | F26: 0 | G26: =F26/F29*100 -> 0 | H26: 0 | I26: =H26/H29*100 -> 0 | J26: 0 | K26: 0 | L26: =K26/K29*100 -> #DIV/0! | M26: =H26-K26 -> 0 | N26: 0
B27: 231 | C27: Kapitale të Trupëzuara | D27: 0 | E27: =D27/D30*100 -> 0 | F27: 0 | G27: =F27/F30*100 -> 0 | H27: 0 | I27: =H27/H30*100 -> 0 | J27: =H27-F27 -> 0 | L27: =K27/K30*100 -> 0 | M27: =H27-K27 -> 0 | N27: 0
C28: Nëntotali Shpenzime Kapitale me financim të huaj | D28: 0 | F28: 0 | H28: =SUM(H26:H27) -> 0 | J28: =SUM(J26:J27) -> 0 | K28: =SUM(K26:K27) -> 0 | M28: =SUM(M26:M27) -> 0 | N28: 0
C29: Totali i Shpenzimeve Kapitale | D29: 77653696 | F29: =F25 -> 80000000 | H29: =H25 -> 80000000 | J29: =H29-F29 -> 0 | M29: =M25 -> 80000000 | N29: =N25 -> 0
C30: Totali i Shpenzimeve Buxhetore të Programit | D30: =D22+D25 -> 1656802891 | E30: =E22+E25 -> 100 | F30: =F22+F25 -> 1516200000 | G30: =G22+G25 -> 100 | H30: =H22+H29 -> 1516200000 | I30: =I22+I25 -> 100 | J30: =H30-F30 -> 0 | K30: =K22+K29 -> 567801454 | L30: =L22+L25 -> 100 | M30: =M22+M29 -> 948398546 | N30: =K30/H30*100 -> 37.448981
C31: Shpenzime Korente nga të Ardhurat Jashtë limitit (Kap 06) | D31: 0 | K31: 0
C32: Shpenzime Kapitale nga të Ardhurat Jashtë limitit (Kap 06) | D32: 0 | K32: 0
C33: Totali i Shpenzimeve të Programit | D33: 1656802891 | E33: 100 | F33: 1516200000 | G33: 100 | H33: 1516200000 | I33: 100 | J33: 0 | K33: 567801454 | L33: 100 | M33: 948398546 | N33: 37.448981
B34: Shpenzimet sipas produkteve të programit buxhetor

Sheet Aneksi 2.0 Forcat e Luftimit
B2: ANEKSI nr. 2 Raporti mbi Ekzekutimin e Buxhetit në nivelin e Programit të Buxhetit
B3: Periudha e Raportimit 04-2026
B4: në/lekë
B6: Emri i Grupit | C6: Ministria e Mbrojtjes | F6: Kodi i grupit | H6: 17
B8: Emri i | C8: Forcat e Luftimit | F8: Kodi i programit | H8: 02120
B9: EMËRTIME | D9: Shpenzimet e Programit
D10: Viti paraardhës | E10: 2025 | F10: Periudha raportuese | H10: Periudha raportuese | J10: Periudha raportuese | K10: Periudha raportuese | M10: Ndryshimi Vjetor ( Plan - Fakt) | N10: % e realizimit
D11: Shpenzime Faktike | E11: Struktura e shpenzimeve në % | F11: Plani Fillestar Vjetor Viti 2026 | G11: Struktura e shpenzimeve në % | H11: Plani Vjetor i Rishikuar Viti 2026 | I11: Struktura e shpenzimeve në % | J11: Ndryshimi i planit vjetor | K11: Shpenzime Faktike të Periudhës/Progresive | L11: Struktura e shpenzimeve në %
D12: (1) | E12: (2) | F12: (3) | G12: (4) | H12: (5) | I12: (6) | J12: 7 (5-3) | K12: (8) | L12: (9) | M12: 10 (5-8) | N12: 11 ( 8/5)
B13: Shpenzimet sipas klasifikimit ekonomik
B14: Kodi i Programit | C14: Emërtimi
B15: 600 | C15: Paga | D15: 4851623432 | E15: =D15/D22*100 -> 52.990357 | F15: 4974568000 | G15: =F15/F22*100 -> 51.124119 | H15: 4974568000 | I15: =H15/H22*100 -> 51.124119 | J15: =D15 -> 4851623432 | K15: 1756549523 | L15: =K15/K22*100 -> 54.354378 | M15: =H15-K15 -> 3218018477 | N15: =K15/H15*100 -> 35.310594
B16: 601 | C16: Sigurime Shoqërore | D16: 784786628 | E16: =D16/D22*100 -> 8.5715893 | F16: 892730000 | G16: =F16/F22*100 -> 9.174673 | H16: 892730000 | I16: =H16/H22*100 -> 9.174673 | J16: =D16 -> 784786628 | K16: 294310477 | L16: =K16/K22*100 -> 9.1070948 | M16: =H16-K16 -> 598419523 | N16: =K16/H16*100 -> 32.967468
B17: 602 | C17: Mallra dhe Shërbime të Tjera | D17: 3.4569904e+09 | E17: =D17/D22*100 -> 37.757908 | F17: 3823076000 | G17: =F17/F22*100 -> 39.290124 | H17: 3823076000 | I17: =H17/H22*100 -> 39.290124 | J17: =D17 -> 3.4569904e+09 | K17: 1165695022 | L17: =K17/K22*100 -> 36.071074 | M17: =H17-K17 -> 2657380978 | N17: =K17/H17*100 -> 30.491024
B18: 603 | C18: Subvencione | E18: =D18/D22*100 -> 0 | G18: =F18/F22*100 -> 0 | I18: =H18/H22*100 -> 0 | J18: =D18 -> 0 | L18: =K18/K22*100 -> 0 | M18: =H18-K18 -> 0
B19: 604 | C19: Transferta Korente të Brendshme | E19: =D19/D22*100 -> 0 | G19: =F19/F22*100 -> 0 | I19: =H19/H22*100 -> 0 | J19: =D19 -> 0 | L19: =K19/K22*100 -> 0 | M19: =H19-K19 -> 0
B20: 605 | C20: Transferta Korente të Huaja | E20: =D20/D22*100 -> 0 | G20: =F20/F22*100 -> 0 | I20: =H20/H22*100 -> 0 | J20: =D20 -> 0 | L20: =K20/K22*100 -> 0 | M20: =H20-K20 -> 0
B21: 606 | C21: Trans per Buxh. Fam. & Individ | D21: 62271942 | E21: =D21/D22*100 -> 0.68014603 | F21: 40000000 | G21: =F21/F22*100 -> 0.41108389 | H21: 40000000 | I21: =H21/H22*100 -> 0.41108389 | J21: =D21 -> 62271942 | K21: 15106500 | L21: =K21/K22*100 -> 0.46745304 | M21: =H21-K21 -> 24893500 | N21: =K21/H21*100 -> 37.76625
C22: Nëntotali Shpenzime Korente | D22: =D15+D16+D17+D18+D19+D20+D21 -> 9.1556724e+09 | E22: =D22/D30*100 -> 52.675313 | F22: =F15+F16+F17+F18+F19+F20+F21 -> 9730374000 | G22: =F22/F30*100 -> 30.996474 | H22: =H15+H16+H17+H18+H19+H20+H21 -> 9730374000 | I22: =H22/H30*100 -> 30.996474 | J22: =J15+J16+J17+J18+J19+J20+J21 -> 9.1556724e+09 | K22: =K15+K16+K17+K18+K19+K20+K21 -> 3231661522 | L22: =K22/K30*100 -> 45.99376 | M22: =M15+M16+M17+M18+M19+M20+M21 -> 6498712478 | N22: =K22/H22*100 -> 33.2121
B23: 230 | C23: Kapitale të Patrupëzuara | D23: 0 | E23: =D23/D25*100 -> 0 | F23: 0 | G23: =F23/F25*100 -> 0 | H23: 0 | I23: =H23/H25*100 -> 0 | J23: =I23/I25*100 -> 0 | K23: 0 | L23: =K23/K25*100 -> 0 | M23: =H23-K23 -> 0
B24: 231 | C24: Kapitale të Trupëzuara | D24: 8.2256622e+09 | E24: =D24/D25*100 -> 100 | F24: 10661500000 | H24: 10661500000 | I24: =H24/H25*100 -> 100 | J24: =D24 -> 8.2256622e+09 | K24: 3794642711 | L24: =K24/K25*100 -> 100 | M24: =H24-K24 -> 6866857289 | N24: =K24/H24*100 -> 35.592015
C25: Nëntotali Shpenzime Kapitale me financim të brendshëm | D25: =D23+D24 -> 8.2256622e+09 | E25: =D25/D30*100 -> 47.324687 | F25: =F23+F24 -> 10661500000 | G25: =F25/F30*100 -> 33.962611 | H25: =H23+H24 -> 10661500000 | I25: =H25/H30*100 -> 33.962611 | J25: =J23+J24 -> 8.2256622e+09 | K25: =K23+K24 -> 3794642711 | L25: =K25/K30*100 -> 54.00624 | M25: =M23+M24 -> 6866857289 | N25: =K25/H25*100 -> 35.592015
B26: 230 | C26: Kapitale të Patrupëzuara | D26: 0 | E26: =D26/D29*100 -> 0 | F26: 0 | G26: =F26/F29*100 -> 0 | H26: 0 | I26: =H26/H29*100 -> 0 | J26: =H26-F26 -> 0 | K26: 0 | L26: =K26/K29*100 -> 0 | M26: =H26-K26 -> 0 | N26: =K26/H26*100 -> #DIV/0!
B27: 231 | C27: Kapitale të Trupëzuara | E27: =D27/D30*100 -> 0 | F27: 11000000000 | H27: 11000000000 | I27: =H27/H30*100 -> 35.040915 | J27: =H27-F27 -> 0 | K27: 0 | L27: =K27/K30*100 -> 0 | M27: =H27-K27 -> 11000000000 | N27: =K27/H27*100 -> 0
C28: Nëntotali Shpenzime Kapitale me financim të huaj | D28: =D26+D27 -> 0 | E28: =D28/D30*100 -> 0 | F28: =F26+F27 -> 11000000000 | G28: =F28/F30*100 -> 35.040915 | H28: =H26+H27 -> 11000000000 | I28: =H28/H30*100 -> 35.040915 | J28: =J26+J27 -> 0 | K28: =K26+K27 -> 0 | L28: =K28/K30*100 -> 0 | M28: =M26+M27 -> 11000000000
C29: Totali i Shpenzimeve Kapitale | D29: =D25+D28 -> 8.2256622e+09 | E29: =D29/D30*100 -> 47.324687 | F29: =F25+F28 -> 21661500000 | G29: =F29/F30*100 -> 69.003526 | H29: =H25+H28 -> 21661500000 | I29: =H29/H30*100 -> 69.003526 | J29: =J25+J28 -> 8.2256622e+09 | K29: =K25+K28 -> 3794642711 | L29: =K29/K30*100 -> 54.00624 | M29: =M25+M28 -> 17866857289 | N29: =K29/H29*100 -> 17.517913
C30: Totali i Shpenzimeve Buxhetore të Programit | D30: =D22+D29 -> 1.7381335e+10 | E30: =E22+E25 -> 100 | F30: =F22+F29 -> 31391874000 | G30: =G22+G25+G28 -> 100 | H30: 31391874000 | I30: 64.959085 | J30: 1.7381335e+10 | K30: 7026304233 | L30: 100 | M30: 24365569767 | N30: 22.382557

Sheet 123
B2: ANEKSI nr. 2 Raporti mbi Ekzekutimin e Buxhetit në nivelin e Programit të Buxhetit
B3: Periudha e Raportimit 12-2025
B4: në/lekë
B6: Emri i Grupit | C6: Ministria e Mbrojtjes | F6: Kodi i grupit | H6: 17
B8: Emri i | C8: Mbeshteja e Luftimit | F8: Kodi i programit | H8: 2120
B9: EMËRTIME | D9: Shpenzimet e Programit
D10: Viti paraardhës | E10: 2024 | F10: Periudha raportuese | H10: Periudha raportuese | J10: Periudha raportuese | K10: Periudha raportuese | M10: Ndryshimi Vjetor ( Plan - Fakt) | N10: % e realizimit
D11: Shpenzime Faktike | E11: Struktura e shpenzimeve në % | F11: Plani Fillestar Vjetor Viti 2025 | G11: Struktura e shpenzimeve në % | H11: Plani Vjetor i Rishikuar Viti 2025 | I11: Struktura e shpenzimeve në % | J11: Ndryshimi i planit vjetor | K11: Shpenzime Faktike të Periudhës/Progresive | L11: Struktura e shpenzimeve në %
D12: (1) | E12: (2) | F12: (3) | G12: (4) | H12: (5) | I12: (6) | J12: 7 (5-3) | K12: (8) | L12: (9) | M12: 10 (5-8) | N12: 11 ( 8/5)
B13: Shpenzimet sipas klasifikimit ekonomik
B14: Kodi i Programit | C14: Emërtimi
B15: 600 | C15: Paga | D15: 3055112840 | E15: =D15/D22*100 -> 49.846843 | F15: 3188700000 | G15: =F15/F22*100 -> 47.205481 | H15: 3655358127 | I15: =H15/H22*100 -> 47.717768 | J15: =H15-F15 -> 466658127 | K15: 3643746554 | L15: =K15/K22*100 -> 48.200527 | M15: =H15-K15 -> 11611573 | N15: =K15/H15*100 -> 99.682341
B16: 601 | C16: Sigurime Shoqërore | D16: 528272232 | E16: =D16/D22*100 -> 8.6192244 | F16: 514300000 | G16: =F16/F22*100 -> 7.6136917 | H16: 605980000 | I16: =H16/H22*100 -> 7.9105828 | J16: =H16-F16 -> 91680000 | K16: 600774044 | L16: =K16/K22*100 -> 7.9472117 | M16: =H16-K16 -> 5205956 | N16: =K16/H16*100 -> 99.140903
B17: 602 | C17: Mallra dhe Shërbime të Tjera | D17: 1.957085e+09 | E17: =D17/D22*100 -> 31.931557 | F17: 2750686000 | G17: =F17/F22*100 -> 40.721126 | H17: 3110504000 | I17: =H17/H22*100 -> 40.605135 | J17: =H17-F17 -> 359818000 | K17: 3041395813 | L17: =K17/K22*100 -> 40.232458 | M17: =H17-K17 -> 69108187 | N17: =K17/H17*100 -> 97.778232
B18: 603 | C18: Subvencione | D18: 0 | E18: =D18/D22*100 -> 0 | F18: 0 | G18: =F18/F22*100 -> 0 | H18: 0 | I18: =H18/H22*100 -> 0 | J18: =H18-F18 -> 0 | L18: =K18/K22*100 -> 0 | M18: =H18-K18 -> 0 | N18: 0
B19: 604 | C19: Transferta Korente të Brendshme | D19: 289176971 | E19: =D19/D22*100 -> 4.7181757 | F19: 0 | G19: =F19/F22*100 -> 0 | H19: 0 | I19: =H19/H22*100 -> 0 | J19: =H19-F19 -> 0 | L19: =K19/K22*100 -> 0 | M19: =H19-K19 -> 0 | N19: 0
B20: 605 | C20: Transferta Korente të Huaja | D20: 0 | E20: =D20/D22*100 -> 0 | F20: 0 | G20: =F20/F22*100 -> 0 | H20: 0 | I20: =H20/H22*100 -> 0 | J20: =H20-F20 -> 0 | K20: 0 | L20: =K20/K22*100 -> 0 | M20: =H20-K20 -> 0 | N20: =K20/H20*100 -> #DIV/0!
B21: 606 | C21: Trans per Buxh. Fam. & Individ | D21: 2.9935258e+08 | E21: =D21/D22*100 -> 4.8841997 | F21: 301250000 | G21: =F21/F22*100 -> 4.4597018 | H21: 288528999 | I21: =H21/H22*100 -> 3.7665146 | J21: =H21-F21 -> -12721001 | K21: 273641145 | L21: =K21/K22*100 -> 3.6198037 | M21: =H21-K21 -> 14887854 | N21: =K21/H21*100 -> 94.840084
C22: Nëntotali Shpenzime Korente | D22: =SUM(D15:D21) -> 6.1289996e+09 | E22: =SUM(E15:E21) -> 100 | F22: =SUM(F15:F21) -> 6754936000 | G22: =SUM(G15:G21) -> 100 | H22: =SUM(H15:H21) -> 7660371126 | I22: =SUM(I15:I21) -> 100 | J22: =SUM(J15:J21) -> 905435126 | K22: =SUM(K15:K21) -> 7559557556 | ... M22: =SUM(M15:M21) -> 100813570 | N22: =K22/H22*100 -> 98.68396
B23: 230 | C23: Kapitale të Patrupëzuara | D23: 48599047 | E23: 0 | F23: 12204000 | G23: 0 | H23: 136837000 | I23: 0 | J23: =H23-F23 -> 124633000 | K23: 1.2676861e+08 | L23: 0 | M23: =H23-K23 -> 10068391
B24: 231 | C24: Kapitale të Trupëzuara | D24: 590201167 | E24: 0 | F24: 1546296000 | G24: 0 | H24: 2181018000 | I24: 0 | J24: =H24-F24 -> 634722000 | K24: 1943202550 | L24: 0 | M24: =H24-K24 -> 237815450 | N24: =K24/H24*100 -> 89.096126
C25: Nëntotali Shpenzime Kapitale me financim të brendshëm | D25: =D23+D24 -> 638800214 | E25: 0 | F25: =F23+F24 -> 1558500000 | G25: 0 | H25: =H23+H24 -> 2317855000 | I25: 0 | J25: =SUM(J23:J24) -> 759355000 | K25: =K23+K24 -> 2.0699712e+09 | L25: 0 | M25: =SUM(M23:M24) -> 2.4788384e+08 | N25: =K25/H25*100 -> 89.305464
B26: 230 | C26: Kapitale të Patrupëzuara | D26: 0 | E26: 0 | F26: 0 | G26: 0 | H26: 0 | I26: 0 | J26: =H26-F26 -> 0 | L26: 0 | M26: =H26-K26 -> 0
B27: 231 | C27: Kapitale të Trupëzuara | D27: 0 | E27: 0 | F27: 0 | G27: 0 | H27: 0 | I27: 0 | J27: =H27-F27 -> 0 | L27: 0 | M27: =H27-K27 -> 0
C28: Nëntotali Shpenzime Kapitale me financim të huaj | D28: 0 | E28: 0 | F28: 0 | G28: 0 | H28: =SUM(H26:H27) -> 0 | I28: 0 | J28: =SUM(J26:J27) -> 0 | K28: =SUM(K26:K27) -> 0 | L28: 0 | M28: =SUM(M26:M27) -> 0 | N28: 0
C29: Totali i Shpenzimeve Kapitale | D29: =D25 -> 638800214 | E29: =E25 -> 0 | F29: =F25 -> 1558500000 | G29: =G25 -> 0 | H29: =H25 -> 2317855000 | I29: =I25 -> 0 | J29: =J25 -> 759355000 | K29: =K25 -> 2.0699712e+09 | ... N29: =N25 -> 89.305464
C30: Totali i Shpenzimeve Buxhetore të Programit | D30: =D22+D25 -> 6.7677998e+09 | E30: =E22+E25 -> 100 | F30: =F22+F25 -> 8313436000 | G30: =G22+G25 -> 100 | H30: =H22+H25 -> 9978226126 | I30: =I22+I25 -> 100 | J30: =J22+J25 -> 1664790126 | K30: =K22+K25 -> 9.6295287e+09 | ... M30: =M22+M25 -> 3.4869741e+08 | N30: =K30/H30*100 -> 96.505417
C31: Shpenzime Korente nga të Ardhurat Jashtë limitit (Kap 06) | D31: 0 | K31: 0
C32: Shpenzime Kapitale nga të Ardhurat Jashtë limitit (Kap 06) | D32: 13467 | K32: 0
C33: Totali i Shpenzimeve të Programit | D33: =D30 -> 6.7677998e+09 | E33: =E30 -> 100 | F33: =F30 -> 8313436000 | G33: =G30 -> 100 | H33: =H30 -> 9978226126 | I33: =I30 -> 100 | J33: =J30 -> 1664790126 | K33: =K30 -> 9.6295287e+09 | ... N33: =N30 -> 96.505417
B34: Shpenzimet sipas produkteve të programit buxhetor
B35: Artikulli | C35: Emërtimi
C36: Totali i Shpenzime Korente | D36: =D22 -> 6.1289996e+09 | E36: =E22 -> 100 | F36: =F22 -> 6754936000 | G36: =G22 -> 100 | H36: =H22 -> 7660371126 | I36: =I22 -> 100 | J36: =J22 -> 905435126 | K36: =K22 -> 7559557556 | ... N36: =N22 -> 98.68396
B37: Kodi i produktit | C37: Emertimi
E38: =E24 -> 0 | G38: =G24 -> 0 | I38: =I24 -> 0 | L38: =L24 -> 0
C39: Totali Shpenzime për Investime | D39: =D25 -> 638800214 | E39: =E25 -> 0 | F39: =F25 -> 1558500000 | G39: =G25 -> 0 | H39: =H25 -> 2317855000 | I39: =I25 -> 0 | J39: =J25 -> 759355000 | K39: =K25 -> 2.0699712e+09 | ... N39: =N25 -> 89.305464
B40: Kodi i produktit | C40: Emertimi
L41: 0 | M41: =H41-K41 -> 0 | N41: =K41/H41*100 -> #DIV/0!
L42: 0 | M42: =H42-K42 -> 0 | N42: =K42/H42*100 -> #DIV/0!
L43: 0 | M43: =H43-K43 -> 0 | N43: 0
C44: Nëntotali Shpenzime Kapitale me financim të brendshëm | D44: =D39 -> 638800214 | E44: =E39 -> 0 | F44: =F39 -> 1558500000 | G44: =G39 -> 0 | H44: =H39 -> 2317855000 | I44: =I39 -> 0 | J44: =J39 -> 759355000 | K44: =K39 -> 2.0699712e+09 | ... N44: =N39 -> 89.305464
B45: Kodi i produktit | C45: Emertimi | N45: =K45/H45*100 -> #DIV/0!
C46: Nëntotali Shpenzime Kapitale me financim të huaj | D46: 0 | E46: 0 | F46: 0 | G46: 0 | H46: 0 | I46: 0 | J46: 0 | K46: 0 | L46: 0 | M46: 0 | N46: =K46/H46*100 -> #DIV/0!
B47: Kodi i produktit | C47: Emertimi | N47: =K47/H47*100 -> #DIV/0!
B48: Kodi i produktit | C48: Emertimi | N48: =K48/H48*100 -> #DIV/0!
C49: Totali i Shpenzimeve të Programit | D49: =D22+D25 -> 6.7677998e+09 | E49: =E22+E25 -> 100 | F49: =F22+F25 -> 8313436000 | G49: =G22+G25 -> 100 | H49: =H22+H25 -> 9978226126 | I49: =I22+I25 -> 100 | J49: =J22+J25 -> 1664790126 | K49: =K22+K25 -> 9.6295287e+09 | ... M49: =M22+M25 -> 3.4869741e+08 | N49: =K49/H49*100 -> 96.505417
B52: Drejtuesi i Ekipit Menaxhues të Programit | C52: Emri: | D52: Sekretari i Përgjithshëm | F52: Emri
C53: Firma: | F53: Firma
C54: Data: | F54: Data

Sheet Aneksi 2.0 MBSHT.LUFTIMIT
B2: ANEKSI nr. 2 Raporti mbi Ekzekutimin e Buxhetit në nivelin e Programit të Buxhetit
B3: Periudha e Raportimit 12-2025
B4: në/lekë
C7: ANEKSI nr. 2 Raporti mbi Ekzekutimin e Buxhetit në nivelin e Programit të Buxhetit
C8: Periudha e Raportimit 04-2026
B9: Emri i Grupit | C9: Ministria e Mbrojtjes | F9: Kodi i grupit | H9: 17
B11: Emri i | C11: Mbështetja e Luftimit | F11: Kodi i programit | H11: 02150
B12: EMËRTIME | D12: Shpenzimet e Programit
D13: Viti paraardhës | E13: 2025 | F13: Periudha raportuese | H13: Periudha raportuese | J13: Periudha raportuese | K13: Periudha raportuese | M13: Ndryshimi Vjetor ( Plan - Fakt) | N13: % e realizimit
D14: Shpenzime Faktike | E14: Struktura e shpenzimeve në % | F14: Plani Fillestar Vjetor Viti 2026 | G14: Struktura e shpenzimeve në % | H14: Plani Vjetor i Rishikuar Viti 2026 | I14: Struktura e shpenzimeve në % | J14: Ndryshimi i planit vjetor | K14: Shpenzime Faktike të Periudhës/Progresive | L14: Struktura e shpenzimeve në %
D15: (1) | E15: (2) | F15: (3) | G15: (4) | H15: (5) | I15: (6) | J15: 7 (5-3) | K15: (8) | L15: (9) | M15: 10 (5-8) | N15: 11 ( 8/5)
B16: Shpenzimet sipas klasifikimit ekonomik
B17: Kodi i Programit | C17: Emërtimi
B18: 600 | C18: Paga | D18: 3643746554 | E18: =D18/D25*100 -> 48.200527 | F18: 3941500000 | G18: =F18/F25*100 -> 44.331167 | H18: 3941500000 | I18: =H18/H25*100 -> 44.331167 | J18: =H18-F18 -> 0 | K18: 1339938913 | L18: =K18/K25*100 -> 54.348843 | M18: =H18-K18 -> 2601561087 | N18: =K18/H18*100 -> 33.995659
B19: 601 | C19: Sigurime Shoqërore | D19: 600774043 | E19: =D19/D25*100 -> 7.9472117 | F19: 641300000 | G19: =F19/F25*100 -> 7.2128827 | H19: 641300000 | I19: =H19/H25*100 -> 7.2128827 | J19: =H19-F19 -> 0 | K19: 226770233 | L19: =K19/K25*100 -> 9.1979565 | M19: =H19-K19 -> 414529767 | N19: =K19/H19*100 -> 35.361022
B20: 602 | C20: Mallra dhe Shërbime të Tjera | D20: 3041395813 | E20: =D20/D25*100 -> 40.232458 | F20: 3944551000 | G20: =F20/F25*100 -> 44.365482 | H20: 3944551000 | I20: =H20/H25*100 -> 44.365482 | J20: =H20-F20 -> 0 | K20: 810831620 | L20: =K20/K25*100 -> 32.887888 | M20: =H20-K20 -> 3133719380 | N20: =K20/H20*100 -> 20.555739
B21: 603 | C21: Subvencione | D21: 0 | E21: =D21/D25*100 -> 0 | G21: =F21/F25*100 -> 0 | I21: =H21/H25*100 -> 0 | J21: =H21-F21 -> 0 | L21: =K21/K25*100 -> 0 | M21: =H21-K21 -> 0 | N21: =K21/H21*100 -> #DIV/0!
B22: 604 | C22: Transferta Korente të Brendshme | D22: 0 | E22: =D22/D25*100 -> 0 | G22: =F22/F25*100 -> 0 | I22: =H22/H25*100 -> 0 | J22: =H22-F22 -> 0 | L22: =K22/K25*100 -> 0 | M22: =H22-K22 -> 0 | N22: =K22/H22*100 -> #DIV/0!
B23: 605 | C23: Transferta Korente të Huaja | D23: 0 | E23: =D23/D25*100 -> 0 | G23: =F23/F25*100 -> 0 | I23: =H23/H25*100 -> 0 | J23: =H23-F23 -> 0 | L23: =K23/K25*100 -> 0 | M23: =H23-K23 -> 0 | N23: =K23/H23*100 -> #DIV/0!
B24: 606 | C24: Trans per Buxh. Fam. & Individ | D24: 273641145 | E24: =D24/D25*100 -> 3.6198037 | F24: 363685000 | G24: =F24/F25*100 -> 4.0904682 | H24: 363685000 | I24: =H24/H25*100 -> 4.0904682 | J24: =H24-F24 -> 0 | K24: 87900699 | L24: =K24/K25*100 -> 3.5653128 | M24: =H24-K24 -> 275784301 | N24: =K24/H24*100 -> 24.16946
C25: Nëntotali Shpenzime Korente | D25: =D18+D19+D20+D24 -> 7559557555 | E25: =D25/D35*100 -> 78.50392 | F25: =F18+F19+F20+F24 -> 8891036000 | G25: =F25/F35*100 -> 79.693518 | H25: =H18+H19+H20+H24 -> 8891036000 | I25: =H25/H35*100 -> 79.693518 | J25: =J18+J19+J20+J24 -> 0 | K25: =K18+K19+K20+K24 -> 2465441465 | L25: =K25/K35*100 -> 98.482873 | M25: =M18+M19+M20+M24 -> 6425594535 | N25: =K25/H25*100 -> 27.729518
B26: 230 | C26: Kapitale të Patrupëzuara | E26: =D26/D28*100 -> 0 | G26: =F26/F28*100 -> 0 | I26: =H26/H28*100 -> 0 | J26: =H26-F26 -> 0 | L26: =K26/K28*100 -> 0 | M26: =H26-K26 -> 0 | N26: =K26/H26*100 -> #DIV/0!
B27: 231 | C27: Kapitale të Trupëzuara | E27: =D27/D28*100 -> 0 | F27: 2265500000 | G27: =F27/F28*100 -> 100 | H27: 2265500000 | I27: =H27/H28*100 -> 100 | J27: =H27-F27 -> 0 | K27: 37980094 | L27: =K27/K28*100 -> 100 | M27: =H27-K27 -> 2227519906 | N27: =K27/H27*100 -> 1.6764553
C28: Nëntotali Shpenzime Kapitale me financim të brendshëm | D28: =D29+D30 -> 2069971164 | E28: =D28/D35*100 -> 21.49608 | F28: =F26+F27 -> 2265500000 | G28: =F28/F35*100 -> 20.306482 | H28: =H26+H27 -> 2265500000 | I28: =H28/H35*100 -> 20.306482 | J28: =J29+J30 -> 0 | K28: =K26+K27 -> 37980094 | L28: =K28/K35*100 -> 1.5171274 | M28: =SUM(M26:M27) -> 2227519906 | N28: =K28/H28*100 -> 1.6764553
B29: 230 | C29: Kapitale të Patrupëzuara | D29: 126768609 | E29: =D29/D32*100 -> #DIV/0! | G29: =F29/F32*100 -> #DIV/0! | H29: 0 | I29: =H29/H32*100 -> 0 | J29: 0 | K29: 0 | L29: =K29/K32*100 -> 0 | M29: =H29-K29 -> 0 | N29: 0
B30: 231 | C30: Kapitale të Trupëzuara | D30: 1943202555 | E30: =D30/D32*100 -> #DIV/0! | G30: =F30/F35*100 -> 0 | I30: =H30/H35*100 -> 0 | J30: 0 | K30: 0 | L30: =K30/K35*100 -> 0 | M30: =H30-K30 -> 0 | N30: 0
C31: Nëntotali Shpenzime Kapitale me financim të huaj | D31: 0 | E31: =D31/D35*100 -> 0 | G31: =F31/F35*100 -> 0 | H31: 0 | I31: =H31/H35*100 -> 0 | J31: 0 | K31: 0 | L31: =K31/K35*100 -> 0 | M31: =H31-K31 -> 0 | N31: 0
B32: 230 | C32: Kapitale të Patrupëzuara | E32: =D32/D35*100 -> 0 | G32: =F32/F35*100 -> 0 | H32: =H28 -> 2265500000 | I32: =H32/H35*100 -> 20.306482 | K32: =K28 -> 37980094 | L32: =K32/K35*100 -> 1.5171274 | M32: =H32-K32 -> 2227519906 | N32: =K32/H32*100 -> 1.6764553
B33: 231 | C33: Kapitale të Trupëzuara
C34: Totali i Shpenzimeve Kapitale | D34: =D28+D31 -> 2069971164 | E34: =D34/D35*100 -> 21.49608 | F34: =F30+F33 -> 0 | G34: =F34/F35*100 -> 0 | H34: =H30+H33 -> 0 | I34: =H34/H35*100 -> 0 | J34: =J30+J33 -> 0 | K34: =K30+K33 -> 0 | L34: =K34/K35*100 -> 0 | M34: =M30+M33 -> 0 | N34: =K34/H34*100 -> #DIV/0!
C35: Totali i Shpenzimeve Buxhetore të Programit | D35: =D25+D28+D31 -> 9629528719 | E35: =E25+E28 -> 100 | F35: =F25+F28+F31 -> 11156536000 | G35: =G25+G28 -> 100 | H35: =H32+H25 -> 11156536000 | I35: =I25+I28 -> 100 | J35: =J32+J25 -> 0 | K35: =K32+K25 -> 2503421559 | L35: =L25+L28 -> 100 | M35: =M32+M25 -> 8653114441 | N35: =K35/H35*100 -> 22.439058
C36: Shpenzime Korente nga të Ardhurat Jashtë limitit (Kap 06) | D36: 0 | K36: 0 | M36: =H36-K36 -> 0
C37: Shpenzime Kapitale nga të Ardhurat Jashtë limitit (Kap 06) | D37: 0 | K37: 0 | M37: =H37-K37 -> 0
C38: Totali i Shpenzimeve të Programit | D38: 9629528719 | E38: 100 | F38: 11156536000 | H38: 11156536000 | I38: 100 | J38: 0 | K38: 2503421559 | L38: 100 | M38: 8653114441 | N38: 22.439058

Sheet Aneksi 2.0 Mbësht .Shëndetësinë
B2: ANEKSI nr. 2 Raporti mbi Ekzekutimin e Buxhetit në nivelin e Programit të Buxhetit
B3: Periudha e Raportimit 04-2026
B4: në/lekë
B6: Emri i Grupit | C6: Ministria e Mbrojtjes | F6: Kodi i grupit | H6: 17
B8: Emri i | C8: Mbështetja për Shëndetësinë | F8: Kodi i programit | H8: 07340
B9: EMËRTIME | D9: Shpenzimet e Programit
D10: Viti paraardhës | E10: 2025 | F10: Periudha raportuese | H10: Periudha raportuese | J10: Periudha raportuese | K10: Periudha raportuese | M10: Ndryshimi Vjetor ( Plan - Fakt) | N10: % e realizimit | P10: Periudha raportuese
D11: Shpenzime Faktike | E11: Struktura e shpenzimeve në % | F11: Plani Fillestar Vjetor Viti 2026 | G11: Struktura e shpenzimeve në % | H11: Plani Vjetor i Rishikuar Viti 2026 | I11: Struktura e shpenzimeve në % | J11: Ndryshimi i planit vjetor | K11: Shpenzime Faktike të Periudhës/Progresive | L11: Struktura e shpenzimeve në % | P11: Shpenzime Faktike të Periudhës/Progresive | Q11: Struktura e shpenzimeve në %
D12: (1) | E12: (2) | F12: (3) | G12: (4) | H12: (5) | I12: (6) | J12: 7 (5-3) | K12: (8) | L12: (9) | M12: 10 (5-8) | N12: 11 ( 8/5) | P12: (8) | Q12: (9)
B13: Shpenzimet sipas klasifikimit ekonomik
B14: Kodi i Programit | C14: Emërtimi
B15: 600 | C15: Paga | D15: 695375308 | E15: =D15/D22*100 -> 40.672067 | F15: 715336000 | G15: =F15/F22*100 -> 43.75679 | H15: 715336000 | I15: =(H15/F15)*100 -> 100 | J15: =H15-F15 -> 0 | K15: 246002787 | L15: =(K15/H15)*100 -> 34.389823 | M15: =H15-K15 -> 469333213 | N15: =(K15/H15)*100 -> 34.389823 | P15: 695375308 | Q15: =(P15/M15)*100 -> 148.16239 | R15: =D15-P15 -> 0
B16: 601 | C16: Sigurime Shoqërore | D16: 114015591 | E16: =D16/D22*100 -> 6.6687007 | F16: 119300000 | G16: =F16/F22*100 -> 7.2975287 | H16: 119300000 | I16: =(H16/F16)*100 -> 100 | J16: =H16-F16 -> 0 | K16: 40384161 | L16: =(K16/H16)*100 -> 33.850931 | M16: =H16-K16 -> 78915839 | N16: =(K16/H16)*100 -> 33.850931 | P16: 114015591 | Q16: =(P16/M16)*100 -> 144.47745 | R16: =D16-P16 -> 0
B17: 602 | C17: Mallra dhe Shërbime të Tjera | D17: 895915200 | E17: =D17/D22*100 -> 52.40152 | F17: 798164000 | G17: =F17/F22*100 -> 48.823342 | H17: 798164000 | I17: =(H17/F17)*100 -> 100 | J17: =H17-F17 -> 0 | K17: 164866449 | L17: =(K17/H17)*100 -> 20.655711 | M17: =H17-K17 -> 633297551 | N17: =(K17/H17)*100 -> 20.655711 | P17: 895915200 | Q17: =(P17/M17)*100 -> 141.46829 | R17: =D17-P17 -> 0
B18: 603 | C18: Subvencione | D18: 0 | E18: =D18/D22*100 -> 0 | G18: =F18/F22*100 -> 0 | J18: =H18-F18 -> 0 | M18: =H18-K18 -> 0 | P18: 0 | R18: =D18-P18 -> 0
B19: 604 | C19: Transferta Korente të Brendshme | D19: 0 | E19: =D19/D22*100 -> 0 | G19: =F19/F22*100 -> 0 | J19: =H19-F19 -> 0 | M19: =H19-K19 -> 0 | P19: 0 | R19: =D19-P19 -> 0
B20: 605 | C20: Transferta Korente të Huaja | D20: 0 | E20: =D20/D22*100 -> 0 | G20: =F20/F22*100 -> 0 | J20: =H20-F20 -> 0 | M20: =H20-K20 -> 0 | P20: 0 | R20: =D20-P20 -> 0
B21: 606 | C21: Trans per Buxh. Fam. & Individ | D21: 4406131 | E21: =D21/D22*100 -> 0.25771185 | F21: 2000000 | G21: =F21/F22*100 -> 0.12233912 | H21: 2000000 | I21: =(H21/F21)*100 -> 100 | J21: =H21-F21 -> 0 | K21: 789646 | L21: =(K21/H21)*100 -> 39.4823 | M21: =H21-K21 -> 1210354 | N21: =(K21/H21)*100 -> 39.4823 | P21: 4406131 | Q21: =(P21/M21)*100 -> 364.03655 | R21: =D21-P21 -> 0
C22: Nëntotali Shpenzime Korente | D22: =SUM(D15:D21) -> 1709712230 | E22: =D22/D30*100 -> 89.843137 | F22: =SUM(F15:F21) -> 1634800000 | G22: =F22/F30*100 -> 76.578602 | H22: =SUM(H15:H21) -> 1634800000 | I22: =(H22/F22)*100 -> 100 | J22: =SUM(J15:J21) -> 0 | K22: =SUM(K15:K21) -> 452043043 | L22: =(K22/H22)*100 -> 27.651275 | M22: =SUM(M15:M21) -> 1182756957 | N22: =(K22/H22)*100 -> 27.651275 | P22: =SUM(P15:P21) -> 1709712230 | Q22: =(P22/M22)*100 -> 144.55313 | R22: =D22-P22 -> 0
B23: 230 | C23: Kapitale të Patrupëzuara | D23: 0 | E23: =D23/D25*100 -> 0 | F23: 0 | H23: 0 | J23: 0 | K23: 0 | M23: =H23-K23 -> 0 | P23: 0 | R23: =D23-P23 -> 0
B24: 231 | C24: Kapitale të Trupëzuara | D24: 193284800 | E24: =D24/D25*100 -> 100 | F24: 500000000 | H24: 500000000 | I24: =(H24/F24)*100 -> 100 | J24: =H24-F24 -> 0 | K24: 2456160 | L24: =(K24/H24)*100 -> 0.491232 | M24: =H24-K24 -> 497543840 | N24: =(K24/H24)*100 -> 0.491232 | P24: 193284800 | Q24: =(P24/M24)*100 -> 38.847793 | R24: =D24-P24 -> 0
C25: Nëntotali Shpenzime Kapitale me financim të brendshëm | D25: =D23+D24 -> 193284800 | E25: =D25/D30*100 -> 10.156863 | F25: =F23+F24 -> 500000000 | G25: =F25/F30*100 -> 23.421398 | H25: =H23+H24 -> 500000000 | I25: =(H25/F25)*100 -> 100 | J25: =J23+J24 -> 0 | K25: =K23+K24 -> 2456160 | L25: =(K25/H25)*100 -> 0.491232 | M25: =M23+M24 -> 497543840 | N25: =(K25/H25)*100 -> 0.491232 | P25: =P23+P24 -> 193284800 | Q25: =(P25/M25)*100 -> 38.847793 | R25: =D25-P25 -> 0
B26: 230 | C26: Kapitale të Patrupëzuara | D26: 0 | E26: =D26/D29*100 -> 0 | F26: 0 | H26: 0 | J26: 0 | K26: 0 | M26: 0 | P26: 0 | R26: =D26-P26 -> 0
B27: 231 | C27: Kapitale të Trupëzuara | D27: 0 | E27: =D27/D30*100 -> 0 | J27: 0 | K27: 0 | M27: 0 | P27: 0 | R27: =D27-P27 -> 0
C28: Nëntotali Shpenzime Kapitale me financim të huaj | D28: 0 | E28: =D28/D30*100 -> 0 | F28: 0 | H28: 0 | J28: 0 | K28: 0 | M28: 0 | P28: 0 | R28: =D28-P28 -> 0
C29: Totali i Shpenzimeve Kapitale | D29: =D25+D28 -> 193284800 | E29: =D29/D30*100 -> 10.156863 | F29: =F25+F28 -> 500000000 | H29: =H25+H28 -> 500000000 | I29: =(H29/F29)*100 -> 100 | J29: =J25+J28 -> 0 | K29: 2456160 | L29: =(K29/H29)*100 -> 0.491232 | M29: =M25+M28 -> 497543840 | N29: =(K29/H29)*100 -> 0.491232 | P29: =P25+P28 -> 193284800 | Q29: =(P29/M29)*100 -> 38.847793 | R29: =D29-P29 -> 0
C30: Totali i Shpenzimeve Buxhetore të Programit | D30: 1902997030 | E30: 100 | F30: 2134800000 | G30: 100 | H30: 2134800000 | I30: 100 | J30: 0 | K30: 454499203 | L30: 21.290013 | M30: 1680300797 | N30: 21.290013 | P30: =P29+P22 -> 1902997030 | Q30: =(P30/M30)*100 -> 113.25336 | R30: =D30-P30 -> 0

Sheet Aneksi 2.0 Arsimi Ushtarak
B2: ANEKSI nr. 2 Raporti mbi Ekzekutimin e Buxhetit në nivelin e Programit të Buxhetit
B3: Periudha e Raportimit 04-2026
B4: në/lekë
B6: Emri i Grupit | C6: Ministria e Mbrojtjes | F6: Kodi i grupit | H6: 17
B8: Emri i | C8: Arsimi Ushtarak | F8: Kodi i programit | H8: 09430
B9: EMËRTIME | D9: Shpenzimet e Programit
D10: Viti paraardhës 2025 | F10: Periudha raportuese | H10: Periudha raportuese | J10: Periudha raportuese | K10: Periudha raportuese | M10: Ndryshimi Vjetor ( Plan - Fakt) | N10: % e realizimit
D11: Shpenzime Faktike | E11: Struktura e shpenzimeve në % | F11: Plani Fillestar Vjetor Viti 2026 | G11: Struktura e shpenzimeve në % | H11: Plani Vjetor i Rishikuar Viti 2025 | I11: Struktura e shpenzimeve në % | J11: Ndryshimi i planit vjetor | K11: Shpenzime Faktike të Periudhës/ Progresive | L11: Struktura e shpenzimeve në %
D12: (1) | E12: (2) | F12: (3) | G12: (4) | H12: (5) | I12: (6) | J12: 7 (5-3) | K12: (8) | L12: (9) | M12: 10 (5-8) | N12: 11 ( 8/5)
B13: Shpenzimet sipas klasifikimit ekonomik
B14: Kodi i Programit | C14: Emërtimi
B15: 600 | C15: Paga | D15: 478323136 | E15: =D15/D22*100 -> 50.564519 | F15: 575300000 | G15: =F15/F22*100 -> 63.858364 | H15: 575300000 | I15: =H15/H22*100 -> 63.858364 | J15: =H15-F15 -> 0 | K15: 106092440 | L15: =K15/K22*100 -> 44.835292 | M15: =H15-K15 -> 469207560 | N15: =K15/H15*100 -> 18.441238
B16: 601 | C16: Sigurime Shoqërore | D16: 117426725 | E16: =D16/D22*100 -> 12.41342 | F16: 104600000 | G16: =F16/F23*100 -> #DIV/0! | H16: 104600000 | I16: =H16/H23*100 -> #DIV/0! | J16: =H16-F16 -> 0 | K16: 31861869 | L16: =K16/K23*100 -> #DIV/0! | M16: =H16-K16 -> 72738131 | N16: =K16/H16*100 -> 30.460678
B17: 602 | C17: Mallra dhe Shërbime të Tjera | D17: 100983829 | E17: =D17/D22*100 -> 10.675208 | F17: 81000000 | G17: =F17/F24*100 -> 9.4515753 | H17: 81000000 | I17: =H17/H24*100 -> 9.4515753 | J17: =H17-F17 -> 0 | K17: 14003159 | L17: =K17/K24*100 -> 114.40979 | M17: =H17-K17 -> 66996841 | N17: =K17/H17*100 -> 17.287851
B18: 603 | C18: Subvencione | E18: =D18/D22*100 -> 0 | G18: =F18/F25*100 -> 0 | I18: =H18/H25*100 -> 0 | J18: =H18-F18 -> 0 | L18: =K18/K25*100 -> 0 | M18: =H18-K18 -> 0 | N18: =K18/H18*100 -> #DIV/0!
B19: 604 | C19: Transferta Korente të Brendshme | E19: =D19/D22*100 -> 0 | G19: =F19/F26*100 -> #DIV/0! | I19: =H19/H26*100 -> #DIV/0! | J19: =H19-F19 -> 0 | L19: =K19/K26*100 -> #DIV/0! | M19: =H19-K19 -> 0 | N19: =K19/H19*100 -> #DIV/0!
B20: 605 | C20: Transferta Korente të Huaja | E20: =D20/D22*100 -> 0 | G20: =F20/F27*100 -> #DIV/0! | I20: =H20/H27*100 -> #DIV/0! | J20: =H20-F20 -> 0 | L20: =K20/K27*100 -> #DIV/0! | M20: =H20-K20 -> 0 | N20: =K20/H20*100 -> #DIV/0!
B21: 606 | C21: Trans per Buxh. Fam. & Individ | D21: 249232267 | E21: =D21/D22*100 -> 26.346854 | F21: 140000000 | G21: =F21/F28*100 -> #DIV/0! | H21: 140000000 | I21: =H21/H28*100 -> #DIV/0! | J21: =H21-F21 -> 0 | K21: 84669605 | L21: =K21/K28*100 -> #DIV/0! | M21: =H21-K21 -> 55330395 | N21: =K21/H21*100 -> 60.478289
C22: Nëntotali Shpenzime Korente | D22: =SUM(D15:D21) -> 945965957 | E22: =D22/D32*100 -> 70.443557 | F22: =SUM(F15:F21) -> 900900000 | G22: =F22/F32*100 -> 51.248649 | H22: =SUM(H15:H21) -> 900900000 | I22: =H22/H32*100 -> 51.248649 | J22: =SUM(J15:J21) -> 0 | K22: =SUM(K15:K21) -> 236627073 | L22: =K22/K32*100 -> 95.081912 | M22: =SUM(M15:M21) -> 664272927 | N22: =K22/H22*100 -> 26.265631
B23: 230 | C23: Kapitale të Patrupëzuara | E23: =D23/D25*100 -> 0 | G23: =F23/F25*100 -> 0 | I23: =H23/H25*100 -> 0
B24: 231 | C24: Kapitale të Trupëzuara | D24: 396904849 | E24: 30 | F24: 857000000 | G24: 30 | H24: 857000000 | I24: 30 | J24: =H24-F24 -> 0 | K24: 12239476 | M24: =H24-K24 -> 844760524 | N24: =K24/H24*100 -> 1.4281769
C25: Nëntotali Shpenzime Kapitale me financim të brendshëm | D25: =D23+D24 -> 396904849 | E25: =D25/D32*100 -> 29.556443 | F25: =F23+F24 -> 857000000 | G25: =F25/F32*100 -> 48.751351 | H25: =H23+H24 -> 857000000 | I25: =H25/H32*100 -> 48.751351 | J25: =J23+J24 -> 0 | K25: =K23+K24 -> 12239476 | L25: =K25/K32*100 -> 4.918088 | M25: =M23+M24 -> 844760524 | N25: =K25/H25*100 -> 1.4281769
B26: 230 | C26: Kapitale të Patrupëzuara | E26: =D26/D31*100 -> 0
B27: 231 | C27: Kapitale të Trupëzuara | E27: =D27/D32*100 -> 0
C28: Nëntotali Shpenzime Kapitale me financim të huaj | D28: 0 | E28: =D28/D32*100 -> 0
B29: 230 | C29: Kapitale të Patrupëzuara
B30: 231 | C30: Kapitale të Trupëzuara
C31: Totali i Shpenzimeve Kapitale | D31: =D25+D28 -> 396904849 | E31: =D31/D32*100 -> 29.556443 | F31: =F25+F28 -> 857000000 | G31: =F31/F32*100 -> 48.751351 | H31: =H25+H28 -> 857000000 | I31: =H31/H32*100 -> 48.751351 | J31: =J25+J28 -> 0 | K31: =K25+K28 -> 12239476 | M31: =H31-K31 -> 844760524 | N31: =K31/H31*100 -> 1.4281769
C32: Totali i Shpenzimeve Buxhetore të Programit | D32: 1342870806 | E32: 100 | F32: 1757900000 | G32: 100 | H32: 1757900000 | I32: 100 | J32: 0 | K32: 248866549 | L32: 100 | M32: 1509033451 | N32: 14.157037
C33: Shpenzime Korente nga të Ardhurat Jashtë limitit (Kap 06) | D33: 3144920 | E33: 0.2336466

Sheet Aneksi 2.0 Mbeshtet. Ushtaraket
B2: ANEKSI nr. 2 Raporti mbi Ekzekutimin e Buxhetit në nivelin e Programit të Buxhetit
B3: Periudha e Raportimit 04-2026
B4: në/lekë
B6: Emri i Grupit | C6: Ministria e Mbrojtjes | F6: Kodi i grupit | H6: 17
B8: Emri i | C8: Mbështetje për Ushtarakët | F8: Kodi i programit | H8: 10270
B9: EMËRTIME | D9: Shpenzimet e Programit
D10: Viti paraardhës | E10: 2025 | F10: Periudha raportuese | H10: Periudha raportuese | J10: Periudha raportuese | K10: Periudha raportuese | M10: Ndryshimi Vjetor ( Plan - Fakt) | N10: % e realizimit | P10: Periudha raportuese
D11: Shpenzime Faktike | E11: Struktura e shpenzimeve në % | F11: Plani Fillestar Vjetor Viti 2026 | G11: Struktura e shpenzimeve në % | H11: Plani Vjetor i Rishikuar Viti 2026 | I11: Struktura e shpenzimeve në % | J11: Ndryshimi i planit vjetor | K11: Shpenzime Faktike të Periudhës/Progresive | L11: Struktura e shpenzimeve në % | P11: Shpenzime Faktike të Periudhës/Progresive | Q11: Struktura e shpenzimeve në %
D12: (1) | E12: (2) | F12: (3) | G12: (4) | H12: (5) | I12: (6) | J12: 7 (5-3) | K12: (8) | L12: (9) | M12: 10 (5-8) | N12: 11 ( 8/5) | P12: (8) | Q12: (9)
B13: Shpenzimet sipas klasifikimit ekonomik
B14: Kodi i Programit | C14: Emërtimi
B15: 600 | C15: Paga | D15: 0 | E15: 0 | F15: 0 | G15: 0 | H15: 0 | I15: 0 | J15: 0 | K15: 0 | L15: 0 | M15: 0 | N15: 0 | P15: 0 | Q15: 0
B16: 601 | C16: Sigurime Shoqërore | D16: 0 | E16: 0 | F16: 0 | G16: 0 | H16: 0 | I16: 0 | J16: 0 | K16: 0 | L16: 0 | M16: 0 | N16: 0 | P16: 0 | Q16: 0
B17: 602 | C17: Mallra dhe Shërbime të Tjera | D17: 0 | E17: 0 | F17: 0 | G17: 0 | H17: 0 | I17: 0 | J17: 0 | K17: 0 | L17: 0 | M17: 0 | N17: 0 | P17: 0 | Q17: 0
B18: 603 | C18: Subvencione | D18: 0 | E18: 0 | F18: 0 | G18: 0 | H18: 0 | I18: 0 | J18: 0 | K18: 0 | L18: 0 | M18: 0 | N18: 0 | P18: 0 | Q18: 0
B19: 604 | C19: Transferta Korente të Brendshme | D19: 5228958000 | E19: 100 | F19: 5200000000 | G19: =F19/F22*100 -> 100 | H19: 5200000000 | I19: =H19/H22*100 -> 100 | K19: 2000000000 | L19: =(K19/H19)*100 -> 38.461538 | M19: =H19-K19 -> 3200000000 | N19: 0 | P19: =M19 -> 3200000000 | Q19: 100
B20: 605 | C20: Transferta Korente të Huaja | D20: 0 | E20: 0 | M20: =H20-K20 -> 0 | N20: 0 | P20: =M20 -> 0 | Q20: 0
B21: 606 | C21: Trans per Buxh. Fam. & Individ | D21: 0 | E21: 0 | M21: =H21-K21 -> 0 | N21: 0 | P21: =M21 -> 0 | Q21: 0
C22: Nëntotali Shpenzime Korente | D22: =D19 -> 5228958000 | E22: 100 | F22: =F19 -> 5200000000 | G22: 100 | H22: =H19 -> 5200000000 | K22: =K19 -> 2000000000 | L22: =(K22/H22)*100 -> 38.461538 | M22: =H22-K22 -> 3200000000 | N22: 0 | P22: =M22 -> 3200000000 | Q22: 100
B23: 230 | C23: Kapitale të Patrupëzuara | D23: 0 | E23: 0 | F23: 0 | G23: 0 | H23: 0 | I23: 0 | J23: =H23-F23 -> 0 | K23: =H23 -> 0 | L23: 0 | M23: =H23-K23 -> 0 | N23: 0 | P23: =M23 -> 0 | Q23: 0
B24: 231 | C24: Kapitale të Trupëzuara | D24: 0 | E24: 0 | F24: 0 | G24: 0 | H24: 0 | I24: 0 | J24: =H24-F24 -> 0 | K24: =H24 -> 0 | L24: 0 | M24: =H24-K24 -> 0 | N24: 0 | P24: =M24 -> 0 | Q24: 0
C25: Nëntotali Shpenzime Kapitale me financim të brendshëm | D25: 0 | E25: =D25/D32*100 -> 0 | F25: 0 | G25: =F25/F32*100 -> 0 | H25: 0 | I25: 0 | J25: =H25-F25 -> 0 | K25: =H25 -> 0 | L25: 0 | M25: =H25-K25 -> 0 | N25: =K25 -> 0 | P25: =M25 -> 0 | Q25: 0
B26: 230 | C26: Kapitale të Patrupëzuara | D26: 0 | E26: 0 | F26: 0 | G26: 0 | H26: 0 | I26: 0 | J26: =H26-F26 -> 0 | K26: =H26 -> 0 | L26: 0 | M26: =H26-K26 -> 0 | N26: =K26 -> 0 | P26: =M26 -> 0 | Q26: 0
B27: 231 | C27: Kapitale të Trupëzuara | D27: 0 | E27: 0 | F27: 0 | G27: 0 | H27: 0 | I27: 0 | J27: =H27-F27 -> 0 | K27: =H27 -> 0 | L27: 0 | M27: =H27-K27 -> 0 | N27: =K27 -> 0 | P27: =M27 -> 0 | Q27: 0
C28: Nëntotali Shpenzime Kapitale me financim të huaj | D28: 0 | E28: 0 | F28: 0 | G28: 0 | H28: 0 | I28: 0 | J28: =H28-F28 -> 0 | K28: =H28 -> 0 | L28: 0 | M28: =H28-K28 -> 0 | N28: =K28 -> 0 | P28: =M28 -> 0 | Q28: 0
B29: 230 | C29: Kapitale të Patrupëzuara | M29: =H29-K29 -> 0 | N29: =K29 -> 0
B30: 231 | C30: Kapitale të Trupëzuara | M30: =H30-K30 -> 0 | N30: =K30 -> 0
C31: Totali i Shpenzimeve Kapitale | D31: =D25+D28 -> 0 | E31: 0 | F31: 0 | G31: 0 | H31: 0 | I31: 0 | J31: =H31-F31 -> 0 | K31: =H31 -> 0 | L31: 0 | M31: =H31-K31 -> 0 | N31: =K31 -> 0 | P31: =M31 -> 0 | Q31: 0
C32: Totali i Shpenzimeve Buxhetore të Programit | D32: =D22 -> 5228958000 | E32: 100 | F32: =F22 -> 5200000000 | G32: =G22+G25 -> 100 | H32: =H22 -> 5200000000 | I32: =I22+I25 -> 0 | K32: =K22 -> 2000000000 | L32: =(K32/H32)*100 -> 38.461538 | M32: =H32-K32 -> 3200000000 | P32: =M32 -> 3200000000 | Q32: 100
C33: Shpenzime Korente nga të Ardhurat Jashtë limitit (Kap 06) | D33: 0 | P33: =M33 -> 0
C34: Shpenzime Kapitale nga të Ardhurat Jashtë limitit (Kap 06) | D34: 0 | P34: =M34 -> 0
C35: Totali i Shpenzimeve të Programit | D35: =D32 -> 5228958000 | E35: =E32 -> 100 | F35: =F32 -> 5200000000 | G35: =G32 -> 100 | H35: =H32 -> 5200000000 | I35: =I32 -> 0 | J35: =J32 -> 0 | K35: =K32 -> 2000000000 | ... N35: =N32 -> 0 | P35: =P22 -> 3200000000

Sheet Aneksi 2.0 Emergjencat Civile
B2: ANEKSI nr. 2 Raporti mbi Ekzekutimin e Buxhetit në nivelin e Programit të Buxhetit
C3: Periudha e Raportimit 04-2026
B6: Emri i Grupit | C6: Ministria e Mbrojtjes | F6: Kodi i grupit | H6: 17
B8: Emri i | C8: Emergjencat Civile | F8: Kodi i programit | H8: 10910
B9: EMËRTIME | D9: Shpenzimet e Programit
D10: Viti paraardhës | E10: 2025 | F10: Periudha raportuese | H10: Periudha raportuese | J10: Periudha raportuese | K10: Periudha raportuese | M10: Ndryshimi Vjetor ( Plan - Fakt) | N10: % e realizimit | P10: Periudha raportuese
D11: Shpenzime Faktike | E11: Struktura e shpenzimeve në % | F11: Plani Fillestar Vjetor Viti 2026 | G11: Struktura e shpenzimeve në % | H11: Plani Vjetor i Rishikuar Viti 2026 | I11: Struktura e shpenzimeve në % | J11: Ndryshimi i planit vjetor | K11: Shpenzime Faktike të Periudhës/Progresive | L11: Struktura e shpenzimeve në % | P11: Shpenzime Faktike të Periudhës/Progresive | Q11: Struktura e shpenzimeve në %
D12: (1) | E12: (2) | F12: (3) | G12: (4) | H12: (5) | I12: (6) | J12: 7 (5-3) | K12: (8) | L12: (9) | M12: 10 (5-8) | N12: 11 ( 8/5) | P12: (8) | Q12: (9)
B13: Shpenzimet sipas klasifikimit ekonomik
B14: Kodi i Programit | C14: Emërtimi
B15: 600 | C15: Paga | D15: 202443357 | E15: =D15/D22*100 -> 18.865439 | F15: 261800000 | G15: =F15/F22*100 -> 20.790978 | H15: 261800000 | I15: =H15/H22*100 -> 20.790978 | J15: =H15-F15 -> 0 | K15: 69197857 | L15: =K15/K22*100 -> 62.745413 | M15: =H15-K15 -> 192602143 | N15: =K15/H15*100 -> 26.431573 | P15: 202443357 | Q15: 18.865439 | R15: =D15-P15 -> 0 | S15: =E15-Q15 -> 0
B16: 601 | C16: Sigurime Shoqërore | D16: 32774835 | E16: =D16/D22*100 -> 3.0542453 | F16: 38400000 | G16: =F16/F22*100 -> 3.0495553 | H16: 38400000 | I16: =H16/H22*100 -> 3.0495553 | J16: =H16-F16 -> 0 | K16: 11457681 | L16: =K16/K22*100 -> 10.389295 | M16: =H16-K16 -> 26942319 | N16: =K16/H16*100 -> 29.837711 | P16: 32774835 | Q16: 3.0542453 | R16: =D16-P16 -> 0 | S16: =E16-Q16 -> 0
B17: 602 | C17: Mallra dhe Shërbime të Tjera | D17: 236139724 | E17: =D17/D22*100 -> 22.005561 | F17: 441000000 | G17: =F17/F22*100 -> 35.022236 | H17: 441000000 | I17: =H17/H22*100 -> 35.022236 | J17: =H17-F17 -> 0 | K17: 10545664 | L17: =K17/K22*100 -> 9.5623199 | M17: =H17-K17 -> 430454336 | N17: =K17/H17*100 -> 2.391307 | P17: 236139724 | Q17: 22.005561 | R17: =D17-P17 -> 0 | S17: =E17-Q17 -> 0
B18: 603 | C18: Subvencione | E18: =D18/D22*100 -> 0 | G18: =F18/F22*100 -> 0 | I18: =H18/H22*100 -> 0 | J18: =H18-F18 -> 0 | L18: =K18/K22*100 -> 0 | M18: =H18-K18 -> 0 | N18: =K18/H18*100 -> #DIV/0! | Q18: 0 | R18: =D18-P18 -> 0 | S18: =E18-Q18 -> 0
B19: 604 | C19: Transferta Korente të Brendshme | D19: 5.9013089e+08 | E19: =D19/D22*100 -> 54.993548 | F19: 500000000 | G19: =F19/F22*100 -> 39.707751 | H19: 500000000 | I19: =H19/H22*100 -> 39.707751 | J19: =H19-F19 -> 0 | K19: 8971865 | L19: =K19/K22*100 -> 8.1352718 | M19: =H19-K19 -> 491028135 | N19: =K19/H19*100 -> 1.794373 | P19: 5.9013089e+08 | Q19: 54.993548 | R19: =D19-P19 -> 0 | S19: =E19-Q19 -> 0
B20: 605 | C20: Transferta Korente të Huaja | D20: 10978573 | E20: =D20/D22*100 -> 1.0230793 | F20: 18000000 | G20: 1.429479 | H20: 18000000 | I20: =H20/H22*100 -> 1.429479 | J20: =H20-F20 -> 0 | K20: 10110464 | L20: =K20/K22*100 -> 9.1677007 | M20: =H20-K20 -> 7889536 | N20: =K20/H20*100 -> 56.169244 | P20: 10978573 | Q20: 1.0230793 | R20: =D20-P20 -> 0 | S20: =E20-Q20 -> 0
B21: 606 | C21: Trans per Buxh. Fam. & Individ | D21: 623755 | E21: =D21/D22*100 -> 0.058126937 | I21: =H21/H22*100 -> 0 | J21: =H21-F21 -> 0 | L21: =K21/K22*100 -> 0 | M21: =H21-K21 -> 0 | N21: =K21/H21*100 -> #DIV/0! | P21: 623755 | Q21: 0.058126937 | R21: =D21-P21 -> 0 | S21: =E21-Q21 -> 0
C22: Nëntotali Shpenzime Korente | D22: =SUM(D15:D21) -> 1.0730911e+09 | E22: =D22/D33*100 -> 44.575241 | F22: =SUM(F15:F21) -> 1259200000 | G22: =F22/F33*100 -> 21.743147 | H22: =SUM(H15:H21) -> 1259200000 | I22: =H22/H33*100 -> 21.743147 | J22: =SUM(J15:J21) -> 0 | K22: =SUM(K15:K21) -> 110283531 | L22: =K22/K33*100 -> 75.575547 | M22: =SUM(M15:M21) -> 1148916469 | N22: =K22/H22*100 -> 8.758222 | P22: 1.0730911e+09 | Q22: 43.64452 | R22: =D22-P22 -> 0 | S22: =E22-Q22 -> 0.93072119
B23: 230 | C23: Kapitale të Patrupëzuara | D23: 13253510 | E23: =D23/D25*100 -> 0.99858741 | F23: 0 | G23: =F23/F25*100 -> 0 | I23: =H23/H25*100 -> 0 | J23: =H23-F23 -> 0 | L23: =K23/K25*100 -> 0 | M23: 0 | N23: =K23/H23*100 -> #DIV/0! | P23: 13253510 | Q23: 0.99858741 | R23: =D23-P23 -> 0 | S23: =E23-Q23 -> 0
B24: 231 | C24: Kapitale të Trupëzuara | D24: 1313972314 | E24: =D24/D25*100 -> 99.001413 | F24: 2520000000 | G24: =F24/F25*100 -> 100 | H24: 2520000000 | I24: =H24/H25*100 -> 100 | J24: =H24-F24 -> 0 | K24: 18375434 | L24: =K24/K25*100 -> 100 | N24: =K24/H24*100 -> 0.72918389 | P24: 1313972314 | Q24: 99.001413 | R24: =D24-P24 -> 0 | S24: =E24-Q24 -> 0
C25: Nëntotali Shpenzime Kapitale me financim të brendshëm | D25: =D23+D24 -> 1327225824 | E25: =D25/D33*100 -> 55.131768 | F25: =F23+F24 -> 2520000000 | G25: =F25/F33*100 -> 43.513922 | H25: =H23+H24 -> 2520000000 | I25: =H25/H33*100 -> 43.513922 | J25: =J23+J24 -> 0 | K25: =K23+K24 -> 18375434 | L25: =K25/K33*100 -> 12.592392 | M25: =M23+M24 -> 0 | N25: =K25/H25*100 -> 0.72918389 | P25: 1327225824 | Q25: 53.980629 | R25: =D25-P25 -> 0 | S25: =E25-Q25 -> 1.1511391
B26: 230 | C26: Kapitale të Patrupëzuara | D26: 0 | E26: =D26/D28*100 -> 0 | F26: 0 | G26: =F26/F28*100 -> 0 | H26: 0 | I26: =H26/H28*100 -> 0 | J26: =H26-F26 -> 0 | K26: 0 | L26: =K26/K28*100 -> 0 | N26: =K26/H26*100 -> #DIV/0! | P26: 0 | Q26: 0 | R26: =D26-P26 -> 0 | S26: =E26-Q26 -> 0
B27: 231 | C27: Kapitale të Trupëzuara | D27: 51337272 | E27: =D27/D28*100 -> 100 | F27: 2012050000 | G27: =F27/F28*100 -> 100 | H27: 2012050000 | I27: =H27/H28*100 -> 100 | J27: =H27-F27 -> 0 | K27: 17265921 | L27: =K27/K28*100 -> 100 | N27: =K27/H27*100 -> 0.85812584 | P27: 51337272 | Q27: 100 | R27: =D27-P27 -> 0 | S27: =E27-Q27 -> 0
C28: Nëntotali Shpenzime Kapitale me financim të huaj | D28: =D26+D27 -> 51337272 | E28: =D28/D33*100 -> 2.1325041 | F28: =F26+F27 -> 2012050000 | G28: =F28/F33*100 -> 34.742931 | H28: =H26+H27 -> 2012050000 | I28: =H28/H33*100 -> 34.742931 | J28: =J26+J27 -> 0 | K28: =K26+K27 -> 17265921 | L28: =K28/K33*100 -> 11.832061 | M28: =M26+M27 -> 0 | N28: =K28/H28*100 -> 0.85812584 | P28: 51337272 | Q28: 2.0879779 | R28: =D28-P28 -> 0 | S28: =E28-Q28 -> 0.044526216
C29: Totali i Shpenzimeve Kapitale | D29: =D25+D28 -> 1378563096 | E29: =E25 -> 55.131768 | F29: =F25+F28 -> 4532050000 | G29: =G25 -> 43.513922 | H29: =H25+H28 -> 4532050000 | I29: =I25 -> 43.513922 | J29: =J25+J28 -> 0 | K29: =K25+K28 -> 35641355 | L29: =L25 -> 12.592392 | M29: =M25+M28 -> 0 | N29: =K29/H29*100 -> 0.78642899 | P29: 1378563096 | Q29: 53.980629 | R29: =D29-P29 -> 0 | S29: =E29-Q29 -> 1.1511391
C30: Totali i Shpenzimeve Buxhetore të Programit | D30: =D22+D25+D28-D27 -> 2.400317e+09 | E30: =E25 -> 55.131768 | F30: =F22+F25+F28 -> 5791250000 | G30: =G25 -> 43.513922 | H30: =H22+H25+H28 -> 5791250000 | I30: =I25 -> 43.513922 | J30: =J22+J25+J28 -> 0 | K30: =K22+K25+K27 -> 145924886 | L30: =L25 -> 12.592392 | M30: =M22+M25+M28 -> 1148916469 | N30: =K30/H30*100 -> 2.5197477 | P30: 2.4516542e+09 | Q30: 53.980629 | R30: =D30-P30 -> -51337272 | S30: =E30-Q30 -> 1.1511391
C31: Shpenzime Korente nga të Ardhurat Jashtë limitit (Kap 06) | D31: 7053380 | J31: =H31-F31 -> 0 | N31: =K31/H31*100 -> #DIV/0! | P31: 7053380 | R31: =D31-P31 -> 0 | S31: =E31-Q31 -> 0
C32: Shpenzime Kapitale nga të Ardhurat Jashtë limitit (Kap 06) | D32: 0 | H32: 0 | J32: =H32-F32 -> 0 | K32: 0 | N32: =K32/H32*100 -> #DIV/0! | P32: 0 | R32: =D32-P32 -> 0 | S32: =E32-Q32 -> 0
C33: Totali i Shpenzimeve të Programit | D33: 2.4073703e+09 | E33: 101.83951 | F33: 5791250000 | G33: 100 | H33: 5791250000 | I33: 100 | J33: 0 | K33: 145924886 | L33: 100 | M33: 1148916469 | N33: 2.5197477 | P33: 2.4587076e+09 | Q33: 99.713127 | R33: =D33-P33 -> -51337272 | S33: =E33-Q33 -> 2.1263865
B34: Shpenzimet sipas produkteve të programit buxhetor | N34: =K34/H34*100 -> #DIV/0! | R34: =D34-P34 -> 0 | S34: =E34-Q34 -> 0

Sheet Aneksi 2.1 Planif
C2: RAPORTI 2/1 Shpenzimet e programit sipas kapitujve
C3: Periudha e Raportimit 4-2026
S4: Ne leke
C5: Kodi i Ministrisë | D5: Kodi i Programit | F5: Emërtimi i Programit | G5: Kodi i Kapitullit | H5: Emërtimi i Kapitullit | I5: Periudha raportuese | J5: Buxheti | K5: Artikujt buxhetore
K6: 230 | L6: 231 | M6: 600 | N6: 601 | O6: 602 | P6: 603 | Q6: 604 | R6: 605 | S6: 606 | T6: Total
I7: Periodike /Vjetore | K7: Shpenzime Kapitale të Patrupëzuara | L7: Shpenzime Kapitale të Trupëzuara | M7: Pagat | N7: Kontrib.e Sigurimeve Shoqërore | O7: Mallra dhe Shërbime | P7: Subveci-net | Q7: Të Tjera Transfer.Korrente Brendshme | R7: Transfer.Korrente të Huaja | S7: Transferta për Buxhetet Familiare dhe Individët | T7: Total
C8: 17 | D8: 01110 | F8: Planifikimi, Menaxhimi dhe Administrimi | G8: 01 | H8: Nga Buxheti | I8: 2025 | J8: Plani fillestar | L8: 80000000 | M8: 612980000 | N8: 114900000 | O8: 399896000 | R8: 275424000 | S8: 33000000 | T8: =SUM(K8:S8) -> 1516200000
C9: 17 | D9: 01110 | F9: Planifikimi, Menaxhimi dhe Administrimi | G9: 01 | H9: Nga Buxheti | I9: 2025 | J9: Plani i rishikuar | L9: 80000000 | M9: 612980000 | N9: 114900000 | O9: 399896000 | R9: 275424000 | S9: 33000000 | T9: =SUM(K9:S9) -> 1516200000
C10: 17 | D10: 01110 | F10: Planifikimi, Menaxhimi dhe Administrimi | G10: 01 | H10: Nga Buxheti | I10: 2025 | J10: Fakti | L10: 0 | M10: 170597674 | N10: 34485603 | O10: 207346272 | R10: 146500000 | S10: 8871905 | T10: =SUM(K10:S10) -> 567801454
C11: 17 | D11: 01110 | F11: Planifikimi, Menaxhimi dhe Administrimi | G11: 01 | H11: Nga Buxheti | I11: 2025 | J11: Angazhime | T11: =SUM(K11:S11) -> 0
C12: 17 | D12: 01110 | F12: Planifikimi, Menaxhimi dhe Administrimi | G12: 02 | H12: Financim i huaj - Grant | I12: 2025 | J12: Plani fillestar | T12: =SUM(K12:S12) -> 0
C13: 17 | D13: 01110 | F13: Planifikimi, Menaxhimi dhe Administrimi | G13: 02 | H13: Financim i huaj - Grant | I13: 2025 | J13: Plani i rishikuar | T13: =SUM(K13:S13) -> 0
C14: 17 | D14: 01110 | F14: Planifikimi, Menaxhimi dhe Administrimi | G14: 02 | H14: Financim i huaj - Grant | I14: 2025 | J14: Fakti | T14: =SUM(K14:S14) -> 0
C15: 17 | D15: 01110 | F15: Planifikimi, Menaxhimi dhe Administrimi | G15: 02 | H15: Financim i huaj - Grant | I15: 2025 | J15: Angazhime | T15: =SUM(K15:S15) -> 0
C16: 17 | D16: 01110 | F16: Planifikimi, Menaxhimi dhe Administrimi | H16: Total | I16: 2025 | J16: Plani fillestar | L16: =L8 -> 80000000 | M16: =M8 -> 612980000 | N16: =N8 -> 114900000 | O16: =O8 -> 399896000 | P16: =P8 -> 0 | Q16: =Q8 -> 0 | R16: =R8 -> 275424000 | S16: =S8 -> 33000000 | T16: =SUM(K16:S16) -> 1516200000
C17: 17 | D17: 01110 | F17: Planifikimi, Menaxhimi dhe Administrimi | H17: Total | I17: 2025 | J17: Plani i rishikuar | K17: =K9+K13 -> 0 | L17: =L9+L13 -> 80000000 | M17: =M9 -> 612980000 | N17: =N9 -> 114900000 | O17: =O9 -> 399896000 | P17: =P9 -> 0 | Q17: =Q9 -> 0 | R17: =R9 -> 275424000 | S17: =S9 -> 33000000 | T17: =SUM(K17:S17) -> 1516200000
C18: 17 | D18: 01110 | F18: Planifikimi, Menaxhimi dhe Administrimi | H18: Total | I18: 2025 | J18: Fakti | K18: =K10+K14 -> 0 | L18: =L10+L14 -> 0 | M18: =M10 -> 170597674 | N18: =N10 -> 34485603 | O18: =O10 -> 207346272 | P18: =P10 -> 0 | Q18: =Q10 -> 0 | R18: =R10 -> 146500000 | S18: =S10 -> 8871905 | T18: =SUM(K18:S18) -> 567801454
C19: 17 | D19: 01110 | F19: Planifikimi, Menaxhimi dhe Administrimi | H19: Total | I19: 2025 | J19: Angazhime | K19: =K11+K15 -> 0 | L19: =L11+L15 -> 0 | M19: =M11+M15 -> 0 | N19: =N11+N15 -> 0 | O19: =O11+O15 -> 0 | R19: =R11+R15 -> 0 | S19: =S11+S15 -> 0 | T19: =SUM(K19:S19) -> 0
C20: 17 | D20: 01110 | F20: Ndryshimi ne vlere absolute | I20: 2025 | K20: =K17-K16 -> 0 | L20: =L17-L16 -> 0 | M20: =M17-M16 -> 0 | N20: =N17-N16 -> 0 | O20: =O17-O16 -> 0 | P20: =P17-P16 -> 0 | Q20: =Q17-Q16 -> 0 | R20: =R17-R16 -> 0 | ... T20: =T17-T16 -> 0
C21: 17 | D21: 01110 | F21: Realizimi ne % | I21: 2025 | K21: =K18-K17 -> 0 | L21: =L18/L17*100 -> 0 | M21: =M18/M17*100 -> 27.830871 | N21: =N18/N17*100 -> 30.01358 | O21: =O18/O17*100 -> 51.850049 | P21: =P18/P17*100 -> #DIV/0! | Q21: =Q18/Q17*100 -> #DIV/0! | R21: =R18/R17*100 -> 53.190717 | S21: =S18/S17*100 -> 26.884561 | T21: =T18/T17*100 -> 37.448981
C22: 17 | D22: 01110 | F22: Te ardhura jashte limiti | G22: 06 | H22: Te ardhura jashte limiti | I22: 2026 | J22: Plani | L22: 1.154499e+08 | O22: 24636859 | T22: =SUM(K22:S22) -> 1.4008676e+08
C23: 17 | D23: 01110 | F23: Te ardhura jashte limiti | G23: 06 | H23: Te ardhura jashte limiti | I23: 2026 | J23: Fakti | K23: 0 | L23: 0 | M23: 0 | N23: 0 | O23: 0 | P23: 0 | Q23: 0 | R23: 0 | S23: 0 | T23: 0

Sheet Aneksi 2.1 Forcat e Luftimit
C2: RAPORTI 2/1 Shpenzimet e programit sipas kapitujve
C3: Periudha e Raportimit 04-2026
C4: Kodi i Ministris | D4: Kodi i Programit | E4: Emërtimi i Programit | F4: Kodi i Kapitullit | G4: Emërtimi i Kapitullit | H4: Periudha raportuese | I4: Buxheti | J4: Artikujt buxhetore
J5: 230 | K5: 231 | L5: 600 | M5: 601 | N5: 602 | O5: 603 | P5: 604 | Q5: 605 | R5: 606 | T5: Total
H6: Periodike /Vjetore | J6: Shpenzime Kapitale të Patrupëzuara | K6: Shpenzime Kapitale të Trupëzuara | L6: Pagat | M6: Kontrib.e Sigurimeve Shoqërore | N6: Mallra dhe Shërbime | O6: Subveci-net | P6: Të Tjera Transfer. Korrente Brendshme | Q6: Transfer.Korrente të Huaja | R6: Transferta për Buxhetet Familiare dhe Individët | T6: Total
C7: 17 | D7: 02120 | E7: Forcat e Luftimit | F7: 01 | G7: Nga Buxheti | H7: 2026 | I7: Plani fillestar | J7: 0 | K7: 10661500000 | L7: 4974568000 | M7: 892730000 | N7: 3823076000 | O7: 0 | P7: 0 | Q7: 0 | R7: 40000000 | T7: =R7+Q7+P7+O7+N7+M7+L7+K7 -> 20391874000
C8: 17 | D8: 02120 | E8: Forcat e Luftimit | F8: 01 | G8: Nga Buxheti | H8: 2026 | I8: Plani i rishikuar | J8: 0 | K8: 10661500000 | L8: 4974568000 | M8: 892730000 | N8: 3823076000 | O8: 0 | P8: 0 | Q8: 0 | R8: 40000000 | T8: =R8+Q8+P8+O8+N8+M8+L8+K8 -> 20391874000
C9: 17 | D9: 02120 | E9: Forcat e Luftimit | F9: 01 | G9: Nga Buxheti | H9: 2026 | I9: Fakti | J9: 0 | K9: 3794642711 | L9: 1756549523 | M9: 294310477 | N9: 1165695021 | O9: 0 | P9: 0 | Q9: 0 | R9: 15106500 | T9: =R9+Q9+P9+O9+N9+M9+L9+K9 -> 7026304232
C10: 17 | D10: 02120 | E10: Forcat e Luftimit | F10: 01 | G10: Nga Buxheti | H10: 2026 | I10: Angazhime | J10: 0 | K10: 0 | L10: 0 | M10: 0 | N10: 0 | O10: 0 | P10: 0 | Q10: 0 | R10: 0 | T10: =R10+Q10+P10+O10+N10+M10+L10+K10 -> 0
C11: 17 | D11: 02120 | E11: Forcat e Luftimit | F11: 02 | G11: Financim i huaj - Grant | H11: 2026 | I11: Plani fillestar | J11: 0 | K11: 11000000000 | L11: 0 | M11: 0 | N11: 0 | O11: 0 | P11: 0 | Q11: 0 | R11: 0 | T11: =R11+Q11+P11+O11+N11+M11+L11+K11 -> 11000000000
C12: 17 | D12: 02120 | E12: Forcat e Luftimit | F12: 02 | G12: Financim i huaj - Grant | H12: 2026 | I12: Plani i rishikuar | J12: 0 | K12: 11000000000 | L12: 0 | M12: 0 | N12: 0 | O12: 0 | P12: 0 | Q12: 0 | R12: 0 | T12: =R12+Q12+P12+O12+N12+M12+L12+K12 -> 11000000000
C13: 17 | D13: 02120 | E13: Forcat e Luftimit | F13: 02 | G13: Financim i huaj - Grant | H13: 2026 | I13: Fakti | J13: 0 | K13: 0 | L13: 0 | M13: 0 | N13: 0 | O13: 0 | P13: 0 | Q13: 0 | R13: 0 | T13: =R13+Q13+P13+O13+N13+M13+L13+K13 -> 0
C14: 17 | D14: 02120 | E14: Forcat e Luftimit | F14: 02 | G14: Financim i huaj - Grant | H14: 2026 | I14: Angazhime | J14: 0 | K14: 0 | L14: 0 | M14: 0 | N14: 0 | O14: 0 | P14: 0 | Q14: 0 | R14: 0 | T14: =R14+Q14+P14+O14+N14+M14+L14+K14 -> 0
C15: 17 | D15: 02120 | E15: Forcat e Luftimit | G15: Total | H15: 2026 | I15: Plani fillestar | J15: 0 | K15: =K7+K11 -> 21661500000 | L15: =L7+L11 -> 4974568000 | M15: =M7+M11 -> 892730000 | N15: =N7+N11 -> 3823076000 | O15: =O7+O11 -> 0 | P15: =P7+P11 -> 0 | Q15: =Q7+Q11 -> 0 | R15: =R7+R11 -> 40000000 | S15: =S7+S11 -> 0 | T15: =R15+Q15+P15+O15+N15+M15+L15+K15 -> 31391874000
C16: 17 | D16: 02120 | E16: Forcat e Luftimit | G16: Total | H16: 2026 | I16: Plani i rishikuar | J16: 0 | K16: =K8+K12 -> 21661500000 | L16: =L8+L12 -> 4974568000 | M16: =M8+M12 -> 892730000 | N16: =N8+N12 -> 3823076000 | O16: =O8+O12 -> 0 | P16: =P8+P12 -> 0 | Q16: =Q8+Q12 -> 0 | R16: =R8+R12 -> 40000000 | T16: =R16+Q16+P16+O16+N16+M16+L16+K16 -> 31391874000
C17: 17 | D17: 02120 | E17: Forcat e Luftimit | G17: Total | H17: 2026 | I17: Fakti | J17: 0 | K17: =K9+K13 -> 3794642711 | L17: =L9+L13 -> 1756549523 | M17: =M9+M13 -> 294310477 | N17: =N9+N13 -> 1165695021 | O17: =O9+O13 -> 0 | P17: =P9+P13 -> 0 | Q17: =Q9+Q13 -> 0 | R17: =R9+R13 -> 15106500 | T17: =R17+Q17+P17+O17+N17+M17+L17+K17 -> 7026304232
C18: 17 | D18: 02120 | E18: Forcat e Luftimit | G18: Total | H18: 2026 | I18: Angazhime | J18: 0 | K18: =K10+K14 -> 0 | L18: =L10+L14 -> 0 | M18: =M10+M14 -> 0 | N18: =N10+N14 -> 0 | O18: =O10+O14 -> 0 | P18: =P10+P14 -> 0 | Q18: =Q10+Q14 -> 0 | R18: =R10+R14 -> 0 | S18: =S10+S14 -> 0 | T18: =R18+Q18+P18+O18+N18+M18+L18+K18 -> 0
C19: 17 | D19: 02120 | E19: Ndryshimi ne vlere absolute | H19: 2026 | J19: 0 | K19: =K16-K15 -> 0 | L19: =L16-L15 -> 0 | M19: =M16-M15 -> 0 | N19: =N16-N15 -> 0 | O19: 0 | P19: 0 | Q19: 0 | R19: =R16-R15 -> 0 | S19: =S16-S17 -> 0 | T19: =T16-T15 -> 0
C20: 17 | D20: 02120 | E20: Realizimi ne % | H20: 2026 | J20: 0 | K20: =K17*100/K16 -> 17.517913 | L20: =L17*100/L16 -> 35.310594 | M20: =M17*100/M16 -> 32.967468 | N20: =N17*100/N16 -> 30.491024 | O20: 0 | P20: 0 | Q20: 0 | R20: =R17*100/R16 -> 37.76625 | T20: =T17*100/T16 -> 22.382557
C21: 17 | D21: 02120 | E21: Forcat e Luftimit | F21: 06 | G21: Te ardhura jashte limiti | H21: 2026 | I21: Plani | K21: 2210649.1 | M21: 0 | N21: 932772 | O21: 0 | P21: 0 | Q21: 0 | T21: =SUM(K21:S21) -> 3143421.1
C22: 17 | D22: 02120 | E22: Forcat e Luftimit | F22: 06 | G22: Te ardhura jashte limiti | H22: 2026 | I22: Fakti | J22: 0 | K22: 0 | M22: 0 | N22: 0 | O22: 0 | P22: 0 | Q22: 0 | R22: =R19-R18 -> 0 | S22: =S19-S20 -> 0 | T22: =K22+L22+M22+N22+O22+P22 -> 0

Sheet Aneksi 2.1 MBSHT.LUFTIMIT
B2: RAPORTI 2/1 Shpenzimet e programit sipas kapitujve
B3: Periudha e Raportimit 4-2026
B4: Kodi i Ministrisë | C4: Kodi i Programit | E4: Emërtimi i Programit | F4: Kodi i Kapitullit | G4: Emërtimi i Kapitullit | H4: Periudha raportuese | I4: Buxheti | J4: Artikujt buxhetore
J5: 230 | K5: 231 | L5: 600 | M5: 601 | N5: 602 | O5: 603 | P5: 604 | Q5: 605 | R5: 606 | T5: Total
H6: Periodike /Vjetore | J6: Shpenzime Kapitale të Patrupëzuara | K6: Shpenzime Kapitale të Trupëzuara | L6: Pagat | M6: Kontrib.e Sigurimeve Shoqërore | N6: Mallra dhe Shërbime | O6: Subveci-net | P6: Të Tjera Transfer.Korrente Brendshme | Q6: Transfer.Korrente të Huaja | R6: Transferta për Buxhetet Familiare dhe Individët | T6: Total
B7: 17 | C7: 02150 | E7: Mbështetja e Luftimit | F7: 01 | G7: Nga Buxheti | H7: 2026 | I7: Plani fillestar | K7: ='[1]2'!E25 -> 2265500000 | L7: ='[1]2'!E16 -> 3941500000 | M7: ='[1]2'!E17 -> 641300000 | N7: ='[1]2'!E18 -> 3944551000 | R7: ='[1]2'!E22 -> 363685000 | T7: =J7+K7+L7+M7+N7+R7 -> 11156536000
B8: 17 | C8: 02150 | E8: Mbështetja e Luftimit | F8: 01 | G8: Nga Buxheti | H8: 2026 | I8: Plani i rishikuar | K8: 2265500000 | L8: 3941500000 | M8: 641300000 | N8: 3944551000 | R8: 363685000 | T8: =J8+K8+L8+M8+N8+R8 -> 11156536000
B9: 17 | C9: 02150 | E9: Mbështetja e Luftimit | F9: 01 | G9: Nga Buxheti | H9: 2026 | I9: Fakti | K9: ='[1]2'!J25 -> 37980094 | L9: ='[1]2'!J16 -> 1339938913 | M9: ='[1]2'!J17 -> 226770233 | N9: ='[1]2'!J18 -> 8.1083162e+08 | R9: ='[1]2'!J22 -> 87900699 | T9: =J9+K9+L9+M9+N9+R9 -> 2.5034216e+09
B10: 17 | C10: 02150 | E10: Mbështetja e Luftimit | F10: 01 | G10: Nga Buxheti | H10: 2026 | I10: Angazhime
B11: 17 | C11: 02150 | E11: Mbështetja e Luftimit | G11: Total | H11: 2026 | I11: Plani fillestar | K11: 459213000 | L11: 1504100000 | M11: 241466000 | N11: 910061000 | R11: 143363000 | T11: =J11+K11+L11+M11+N11+R11 -> 3258203000
B12: 17 | C12: 02150 | E12: Mbështetja e Luftimit | G12: Total | H12: 2026 | I12: Plani i rishikuar | K12: 459213000 | L12: 1504100000 | M12: 241466000 | N12: 910061000 | R12: 143363001 | T12: =J12+K12+L12+M12+N12+R12 -> 3258203001
B13: 17 | C13: 02150 | E13: Mbështetja e Luftimit | G13: Total | H13: 2026 | I13: Fakti | K13: 37980094 | L13: 1339938913 | M13: 226770233 | N13: 8.1083162e+08 | R13: 87900699 | T13: =J13+K13+L13+M13+N13+R13 -> 2.5034216e+09
B14: 17 | C14: 02150 | E14: Mbështetja e Luftimit | G14: Total | H14: 2026 | I14: Angazhime
B15: 17 | C15: 02150 | E15: Ndryshimi ne vlere absolute | H15: 2026 | J15: =J8-J9 -> 0 | K15: =K8-K9 -> 2227519906 | L15: =L8-L9 -> 2601561087 | M15: =M8-M9 -> 414529767 | N15: =N8-N9 -> 3.1337194e+09 | O15: 0 | P15: 0 | Q15: 0 | R15: =R8-R9 -> 275784301 | T15: =J15+K15+L15+M15+N15+R15 -> 8.6531144e+09
B16: 17 | C16: 02150 | E16: Realizimi ne % | H16: 2026 | J16: 8 | L16: 77 | T16: =T13/T8*100 -> 22.439058
B17: 17 | C17: 02150 | E17: Te ardhura jashte limiti | F17: 06 | G17: Te ardhura jashte limiti | H17: 2026 | I17: Plani | K17: 16477878 | L17: 0 | M17: 0 | N17: 598804 | O17: 0 | P17: 0 | Q17: 0 | R17: 0 | T17: =SUM(K17:S17) -> 17076682
B18: 17 | C18: 02150 | E18: Te ardhura jashte limiti | F18: 06 | G18: Te ardhura jashte limiti | H18: 2026 | I18: Fakti | J18: 0 | K18: 0 | L18: 0 | M18: 0 | N18: 0 | O18: 0 | P18: 0 | Q18: 0 | R18: 0 | T18: 0

Sheet Aneksi 2.1 Mbësht .Shëndetësinë
C2: RAPORTI 2/1 Shpenzimet e programit sipas kapitujve
C3: Periudha e Raportimit 04-2026
C4: Kodi i Ministrisë | D4: Kodi i Programit | F4: Emërtimi i Programit | G4: Kodi i Kapitullit | H4: Emërtimi i Kapitullit | I4: Periudha raportuese | J4: Buxheti | K4: Artikujt buxhetore
K5: 230 | L5: 231 | M5: 600 | N5: 601 | O5: 602 | P5: 603 | Q5: 604 | R5: 605 | S5: 606 | T5: Total
I6: Periodike /Vjetore | K6: Shpenzime Kapitale të Patrupëzuara | L6: Shpenzime Kapitale të Trupëzuara | M6: Pagat | N6: Kontrib.e Sigurimeve Shoqërore | O6: Mallra dhe Shërbime | P6: Subveci-net | Q6: Të Tjera Transfer.Korrente Brendshme | R6: Transfer.Korrente të Huaja | S6: Transferta për Buxhetet Familiare dhe Individët | T6: Total
C7: 17 | D7: 07340 | F7: Mbështetja për Shëndetësinë | G7: 01 | H7: Nga Buxheti | I7: 2026 | J7: Plani fillestar | K7: 0 | L7: 500000000 | M7: 715336000 | N7: 119300000 | O7: 798164000 | P7: 0 | Q7: 0 | R7: 0 | S7: 2000000 | T7: =SUM(L7:S7) -> 2134800000
C8: 17 | D8: 07340 | F8: Mbështetja për Shëndetësinë | G8: 01 | H8: Nga Buxheti | I8: 2026 | J8: Plani i rishikuar | K8: 0 | L8: 500000000 | M8: 715336000 | N8: 119300000 | O8: 798164000 | P8: 0 | Q8: 0 | R8: 0 | S8: 2000000 | T8: =SUM(L8:S8) -> 2134800000
C9: 17 | D9: 07340 | F9: Mbështetja për Shëndetësinë | G9: 01 | H9: Nga Buxheti | I9: 2026 | J9: Fakti | K9: 0 | L9: 2456160 | M9: 246002787 | N9: 40384161 | O9: 164866449 | P9: 0 | Q9: 0 | R9: 0 | S9: 786646 | T9: =SUM(L9:S9) -> 454496203
C10: 17 | D10: 07340 | F10: Mbështetja për Shëndetësinë | G10: 01 | H10: Nga Buxheti | I10: 2026 | J10: Angazhime | K10: 0 | L10: 0 | M10: 0 | N10: 0 | O10: 0 | P10: 0 | Q10: 0 | R10: 0 | S10: 0 | T10: =SUM(L10:S10) -> 0
C11: 17 | D11: 07340 | F11: Mbështetja për Shëndetësinë | H11: Total | I11: 2026 | J11: Plani fillestar | K11: 0 | L11: 500000000 | M11: 715336000 | N11: 119300000 | O11: 798164000 | P11: 0 | Q11: 0 | R11: 0 | S11: 2000000 | T11: =SUM(L11:S11) -> 2134800000
C12: 17 | D12: 07340 | F12: Mbështetja për Shëndetësinë | H12: Total | I12: 2026 | J12: Plani i rishikuar | K12: 0 | L12: 500000000 | M12: 715336000 | N12: 119300000 | O12: 798164000 | P12: 0 | Q12: 0 | R12: 0 | S12: 2000000 | T12: =SUM(L12:S12) -> 2134800000
C13: 17 | D13: 07340 | F13: Mbështetja për Shëndetësinë | H13: Total | I13: 2026 | J13: Fakti | K13: 0 | L13: 2456160 | M13: 246002787 | N13: 40384161 | O13: 164866449 | P13: 0 | Q13: 0 | R13: 0 | S13: 786646 | T13: =SUM(L13:S13) -> 454496203
C14: 17 | D14: 07340 | F14: Mbështetja për Shëndetësinë | H14: Total | I14: 2026 | J14: Angazhime | K14: 0 | L14: 0 | M14: 0 | N14: 0 | O14: 0 | P14: 0 | Q14: 0 | R14: 0 | S14: 0 | T14: =SUM(L14:S14) -> 0
C15: 17 | D15: 07340 | F15: Ndryshimi ne vlere absolute | I15: 2026 | K15: 0 | L15: =L12-L13 -> 497543840 | M15: =M12-M13 -> 469333213 | N15: =N12-N13 -> 78915839 | O15: =O12-O13 -> 633297551 | P15: =P12-P13 -> 0 | Q15: =Q12-Q13 -> 0 | R15: =R12-R13 -> 0 | S15: =S12-S13 -> 1213354 | T15: =T12-T13 -> 1680303797
C16: 17 | D16: 07340 | F16: Realizimi ne % | I16: 2026 | K16: 0 | L16: =(L13/L12)*100 -> 0.491232 | M16: =(M13/M12)*100 -> 34.389823 | N16: =(N13/N12)*100 -> 33.850931 | O16: =(O13/O12)*100 -> 20.655711 | P16: =P13-P14 -> 0 | Q16: =Q13-Q14 -> 0 | R16: =R13-R14 -> 0 | S16: =(S13/S12)*100 -> 39.3323 | T16: =(T13/T12)*100 -> 21.289873
C17: 17 | D17: 07340 | F17: Te ardhura jashte limiti | G17: 06 | H17: Te ardhura jashte limiti | I17: 2026 | J17: Plani | L17: 21929395 | M17: 4024149 | O17: 4984675 | T17: =L17+M17+N17+O17+P17+Q17 -> 30938219
C18: 17 | D18: 07340 | F18: Te ardhura jashte limiti | G18: 06 | H18: Te ardhura jashte limiti | I18: 2026 | J18: Fakti | L18: 0 | M18: 2809260 | N18: 0 | O18: 0 | P18: 0 | Q18: 0 | R18: 0 | S18: 0 | T18: =L18+M18+N18+O18+P18+Q18 -> 2809260

Sheet Aneksi 2.1 Arsimi Ushtarak
C2: RAPORTI 2/1 Shpenzimet e programit sipas kapitujve
C3: Periudha e Raportimit 4-2026
C4: Kodi i Ministrisë | D4: Kodi i Programit | F4: Emërtimi i Programit | G4: Kodi i Kapitullit | H4: Emërtimi i Kapitullit | I4: Periudha raportuese | J4: Buxheti | K4: Artikujt buxhetore
K5: 230 | L5: 231 | M5: 600 | N5: 601 | O5: 602 | P5: 603 | Q5: 604 | R5: 605 | S5: 606 | U5: Total
I6: Periodike /Vjetore | K6: Shpenzime Kapitale të Patrupëzuara | L6: Shpenzime Kapitale të Trupëzuara | M6: Pagat | N6: Kontrib.e Sigurimeve Shoqërore | O6: Mallra dhe Shërbime | P6: Subveci-net | Q6: Të Tjera Transfer. Korrente Brendshme | R6: Transfer.Korrente të Huaja | S6: Transferta për Buxhetet Familiare dhe Individët | U6: Total
C7: 17 | D7: 09430 | F7: Arsimi Ushtarak | G7: 01 | H7: Nga Buxheti | I7: 2026 | J7: Plani fillestar | K7: 0 | L7: 857000000 | M7: 575300000 | N7: 104600000 | O7: 81000000 | P7: 0 | Q7: 0 | R7: 0 | S7: 140000000 | U7: =SUM(K7:T7) -> 1757900000
C8: 17 | D8: 09430 | F8: Arsimi Ushtarak | G8: 01 | H8: Nga Buxheti | I8: 2026 | J8: Plani i rishikuar | K8: 0 | L8: 857000000 | M8: 575300000 | N8: 104600000 | O8: 81000000 | P8: 0 | Q8: 0 | R8: 0 | S8: =S7 -> 140000000 | U8: =SUM(K8:T8) -> 1757900000
C9: 17 | D9: 09430 | F9: Arsimi Ushtarak | G9: 01 | H9: Nga Buxheti | I9: 2026 | J9: Fakti | K9: 0 | L9: 12239476 | M9: 106092440 | N9: 31861869 | O9: 14003159 | P9: 0 | Q9: 0 | R9: 0 | S9: 84669605 | U9: =SUM(K9:T9) -> 248866549
C10: 17 | D10: 09430 | F10: Arsimi Ushtarak | G10: 01 | H10: Nga Buxheti | I10: 2026 | J10: Angazhime | K10: 0
C11: 17 | D11: 09430 | F11: Arsimi Ushtarak | H11: Total | I11: 2026 | J11: Plani fillestar | K11: 0 | L11: =L7 -> 857000000 | M11: =M7 -> 575300000 | N11: =N7 -> 104600000 | O11: =O7 -> 81000000 | P11: 0 | Q11: 0 | R11: 0 | S11: =S7 -> 140000000 | U11: =SUM(K11:T11) -> 1757900000
C12: 17 | D12: 09430 | F12: Arsimi Ushtarak | H12: Total | I12: 2026 | J12: Plani i rishikuar | K12: 0 | L12: =L8 -> 857000000 | M12: =M8 -> 575300000 | N12: =N8 -> 104600000 | O12: =O8 -> 81000000 | P12: 0 | Q12: 0 | R12: 0 | S12: =S8 -> 140000000 | U12: =SUM(K12:T12) -> 1757900000
C13: 17 | D13: 09430 | F13: Arsimi Ushtarak | H13: Total | I13: 2026 | J13: Fakti | K13: 0 | L13: =L9 -> 12239476 | M13: =M9 -> 106092440 | N13: =N9 -> 31861869 | O13: =O9 -> 14003159 | P13: 0 | Q13: 0 | R13: 0 | S13: =S9 -> 84669605 | U13: =SUM(K13:T13) -> 248866549
C14: 17 | D14: 09430 | F14: Arsimi Ushtarak | H14: Total | I14: 2026 | J14: Angazhime | K14: 0
C15: 17 | D15: 09430 | F15: Ndryshimi ne vlere absolute | I15: 2026 | K15: 0 | L15: =L12-L13 -> 844760524 | M15: =M12-M13 -> 469207560 | N15: =N12-N13 -> 72738131 | O15: =O12-O13 -> 66996841 | P15: 0 | Q15: 0 | R15: 0 | S15: =S12-S13 -> 55330395 | U15: =SUM(K15:T15) -> 1509033451
C16: 17 | D16: 09430 | F16: Realizimi ne % | I16: 2026 | K16: 0 | L16: =L13/L12*100 -> 1.4281769 | M16: =M13/M12*100 -> 18.441238 | N16: =N13/N12*100 -> 30.460678 | O16: =O13/O12*100 -> 17.287851 | P16: 0 | Q16: 0 | R16: 0 | S16: =S13/S12*100 -> 60.478289 | U16: =U13/U12*100 -> 14.157037
C17: 17 | D17: 09430 | F17: Te ardhura jashte limiti | G17: 06 | H17: Te ardhura jashte limiti | I17: 2026 | J17: Plani | M17: 670890 | O17: 3772737 | U17: =SUM(K17:T17) -> 4443627
C18: 17 | D18: 09430 | F18: Te ardhura jashte limiti | G18: 06 | H18: Te ardhura jashte limiti | I18: 2026 | J18: Fakti | M18: 1765167 | U18: =SUM(K18:T18) -> 1765167
K19: =K17-K18 -> 0

Sheet Aneksi 2.1 Mbeshtet. Ushtaraket
C2: RAPORTI 2/1 Shpenzimet e programit sipas kapitujve
C3: Periudha e Raportimit 4-2026
T4: Ne leke
C5: Kodi i Ministrisë | D5: Kodi i Programit | E5: Emërtimi i Programit | F5: Kodi i Kapitullit | G5: Emërtimi i Kapitullit | H5: Periudha raportuese | I5: Buxheti | J5: Artikujt buxhetore
J6: 230 | K6: 231 | L6: 600 | M6: 601 | N6: 602 | O6: 603 | P6: 604 | Q6: 605 | R6: 606 | T6: Total
H7: Periodike /Vjetore | J7: Shpenzime Kapitale të Patrupëzuara | K7: Shpenzime Kapitale të Trupëzuara | L7: Pagat | M7: Kontrib.e Sigurimeve Shoqërore | N7: Mallra dhe Shërbime | O7: Subveci-net | P7: Të Tjera Transfer.Korrente Brendshme | Q7: Transfer.Korrente të Huaja | R7: Transferta për Buxhetet Familiare dhe Individët | T7: Total
C8: 17 | D8: 10270 | E8: Mbështetje për Ushtarakët | F8: 01 | G8: Nga Buxheti | H8: 2025 | I8: Plani fillestar | J8: 0 | K8: 0 | L8: 0 | M8: 0 | N8: 0 | O8: 0 | P8: 5200000000 | Q8: 0 | R8: 0 | T8: =P8 -> 5200000000
C9: 17 | D9: 10270 | E9: Mbështetje për Ushtarakët | F9: 01 | G9: Nga Buxheti | H9: 2025 | I9: Plani i rishikuar | J9: 0 | K9: 0 | L9: 0 | M9: 0 | N9: 0 | O9: 0 | P9: 5200000000 | Q9: 0 | R9: 0 | T9: =P9 -> 5200000000
C10: 17 | D10: 10270 | E10: Mbështetje për Ushtarakët | F10: 01 | G10: Nga Buxheti | H10: 2025 | I10: Fakti | J10: 0 | K10: 0 | L10: 0 | M10: 0 | N10: 0 | O10: 0 | P10: 2000000000 | Q10: 0 | R10: 0 | T10: =P10 -> 2000000000
C11: 17 | D11: 10270 | E11: Mbështetje për Ushtarakët | F11: 01 | G11: Nga Buxheti | H11: 2025 | I11: Angazhime | J11: 0 | K11: 0 | L11: 0 | M11: 0 | N11: 0 | O11: 0 | P11: 0 | Q11: 0 | R11: 0 | T11: =P11 -> 0
C12: 17 | D12: 10270 | E12: Mbështetje për Ushtarakët | G12: Total | H12: 2025 | I12: Plani fillestar | J12: 0 | K12: 0 | L12: 0 | M12: 0 | N12: 0 | O12: 0 | P12: =P8 -> 5200000000 | Q12: 0 | R12: 0 | T12: =P12 -> 5200000000
C13: 17 | D13: 10270 | E13: Mbështetje për Ushtarakët | G13: Total | H13: 2025 | I13: Plani i rishikuar | J13: 0 | K13: 0 | L13: 0 | M13: 0 | N13: 0 | O13: 0 | P13: =P9 -> 5200000000 | Q13: 0 | R13: 0 | T13: =P13 -> 5200000000
C14: 17 | D14: 10270 | E14: Mbështetje për Ushtarakët | G14: Total | H14: 2025 | I14: Fakti | J14: 0 | K14: 0 | L14: 0 | M14: 0 | N14: 0 | O14: 0 | P14: =P10 -> 2000000000 | Q14: 0 | R14: 0 | T14: =P14 -> 2000000000
C15: 17 | D15: 10270 | E15: Mbështetje për Ushtarakët | G15: Total | H15: 2025 | I15: Angazhime | J15: 0 | K15: 0 | L15: 0 | M15: 0 | N15: 0 | O15: 0 | P15: 0 | Q15: 0 | R15: 0 | T15: =P15 -> 0
C16: 17 | D16: 10270 | E16: Ndryshimi ne vlere absolute | H16: 2025 | J16: 0 | K16: 0 | L16: 0 | M16: 0 | N16: 0 | O16: 0 | P16: =P14-P12 -> -3200000000 | Q16: 0 | R16: 0 | T16: =P16 -> -3200000000
C17: 17 | D17: 10270 | E17: Realizimi ne % | H17: 2025 | J17: 0 | K17: 0 | L17: 0 | M17: 0 | N17: 0 | O17: 0 | P17: =P14/P13*100 -> 38.461538 | Q17: 0 | R17: 0 | T17: =P17 -> 38.461538

Sheet Aneksi 2.1 Emergjencat Civile
C2: RAPORTI 2/1 Shpenzimet e programit sipas kapitujve
C3: Periudha e Raportimit 4-2026
C4: Kodi i Ministrisë | D4: Kodi i Programit | F4: Emërtimi i Programit | G4: Kodi i Kapitullit | H4: Emërtimi i Kapitullit | I4: Periudha raportuese | J4: Buxheti | K4: Artikujt buxhetore
K5: 230 | L5: 231 | M5: 600 | N5: 601 | O5: 602 | P5: 603 | Q5: 604 | R5: 605 | S5: 606 | U5: Total
I6: Periodike /Vjetore | K6: Shpenzime Kapitale të Patrupëzuara | L6: Shpenzime Kapitale të Trupëzuara | M6: Pagat | N6: Kontrib.e Sigurimeve Shoqërore | O6: Mallra dhe Shërbime | P6: Subveci-net | Q6: Të Tjera Transfer.Korrente Brendshme | R6: Transfer.Korrente të Huaja | S6: Transferta për Buxhetet Familiare dhe Individët | U6: Total
C7: 17 | D7: 10910 | F7: Emergjencat Civile | G7: 01 | H7: Nga Buxheti | I7: 2025 | J7: Plani fillestar | K7: 0 | L7: =2519999999.65+L11 -> 4.53205e+09 | M7: 261800000 | N7: 38400000 | O7: 441000000 | P7: 0 | Q7: 500000000 | R7: 18000000 | S7: 0 | U7: =SUM(K7:T7) -> 5.79125e+09
C8: 17 | D8: 10910 | F8: Emergjencat Civile | G8: 01 | H8: Nga Buxheti | I8: 2025 | J8: Plani i rishikuar | K8: 0 | L8: =2519999999.65+L11 -> 4.53205e+09 | M8: 261800000 | N8: 38400000 | O8: 441000000 | P8: 0 | Q8: 500000000 | R8: 18000000 | S8: 0 | U8: =SUM(K8:T8) -> 5.79125e+09
C9: 17 | D9: 10910 | F9: Emergjencat Civile | G9: 01 | H9: Nga Buxheti | I9: 2025 | J9: Fakti | K9: 0 | L9: 18375434 | M9: 69197857 | N9: 11457681 | O9: 10545664 | P9: 0 | Q9: 8971865 | R9: 10110464 | S9: 0 | U9: =SUM(K9:T9) -> 128658965
C10: 17 | D10: 10910 | F10: Emergjencat Civile | G10: 01 | H10: Nga Buxheti | I10: 2025 | J10: Angazhime | K10: 0 | L10: 26018075 | M10: 0 | N10: 0 | O10: 0 | P10: 0 | Q10: 69369 | R10: 0 | S10: 0 | U10: =SUM(K10:T10) -> 26087444
C11: 17 | D11: 10910 | F11: Emergjencat Civile | G11: 02 | H11: Financim i huaj - Grant | I11: 2025 | J11: Plani fillestar | K11: 0 | L11: 2012050000 | M11: 0 | N11: 0 | O11: 0 | P11: 0 | Q11: 0 | R11: 0 | S11: 0 | U11: =SUM(K11:T11) -> 2012050000
C12: 17 | D12: 10910 | F12: Emergjencat Civile | G12: 02 | H12: Financim i huaj - Grant | I12: 2025 | J12: Plani i rishikuar | K12: 0 | L12: 2012050000 | M12: 0 | N12: 0 | O12: 0 | P12: 0 | Q12: 0 | R12: 0 | S12: 0 | U12: =SUM(K12:T12) -> 2012050000
C13: 17 | D13: 10910 | F13: Emergjencat Civile | G13: 02 | H13: Financim i huaj - Grant | I13: 2025 | J13: Fakti | L13: 17265921 | M13: 0 | N13: 0 | O13: 0 | P13: 0 | Q13: 0 | R13: 0 | S13: 0 | U13: =SUM(K13:T13) -> 17265921
C14: 17 | D14: 10910 | F14: Emergjencat Civile | G14: 02 | H14: Financim i huaj - Grant | I14: 2025 | J14: Angazhime | K14: 0 | L14: 0 | M14: 0 | N14: 0 | O14: 0 | P14: 0 | Q14: 0 | R14: 0 | S14: 0 | U14: =SUM(K14:T14) -> 0
C15: 17 | D15: 10910 | F15: Emergjencat Civile | H15: Total | I15: 2025 | J15: Plani fillestar | K15: 0 | L15: =L7 -> 4.53205e+09 | M15: =M7+M11 -> 261800000 | N15: =N7+N11 -> 38400000 | O15: =O7+O11 -> 441000000 | P15: =P7+P11 -> 0 | Q15: =Q7+Q11 -> 500000000 | R15: =R7+R11 -> 18000000 | S15: =S7+S11 -> 0 | T15: =T7+T11 -> 0 | U15: =SUM(K15:T15) -> 5.79125e+09
C16: 17 | D16: 10910 | F16: Emergjencat Civile | H16: Total | I16: 2025 | J16: Plani i rishikuar | K16: =K8+K12 -> 0 | L16: =L8 -> 4.53205e+09 | M16: =M8+M12 -> 261800000 | N16: =N8+N12 -> 38400000 | O16: =O8+O12 -> 441000000 | P16: =P8+P12 -> 0 | Q16: =Q8+Q12 -> 500000000 | R16: =R8+R12 -> 18000000 | S16: =S8 -> 0 | U16: =SUM(K16:T16) -> 5.79125e+09
C17: 17 | D17: 10910 | F17: Emergjencat Civile | H17: Total | I17: 2025 | J17: Fakti | K17: =K9+K13 -> 0 | L17: =L9+L13 -> 35641355 | M17: =M9+M13 -> 69197857 | N17: =N9+N13 -> 11457681 | O17: =O9+O13 -> 10545664 | P17: =P9+P13 -> 0 | Q17: =Q9+Q13 -> 8971865 | R17: =R9+R13 -> 10110464 | S17: =S9+S13 -> 0 | U17: =SUM(K17:T17) -> 1.4592489e+08
C18: 17 | D18: 10910 | F18: Emergjencat Civile | H18: Total | I18: 2025 | J18: Angazhime | K18: 0 | L18: =L10+L14 -> 26018075 | M18: =M10+M14 -> 0 | N18: =N10+N14 -> 0 | O18: =O10+O14 -> 0 | P18: =P10+P14 -> 0 | Q18: =Q10+Q14 -> 69369 | R18: =R10+R14 -> 0 | S18: =S10+S14 -> 0 | U18: =SUM(K18:T18) -> 26087444
C19: 17 | D19: 10910 | F19: Ndryshimi ne vlere absolute | I19: 2025 | K19: =K8-K7 -> 0 | L19: =L8-L7 -> 0 | M19: =M8-M7 -> 0 | N19: =N8-N7 -> 0 | O19: =O8-O7 -> 0 | P19: =P8-P7 -> 0 | Q19: =Q8-Q7 -> 0 | R19: =R8-R7 -> 0 | S19: =S8-S7 -> 0 | U19: =SUM(K19:T19) -> 0
C20: 17 | D20: 10910 | F20: Realizimi ne % | I20: 2025 | K20: 0 | L20: =(L9+L13+K13)/(L8+L12) -> 0.0054463341 | M20: =(M9+M13)/(M8+M12) -> 0.26431573 | N20: =(N9+N13)/(N8+N12) -> 0.29837711 | O20: =(O9+O13)/(O8+O12) -> 0.02391307 | P20: =(P9+P13)/(P8+P12) -> #DIV/0! | Q20: =(Q9+Q13)/(Q8+Q12) -> 0.01794373 | R20: =(R9+R13)/(R8+R12) -> 0.56169244 | S20: =S9/S8 -> #DIV/0! | U20: =(U9+U13)/U16 -> 0.025197476
C21: 17 | D21: 10910 | F21: Emergjencat Civile | G21: 06 | H21: Te ardhura jashte limiti | I21: 2026 | J21: Plani | L21: 3730624.6 | O21: 3636915 | U21: =SUM(K21:T21) -> 7367539.6
C22: 17 | D22: 10910 | F22: Emergjencat Civile | G22: 06 | H22: Te ardhura jashte limiti | I22: 2026 | J22: Fakti | U22: =SUM(K22:T22) -> 0

Sheet Aneksi 3 Planif
B2: ANEKSI nr.3 Raporti i performancës së produkteve të programit
B3: Periudha e Raportimit 4-2026
B4: në/lekë
B5: Emri i Grupit | C5: Ministria e Mbrojtjes | F5: Kodi i grupit | G5: 17
B6: Emri i | C6: Planifikimi, Menaxhimi dhe Administrimi | F6: Kodi i programit | G6: 01110
B7: Kodi i Produktit | C7: Emërtimi i Produktit | D7: Njësia matëse | E7: Viti paraardhës | H7: Periudha Rapotuese | K7: Periudha Rapotuese | N7: Periudha Rapotuese | Q7: Deviacioni i Kostos për Njësi
E8: Sasia Faktike (Viti paraardhës) | F8: Shpenzimet Faktike (sipas vitit paraardhes) | G8: Kosto për Njësi (sipas vitit paraardhës) | H8: Sasia (sipas planit Fillestar Vjetor) | I8: Shpenzimet (sipas planit Fillestar Vjetor | J8: Kosto për Njësi (sipas planit Fillestar të vitit | K8: Sasia (sipas planit të rishikuar të vitit korent) | L8: Shpenzimet (sipas /nplanit të rishikuar të vitit korent) | M8: Kosto për Njësi(sipas /nplanit të rishikuar të vitit korent) | N8: Sasia Faktike (në /nfund të vitit korent) | O8: Shpenzimet Faktike /n(në fund të vitit korent) | P8: Kosto për Njësi Faktike n/(në fund të vitit korent) | Q8: 13=(12)-(3) | R8: 14=(12)-(6) | S8: 15=(12)-(9)
E9: (1) | F9: (2) | G9: (3) | H9: (4) | I9: (5) | J9: (6) | K9: (7) | L9: (8) | M9: (9) | N9: (10) | O9: (11) | P9: (12) | Q9: (13) | R9: (14) | S9: (15)
B10: Produktet e realizuara me shpenzimet buxhetore të programit
B11: 91701AA | C11: Akte ligjore e nenligjore te pergatitura | D11: 41 | E11: 1579149195 | F11: 38515834 | G11: =F11/E11*100 -> 2.4390244 | H11: 41 | I11: 1436200000 | J11: =I11/H11 -> 35029268 | K11: 41 | L11: 1436200000 | M11: =L11/K11 -> 35029268 | N11: 16 | O11: 567801454 | P11: =O11/N11 -> 35487591 | Q11: =P11-G11 -> 35487588 | R11: =P11-J11 -> 458322.58 | S11: =P11-M11 -> 458322.58
B12: T | C12: Total | E12: 1579149195 | I12: =I11 -> 1436200000 | L12: =SUM(L11:L11) -> 1436200000 | O12: =SUM(O11:O11) -> 567801454
B13: Viti paraardhes realizimi
B14: 23AD801 | C14: Blerje Pajisjesh për Zonimin TEMPEST te ambienteve , godinave dhe mburojave | D14: 4 | E14: 45188000 | F14: 11297000 | G14: =F14/E14 -> 0.25 | J14: =I14/H14 -> #DIV/0! | K14: =E14 -> 45188000 | L14: ='[2]Aneksi 2.0 Planif'!H41 -> 45188000 | M14: =L14/K14 -> 1 | N14: =E14 -> 45188000 | O14: ='[2]Aneksi 2.0 Planif'!K41 -> 45188000 | P14: =O14/N14 -> 1 | Q14: =P14-G14 -> 0.75 | R14: =P14-J14 -> #DIV/0! | S14: =P14-M14 -> 0
B15: 20AC701 | C15: Permiresim ne hardware/software dhe ndertime te dhomave te serverave (NJUSK) | D15: 1 | E15: 357244 | F15: 357244 | G15: =F15/E15 -> 1 | J15: =I15/H15 -> #DIV/0! | K15: =E15 -> 357244 | L15: ='[2]Aneksi 2.0 Planif'!H42 -> 357250 | M15: =L15/K15 -> 1.0000168 | N15: =E15 -> 357244 | O15: ='[2]Aneksi 2.0 Planif'!K42 -> 357244 | P15: =O15/N15 -> 1 | Q15: =P15-G15 -> 0 | R15: =P15-J15 -> #DIV/0! | S15: =P15-M15 -> -1.6795244e-05
B16: 22AG001 | C16: Blerje pajisje Tik per MM dhe FA | D16: 1 | E16: 140400 | F16: 140400 | G16: =F16/E16 -> 1 | J16: =I16/H16 -> #DIV/0! | K16: =E16 -> 140400 | L16: ='[2]Aneksi 2.0 Planif'!H43 -> 140400 | M16: =L16/K16 -> 1 | N16: =E16 -> 140400 | O16: ='[2]Aneksi 2.0 Planif'!K43 -> 140400 | P16: =O16/N16 -> 1 | Q16: =P16-G16 -> 0 | R16: =P16-J16 -> #DIV/0! | S16: =P16-M16 -> 0
B17: M170228 | C17: Instalim I sistemeve kunder zjarrit | D17: 1 | E17: 600000 | F17: 600000 | G17: =F17/E17 -> 1 | J17: =I17/H17 -> #DIV/0! | K17: =E17 -> 600000 | L17: ='[2]Aneksi 2.0 Planif'!H44 -> 600000 | M17: =L17/K17 -> 1 | N17: =E17 -> 600000 | O17: ='[2]Aneksi 2.0 Planif'!K44 -> 600000 | P17: =O17/N17 -> 1 | Q17: =P17-G17 -> 0 | R17: =P17-J17 -> #DIV/0! | S17: =P17-M17 -> 0
B18: 23AD701 | C18: Blerje Automjete per Perfaqesine Ushtarake | D18: 6 | E18: 31368052 | F18: 5228008.7 | G18: =F18/E18 -> 0.16666667 | J18: =I18/H18 -> #DIV/0! | K18: =E18 -> 31368052 | L18: ='[2]Aneksi 2.0 Planif'!H45 -> 31382750 | M18: =L18/K18 -> 1.0004686 | N18: =E18 -> 31368052 | O18: ='[2]Aneksi 2.0 Planif'!K45 -> 31368052 | P18: =O18/N18 -> 1 | Q18: =P18-G18 -> 0.83333333 | R18: =P18-J18 -> #DIV/0! | S18: =P18-M18 -> -0.00046856592
B19: M170487 | C19: Rikonstruksion I nderteses se Aparatit te MM | D19: 1 | E19: 0 | F19: 0 | G19: 0 | H19: 0 | I19: 0 | J19: 0 | K19: 0 | L19: 0 | M19: 0 | N19: 0 | O19: 0 | P19: 0 | Q19: 0 | R19: 0 | S19: 0
B20: 23AE201 | C20: Përmirësimi dhe Mirëmbajtja e Sistemit të Administrimit të Dokumentave | D20: 1 | E20: 0 | F20: 0 | G20: 0 | H20: 0 | I20: 0 | J20: 0 | K20: 0 | L20: 0 | M20: 0 | N20: 0 | O20: 0 | P20: 0 | Q20: 0 | R20: 0 | S20: 0
B21: M170203 | C21: Fond i ngrire | D21: 1 | E21: 0 | F21: 0 | G21: =F21/E21 -> #DIV/0! | H21: =E21 -> 0 | I21: =F21 -> 0 | J21: =G21 -> #DIV/0! | K21: =H21 -> 0 | L21: =I21 -> 0 | M21: =J21 -> #DIV/0! | N21: =K21 -> 0 | O21: =L21 -> 0 | ... S21: =P21 -> #DIV/0!
B22: 23AD801 | C22: Blerje Pajisjesh për Zonimin TEMPEST te ambienteve , godinave dhe mburojave | D22: Sistem | H22: 1 | I22: 32188000 | J22: =I22/H22 -> 32188000 | K22: =I22/3 -> 10729333 | L22: =I22 -> 32188000 | M22: =J22 -> 32188000 | N22: 0 | O22: 0 | P22: =O22/N22 -> #DIV/0! | Q22: =P22-G22 -> #DIV/0! | R22: =P22-J22 -> #DIV/0! | S22: =P22-M22 -> #DIV/0!
B23: 25AF801 | C23: Permiresimi dhe mirembajtja e sistemit te kondicionimit ne dhomen e serverave primare dhe backup ne sallen e infrastruktures dhe ne dhomen UPS | D23: Nr. Paisjesh | H23: 5 | I23: 5000000 | J23: =I23/H23 -> 1000000 | K23: =I23/3 -> 1666666.7 | L23: =I23 -> 5000000 | M23: =J23 -> 1000000 | N23: 0 | O23: 0 | P23: =O23/N23 -> #DIV/0! | Q23: =P23-G23 -> #DIV/0! | R23: =P23-J23 -> #DIV/0! | S23: =P23-M23 -> #DIV/0!
B24: 25AF901 | C24: Blerje pajisje hardware Tik sipas standartit te AKSHI-t per MM | D24: Nr. Paisjesh | H24: 111 | I24: 8000000 | J24: =I24/H24 -> 72072.072 | K24: =I24/3 -> 2666666.7 | L24: =I24 -> 8000000 | M24: =J24 -> 72072.072 | N24: 0 | O24: 0 | P24: =O24/N24 -> #DIV/0! | Q24: =P24-G24 -> #DIV/0! | R24: =P24-J24 -> #DIV/0! | S24: =P24-M24 -> #DIV/0!
B25: 25AG001 | C25: Blerje pajisje hardware dhe software per rritjen e sigurise kibernetike ne sistemet kompjutrerike ne MM | D25: Nr. Paisjesh | H25: 5 | I25: 9000000 | J25: =I25/H25 -> 1800000 | K25: =I25/3 -> 3000000 | L25: =I25 -> 9000000 | M25: =J25 -> 1800000 | N25: 0 | O25: 0 | P25: =O25/N25 -> #DIV/0! | Q25: =P25-G25 -> #DIV/0! | R25: =P25-J25 -> #DIV/0! | S25: =P25-M25 -> #DIV/0!
B26: 25AG701 | C26: Permiresimi dhe mirembajtja e sistemit te printimit ne MM | D26: Nr. Paisjesh | H26: 11 | I26: 15622000 | J26: =I26/H26 -> 1420181.8 | K26: =I26/3 -> 5207333.3 | L26: =I26 -> 15622000 | M26: =J26 -> 1420181.8 | N26: 0 | O26: 0 | P26: =O26/N26 -> #DIV/0! | Q26: =P26-G26 -> #DIV/0! | R26: =P26-J26 -> #DIV/0! | S26: =P26-M26 -> #DIV/0!
B27: M170203 | C27: Rikonstruksion I nderteses se Aparatit te MM (FOND I NGRIRE NGA MF) | D27: M2 | H27: 2989 | I27: 10190000 | J27: =I27/H27 -> 3409.1669 | K27: =I27/3 -> 3396666.7 | L27: =I27 -> 10190000 | M27: =J27 -> 3409.1669 | N27: 0 | O27: 0 | P27: =O27/N27 -> #DIV/0! | Q27: =P27-G27 -> #DIV/0! | R27: =P27-J27 -> #DIV/0! | S27: =P27-M27 -> #DIV/0!
C28: 231 | E28: 77653696 | G28: =F28/E28 -> 0 | I28: =SUM(I22:I27) -> 80000000 | O28: =SUM(O22:O27) -> 0
C29: Total | D29: 0 | E29: 1656802891 | F29: 0 | I29: =I11+I28 -> 1516200000 | N29: =N12+N28 -> 0 | O29: =O11+O28 -> 567801454 | P29: =P12+P28 -> 0 | Q29: =Q12+Q28 -> 0 | R29: =R12+R28 -> 0 | S29: =S12+S28 -> 0

Sheet Aneksi 3 Forcat e Luftimit
B2: ANEKSI nr.3 Raporti i performancës së produkteve të programit
B3: Periudha e Raportimit 04-2026
B4: në/lekë
B5: Emri i Grupit | C5: Ministria e Mbrojtjes | F5: Kodi i grupit | G5: 17
B6: Emri i | C6: Forcat e Luftimit | F6: Kodi i programit | G6: 02120
B7: Kodi i Produktit | C7: Emërtimi i Produktit | D7: Njësia matëse | E7: Viti paraardhës | H7: Periudha Rapotuese | K7: Periudha Rapotuese | N7: Periudha Rapotuese | Q7: Deviacioni i Kostos për Njësi
E8: Sasia Faktike (Viti paraardhës) | F8: Shpenzimet Faktike (sipas vitit paraardhes) | G8: Kosto për Njësi (sipas vitit paraardhës) | H8: Sasia (sipas planit Fillestar Vjetor) | I8: Shpenzimet (sipas planit Fillestar Vjetor | J8: Kosto për Njësi (sipas planit Fillestar të vitit | K8: Sasia (sipas planit të rishikuar të vitit korent) | L8: Shpenzimet (sipas /nplanit të rishikuar të vitit korent) | M8: Kosto për Njësi(sipas /nplanit të rishikuar të vitit korent) | N8: Sasia Faktike (në /nfund të vitit korent) | O8: Shpenzimet Faktike /n(në fund të vitit korent) | P8: Kosto për Njësi Faktike n/(në fund të vitit korent) | Q8: 13=(12)-(3) | R8: 14=(12)-(6) | S8: 15=(12)-(9)
E9: (1) | F9: (2) | G9: (3) | H9: (4) | I9: (5) | J9: (6) | K9: (7) | L9: (8) | M9: (9) | N9: (10) | O9: (11) | P9: (12) | Q9: (13) | R9: (14) | S9: (15)
B10: Produktet e realizuara me shpenzimet buxhetore të programit
B11: 91702AA | C11: Forca Toksore në gadishmëri dhe operacionale | D11: Numri personeli Forcave Toksore | E11: 2657 | F11: 4228517542 | G11: =F11/E11 -> 1591463.1 | H11: 3096 | I11: 5369198000 | J11: =I11/H11 -> 1734237.1 | K11: 3096 | L11: 5369198000 | M11: =L11/K11 -> 1734237.1 | N11: 2968 | O11: 1875113594 | P11: =O11/N11 -> 631776.82 | Q11: =P11-G11 -> -959686.31 | R11: =P11-J11 -> -1102460.3 | S11: =P11-M11 -> -1102460.3
B12: 91702AB | C12: Kontigjent ushtarake në mision paqeruajtese jashte vendit | D12: nr. Personeli | E12: 383 | F12: 1489313785 | G12: =F12/E12 -> 3888547.7 | H12: 270 | I12: 1136176000 | J12: =I12/H12 -> 4208059.3 | K12: 270 | L12: 1136176000 | M12: =L12/K12 -> 4208059.3 | N12: 254 | O12: 386106809 | P12: =O12/N12 -> 1520105.5 | Q12: =P12-G12 -> -2368442.2 | R12: =P12-J12 -> -2687953.7 | S12: =P12-M12 -> -2687953.7
B13: 91702AC | C13: Forca Detare në gadishmëri dhe operacionale | D13: numer personeli | E13: 707 | F13: 1593260213 | G13: =F13/E13 -> 2253550.5 | H13: 759 | I13: 1545000000 | J13: =I13/H13 -> 2035573.1 | K13: 759 | L13: 1545000000 | M13: =L13/K13 -> 2035573.1 | N13: 725 | O13: 478071008 | P13: =O13/N13 -> 659408.29 | Q13: =P13-G13 -> -1594142.2 | R13: =P13-J13 -> -1376164.8 | S13: =P13-M13 -> -1376164.8
B14: 91702AE | C14: Forca Ajrore në gadishmëri dhe operacionale | D14: nr.personeli | E14: 699 | F14: 1844580814 | G14: =F14/E14 -> 2638885.3 | H14: 759 | I14: 1680000000 | J14: =I14/H14 -> 2213438.7 | K14: 759 | L14: 1680000000 | M14: =L14/K14 -> 2213438.7 | N14: 699 | O14: 492370111 | P14: =O14/N14 -> 704392.15 | Q14: =P14-G14 -> -1934493.1 | R14: =P14-J14 -> -1509046.6 | S14: =P14-M14 -> -1509046.6
B15: 18AY909 | C15: Ndertim objektesh dhe punime per rikonstruksionin e objekteve te Forces Tokesore | D15: m2 | E15: 2543 | F15: 662456183 | G15: =F15/E15 -> 260501.84 | H15: 3600 | I15: 258000000 | J15: =I15/H15 -> 71666.667 | K15: 3600 | L15: 258000000 | M15: =L15/K15 -> 71666.667 | N15: 268.58027 | O15: 19248253 | P15: =O15/N15 -> 71666.667 | Q15: =P15-G15 -> -188835.17 | R15: =P15-J15 -> 0 | S15: =P15-M15 -> 0
B16: 18AY916 | C16: Pajisje te sallave operacionale, ndertesave te reja me orendi dhe sisteme IT- | D16: cope | E16: 802 | F16: 69999960 | G16: =F16/E16 -> 87281.746 | H16: 1000 | I16: 50000000 | J16: =I16/H16 -> 50000 | K16: 1000 | L16: 50000000 | M16: =L16/K16 -> 50000 | N16: 0 | O16: 0
B17: 18AY918 | C17: Ndertim i rrjetit inxhinierik i poligonit kombetar Pajet | D17: ml | E17: 1100 | F17: 108197799 | G17: =F17/E17 -> 98361.635 | H17: 0 | I17: 0 | J17: =I17/H17 -> #DIV/0! | K17: 0 | L17: 0 | M17: =L17/K17 -> #DIV/0! | N17: 0 | O17: 0
B18: 18AZ238 | C18: Blerje dronesh )Financim Kayo) | D18: numer | E18: 1 | F18: 502060000 | G18: =F18/E18 -> 502060000 | H18: 1 | I18: 404120000 | J18: =I18/H18 -> 404120000 | K18: 1 | L18: 404120000 | M18: =L18/K18 -> 404120000 | N18: 0 | O18: 0
B19: 18AY922 | C19: Blerje pajisje kompjuterike / IT per kompletimin e strukturave te FT-se | D19: cope | E19: 0 | F19: 0 | G19: =F19/E19 -> #DIV/0! | H19: 500 | I19: 30000000 | J19: =I19/H19 -> 60000 | K19: 500 | L19: 30000000 | M19: =L19/K19 -> 60000 | N19: 0 | O19: 0
B20: 18AY926 | C20: Ndertim parku I mbuluar per automjetet ushtarake ne RU nr.1010 Shkoder | D20: m2 | E20: 0 | F20: 0 | G20: =F20/E20 -> #DIV/0! | H20: 600 | I20: 36000000 | J20: =I20/H20 -> 60000 | K20: 600 | L20: 36000000 | M20: =L20/K20 -> 60000 | N20: 0 | O20: 0
B21: 18AY927 | C21: Ndertim objekti shumefunksional 3 kate mbi toke per akomodimin e Komandes dhe Shtabit te Forces Tokesore | D21: m2 | E21: 0 | F21: 0 | G21: =F21/E21 -> #DIV/0! | H21: 830 | I21: 58000000 | J21: =I21/H21 -> 69879.518 | K21: 830 | L21: 58000000 | M21: =L21/K21 -> 69879.518 | N21: 0 | O21: 0
B22: 18AY928 | C22: Ndertim depo AM ne garnizonin Pajet Bize | D22: m2 | E22: 0 | F22: 0 | G22: =F22/E22 -> #DIV/0! | H22: 250 | I22: 14000000 | J22: =I22/H22 -> 56000 | K22: 250 | L22: 14000000 | M22: =L22/K22 -> 56000 | N22: 0 | O22: 0
B23: M170424 | C23: ARMATIM I LEHT MUNICION DHE PAISJE E MAKINERI PER FORCAT E | D23: projekt | E23: 5 | F23: 3986947598 | G23: =F23/E23 -> 7.9738952e+08 | H23: 12 | I23: 3434887024 | J23: =I23/H23 -> 2.8624059e+08 | K23: 12 | L23: 3434887024 | M23: =L23/K23 -> 2.8624059e+08 | N23: =O23/M23 -> 5.8540598 | O23: 1675669493 | P23: =O23/N23 -> 2.8624059e+08 | Q23: =P23-G23 -> -5.1114893e+08 | R23: =P23-J23 -> 0 | S23: =P23-M23 -> 0
B24: M170203 | C24: Fond I ngrire/Kompletim I objekteve specifike me sisteme kondicionimi, pajisje palestre dhe pajisje shendetesore | D24: numer | E24: 0 | F24: 0 | G24: =F24/E24 -> #DIV/0! | H24: 1500 | I24: 60000000 | J24: =I24/H24 -> 40000 | K24: 1500 | L24: 60000000 | M24: =L24/K24 -> 40000 | N24: 0 | O24: 0
B25: 18AZ028 | C25: Ndertim godine per PSV, Maja e Thanasit, prona nr.1273 | D25: m2 | E25: 0 | F25: 0 | G25: =F25/E25 -> #DIV/0! | H25: 1000 | I25: 20000000 | J25: =I25/H25 -> 20000 | K25: 1000 | L25: 20000000 | M25: =L25/K25 -> 20000 | N25: 0 | O25: 0
B26: 18AZ038 | C26: Dylbi profesional optik dhe per shikimin naten per repartet e Forces Detare | D26: cope | E26: 8887 | F26: 62211205 | G26: =F26/E26 -> 7000.2481 | H26: 0 | I26: 0 | J26: =I26/H26 -> #DIV/0! | K26: 0 | L26: 0 | M26: =L26/K26 -> #DIV/0! | N26: 0 | O26: 0
B27: 18AZ040 | C27: Ndërtimi i mureve përforcuese të komandës së Kepit të Palit (prona 240, | D27: cope | E27: 0 | F27: 0 | G27: =F27/E27 -> #DIV/0! | H27: 8833 | I27: 26500000 | J27: =I27/H27 -> 3000.1132 | K27: 8833 | L27: 26500000 | M27: =L27/K27 -> 3000.1132 | N27: 0 | O27: 0
B28: 18AZ042 | C28: Rrethimi I jashtem NR.245 (Kompania e mbeshtetjes, QVD, QNOD (ish KFD)" | D28: ml | E28: 0 | F28: 0 | G28: =F28/E28 -> #DIV/0! | H28: 1228 | I28: 28203600 | J28: =I28/H28 -> 22967.101 | K28: 1228 | L28: 28203600 | M28: =L28/K28 -> 22967.101 | N28: 0 | O28: 0
B29: 18AZ043 | C29: Sisteme Nënujore Autonome për kerkimin e minave detare per operacionet | D29: Numer sistemi | E29: 2058 | F29: 24702001 | G29: =F29/E29 -> 12002.916 | H29: 2000 | I29: 222318100 | J29: =I29/H29 -> 111159.05 | K29: 2000 | L29: 222318100 | M29: =L29/K29 -> 111159.05 | N29: 0 | O29: 0
B30: 18AZ044 | C30: Punime infrastrukturore ne Porto palermo (tunel, bankina etj) | D30: m2 | E30: 0 | F30: 0 | G30: =F30/E30 -> #DIV/0! | H30: 3550 | I30: 10000000 | J30: =I30/H30 -> 2816.9014 | K30: 3550 | L30: 10000000 | M30: =L30/K30 -> 2816.9014 | N30: 0 | O30: 0
B31: 18AZ045 | C31: Ndertim dhe rikonstruksion, objektesh( Godina shumefunksionale e QZH, | D31: m2 | E31: 0 | F31: 0 | G31: =F31/E31 -> #DIV/0! | H31: 812 | I31: 60000000 | J31: =I31/H31 -> 73891.626 | K31: 812 | L31: 60000000 | M31: =L31/K31 -> 73891.626 | N31: 0 | O31: 0
B32: 18AZ046 | C32: Platforma e grumbukllimirt dhe perpunimit te informacionit detar | D32: Cope | E32: 0 | F32: 0 | G32: =F32/E32 -> #DIV/0! | H32: 4 | I32: 31822600 | J32: =I32/H32 -> 7955650 | K32: 4 | L32: 31822600 | M32: =L32/K32 -> 7955650 | N32: 0 | O32: 0
B33: 18AZ048 | C33: Permiresimi I in frastrukturesdhe rikonstruksioni I bankines"T", prona nr.1150 Porto Palermo | D33: m2 | E33: 0 | F33: 0 | G33: =F33/E33 -> #DIV/0! | H33: 300 | I33: 10000000 | J33: =I33/H33 -> 33333.333 | K33: 300 | L33: 10000000 | M33: =L33/K33 -> 33333.333 | N33: 0 | O33: 0
B34: 18AZ049 | C34: Rikonstruksionj I tunelit per depo armatimi ne Pashaliman Vlore | D34: m2 | E34: 0 | F34: 0 | G34: =F34/E34 -> #DIV/0! | H34: 420 | I34: 30000000 | J34: =I34/H34 -> 71428.571 | K34: 420 | L34: 30000000 | M34: =L34/K34 -> 71428.571 | N34: 0 | O34: 0
B35: 18AZ050 | C35: Ndertim I dallgethyesit dhe bankines jugore, nr.12 Pashaliman Vlore | D35: m2 | E35: 0 | F35: 0 | G35: =F35/E35 -> #DIV/0! | H35: 1060 | I35: 42000000 | J35: =I35/H35 -> 39622.642 | K35: 1060 | L35: 42000000 | M35: =L35/K35 -> 39622.642 | N35: 0 | O35: 0
... B41: 18AZ217 | C41: Shpronesime tokash Kucove (Baza Ajrore Kucove) | D41: m2 | E41: 123 | F41: 3678170 | G41: =F41/E41 -> 29903.821 | H41: 325 | I41: 9836000 | J41: =I41/H41 -> 30264.615 | K41: 325 | L41: 9836000 | M41: =L41/K41 -> 30264.615 | N41: 0 | O41: 0
B42: 18AZ220 | C42: Punime Infrastrukturore Baza Ajrore Kucove | D42: cope | E42: 1844 | F42: 49184321 | G42: =F42/E42 -> 26672.625 | H42: 6950 | I42: 190000000 | J42: =I42/H42 -> 27338.129 | K42: 6950 | L42: 190000000 | M42: =L42/K42 -> 27338.129 | N42: 40 | O42: 5059411 | P42: =O42/N42 -> 126485.27 | Q42: =P42-G42 -> 99812.65 | R42: =P42-J42 -> 99147.146 | S42: =P42-M42 -> 99147.146
B43: 18AZ221 | C43: Hangare , mjedise per mirembajtjen riparimit dhe te testimit | D43: m2 | E43: 2402 | F43: 129874999 | G43: =F43/E43 -> 54069.525 | H43: 0 | I43: 0 | J43: =I43/H43 -> #DIV/0! | K43: 0 | L43: 0 | M43: =L43/K43 -> #DIV/0! | N43: 0 | O43: 0
B44: 18AZ230 | C44: Ngritja e shkolles se aviacionit Vlore | D44: Cope | E44: 1 | F44: 901600000 | G44: =F44/E44 -> 901600000 | H44: 1 | I44: 1641410000 | J44: =I44/H44 -> 1641410000 | K44: 1 | L44: 1641410000 | M44: =L44/K44 -> 1641410000 | N44: 1 | O44: 1585479074 | P44: =O44/N44 -> 1585479074 | Q44: =P44-G44 -> 683879074 | R44: =P44-J44 -> -55930926 | S44: =P44-M44 -> -55930926
B45: 18AZ231 | C45: Sistemi I integruar I vezhgimit te hapsires ajrore | D45: numer sitemi | E45: 1 | F45: 624616320 | G45: =F45/E45 -> 624616320 | H45: 1 | I45: 1622836906 | J45: =I45/H45 -> 1622836906 | K45: 1 | L45: 1622836906 | M45: =L45/K45 -> 1622836906 | N45: 0 | O45: 0
B46: 18AZ232 | C46: Ndertim I hangareve per shkollen e aviacionit | D46: m2 | E46: 0 | F46: 0 | G46: =F46/E46 -> #DIV/0! | H46: 1000 | I46: 80000000 | J46: =I46/H46 -> 80000 | K46: 1000 | L46: 80000000 | M46: =L46/K46 -> 80000 | N46: 0 | O46: 0
B47: 18AZ234 | C47: Kompletim I sallave operacionale , ndertesave te Forces Ajrore me orendi dhe pajisje | D47: cope | E47: 735 | F47: 36756984 | G47: =F47/E47 -> 50009.502 | H47: 591 | I47: 29591000 | J47: =I47/H47 -> 50069.374 | K47: 591 | L47: 29591000 | M47: =L47/K47 -> 50069.374 | N47: 0 | O47: 2361480
B48: 18AZ237 | C48: Blerje e avjoneve me krah FIX shumerolesh | D48: Nr rrjeti | E48: 0 | F48: 0 | G48: =F48/E48 -> #DIV/0! | H48: 1 | I48: 360000000 | J48: =I48/H48 -> 360000000 | K48: 1 | L48: 360000000 | M48: =L48/K48 -> 360000000 | N48: 0 | O48: 0
B49: 18AZ239 | C49: Ndertim I sistemit antidronCUAS | D49: nr.sisteme | E49: 1 | F49: 608190000 | G49: =F49/E49 -> 608190000 | H49: 3 | I49: 1520475000 | J49: =I49/H49 -> 506825000 | K49: 3 | L49: 1520475000 | M49: =L49/K49 -> 506825000 | N49: 1 | O49: 506825000 | P49: =O49/N49 -> 506825000 | Q49: =P49-G49 -> -101365000 | R49: =P49-J49 -> 0 | S49: =P49-M49 -> 0
B50: 18AZ240 | C50: Ndertim I infrastruktures baza ajrore Kucove( Ndertim I sistemit te furnizimit me karburant te automjeteve) | D50: m2 | E50: 0 | F50: 0 | G50: =F50/E50 -> #DIV/0! | H50: 500 | I50: 20000000 | J50: =I50/H50 -> 40000 | K50: 500 | L50: 20000000 | M50: =L50/K50 -> 40000 | N50: 0 | O50: 0
B51: 18AZ241 | C51: Qendra e kontroll raportimit | D51: m2 | E51: 0 | F51: 0 | G51: =F51/E51 -> #DIV/0! | H51: 312 | I51: 6000000 | J51: =I51/H51 -> 19230.769 | K51: 312 | L51: 6000000 | M51: =L51/K51 -> 19230.769 | N51: 0 | O51: 0
B52: M170327 | C52: Ndërtim hangar mirembajtje per helikopterat, Farke | D52: Sistem | E52: 0 | F52: 130934503 | G52: =F52/E52 -> #DIV/0! | H52: 0 | I52: 0 | J52: =I52/H52 -> #DIV/0! | K52: 0 | L52: 0 | M52: =L52/K52 -> #DIV/0! | N52: 0 | O52: 0
B53: M170411 | C53: TVSH | D53: Sistem | E53: 0 | F53: 3184109 | G53: =F53/E53 -> #DIV/0! | H53: 0 | I53: 0 | J53: =I53/H53 -> #DIV/0! | K53: 0 | L53: 0 | M53: =L53/K53 -> #DIV/0! | N53: 0 | O53: 0
B54: 18AY921 | C54: Krijimi i kapitalit fillestar KAYO | D54: cope | E54: 1 | F54: 150000000 | G54: =F54/E54 -> 150000000 | H54: 0 | I54: 0 | J54: =I54/H54 -> #DIV/0! | K54: 0 | L54: 0 | M54: =L54/K54 -> #DIV/0! | N54: 0 | O54: 0
B55: T | C55: Total | E55: 0 | F55: =SUM(F10:F54) -> 17381334541 | G55: 0 | H55: 0 | I55: =SUM(I10:I54) -> 20391874000 | J55: 0 | K55: 0 | L55: =SUM(L10:L54) -> 20391874000 | M55: 0 | N55: =SUM(N10:N54) -> 4962.4343 | O55: =SUM(O10:O54) -> 7026304233 | P55: =O55/N55 -> 1415898.7 | Q55: =P55-G55 -> 1415898.7 | R55: =P55-J55 -> 1415898.7 | S55: =P55-M55 -> 1415898.7
C56: INVESTIMI I HUAJ | I56: 11000000000 | L56: 11000000000
B57: Totali I shpenzimeve te programit | F57: 17381334541 | G57: 0 | H57: 0 | I57: 31391874000 | J57: 0 | K57: 0 | L57: 31391874000 | M57: 0 | N57: 4962.4343 | O57: 7026304233 | P57: 1415898.7 | Q57: 1415898.7 | R57: 1415898.7 | S57: 1415898.7

Sheet Aneksi 3 MBSHT.LUFTIMIT
A2: ANEKSI nr.3 Raporti i performancës së produkteve të programit
A3: Periudha e Raportimit 4-2026
A4: në/lekë
A5: Emri i Grupit | B5: Ministria e Mbrojtjes | E5: Kodi i grupit | F5: 17
A6: Emri i | B6: Mbështetja e Luftimit | E6: Kodi i programit | F6: 02150
A7: Kodi i Produktit | B7: Emërtimi i Produktit | C7: Njësia matëse | D7: Viti paraardhës | G7: Periudha Rapotuese | J7: Periudha Rapotuese | M7: Periudha Rapotuese | P7: Deviacioni i Kostos për Njësi
D8: Sasia Faktike (Viti paraardhës) | E8: Shpenzimet Faktike (sipas vitit paraardhes) | F8: Kosto për Njësi (sipas vitit paraardhës) | G8: Sasia (sipas planit Fillestar Vjetor) | H8: Shpenzimet (sipas planit Fillestar Vjetor | I8: Kosto për Njësi (sipas planit Fillestar të vitit | J8: Sasia (sipas planit të rishikuar të vitit korent) | K8: Shpenzimet (sipas /nplanit të rishikuar të vitit korent) | L8: Kosto për Njësi(sipas /nplanit të rishikuar të vitit korent) | M8: Sasia Faktike (në /nfund të vitit korent) | N8: Shpenzimet Faktike /n(në fund të vitit korent) | O8: Kosto për Njësi Faktike n/(në fund të vitit korent) | P8: 13=(12)-(3) | Q8: 14=(12)-(6) | R8: 15=(12)-(9)
D9: (1) | E9: (2) | F9: (3) | G9: (4) | H9: (5) | I9: (6) | J9: (7) | K9: (8) | L9: (9) | M9: (10) | N9: (11) | O9: (12) | P9: (13) | Q9: (14) | R9: (15)
A10: Produktet e realizuara me shpenzimet buxhetore të programit
A11: 91703AA | B11: Kapacitete Operacioanle që sigurojnë mbështetjen logjistike të FARSH | C11: Numer personeli | D11: 1242 | E11: 3945433323 | F11: =E11/D11 -> 3176677.4 | G11: 1438 | H11: 4886886000 | I11: =H11/G11 -> 3398390.8 | J11: 414 | K11: 1224200000 | L11: =K11/J11 -> 2957004.8 | M11: =1242/3 -> 414 | N11: 1195914954 | O11: =N11/M11 -> 2888683.5 | P11: =O11-F11 -> -287993.93 | Q11: =O11-I11 -> -509707.36 | R11: =O11-L11 -> -68321.367
A12: 91703AC | B12: Qendra e Kultures funksionale | C12: numer personeli | D12: 145 | E12: 218620259 | F12: =E12/D12 -> 1507725.9 | G12: 145 | H12: 223000000 | I12: =H12/G12 -> 1537931 | J12: 48.333333 | K12: 101000000 | L12: =K12/J12 -> 2089655.2 | M12: =145/3 -> 48.333333 | N12: 69787049 | O12: =N12/M12 -> 1443870 | P12: =O12-F12 -> -63855.945 | Q12: =O12-I12 -> -94061.055 | R12: =O12-L12 -> -645785.19
A13: 91703AD | B13: Arkive funksionale | C13: meter linear dokumentash | D13: 130 | E13: 36782415 | F13: =E13/D13 -> 282941.65 | G13: 130 | H13: 45150000 | I13: =H13/G13 -> 347307.69 | J13: 43.333333 | K13: 14950000 | L13: =K13/J13 -> 345000 | M13: =130/3 -> 43.333333 | N13: 12109452 | O13: =N13/M13 -> 279448.89 | P13: =O13-F13 -> -3492.7615 | Q13: =O13-I13 -> -67858.8 | R13: =O13-L13 -> -65551.108
A14: 91703AE | B14: Personel i rekrutuar dhe dosje te administriuara per trajtim financiar. | C14: numer personash | D14: 160 | E14: 383906580 | F14: =E14/D14 -> 2399416.1 | G14: 160 | H14: 478000000 | I14: =H14/G14 -> 2987500 | J14: 53.333333 | K14: 169400000 | L14: =K14/J14 -> 3176250 | M14: =160/3 -> 53.333333 | N14: 129786457 | O14: =N14/M14 -> 2433496.1 | P14: =O14-F14 -> 34079.944 | Q14: =O14-I14 -> -554003.93 | R14: =O14-L14 -> -742753.93
A15: 91703AF | B15: Sistem i Automatizuar Logjistik i Menaxhuar | C15: numer personeli | D15: 67 | E15: 86347329 | F15: =E15/D15 -> 1288766.1 | G15: 67 | H15: 107000000 | I15: =H15/G15 -> 1597014.9 | J15: 22.333333 | K15: 36424000 | L15: =K15/J15 -> 1630925.4 | M15: =67/3 -> 22.333333 | N15: 29969377 | O15: =N15/M15 -> 1341912.4 | P15: =O15-F15 -> 53146.299 | Q15: =O15-I15 -> -255102.52 | R15: =O15-L15 -> -289012.97
A16: 91703AG | B16: Licenca import/eksporit te dhena | C16: numer liçenca | D16: 90 | E16: 32344903 | F16: =E16/D16 -> 359387.81 | G16: 90 | H16: 40100000 | I16: =H16/G16 -> 445555.56 | J16: 30 | K16: 13366000 | L16: =K16/J16 -> 445533.33 | M16: =90/3 -> 30 | N16: 11026401 | O16: =N16/M16 -> 367546.7 | P16: =O16-F16 -> 8158.8889 | Q16: =O16-I16 -> -78008.856 | R16: =O16-L16 -> -77986.633
A17: 91703AH | B17: Harta ushtarake te prodhura | C17: flete | D17: 2400 | E17: 81455079 | F17: =E17/D17 -> 33939.616 | G17: 2400 | H17: 86300000 | I17: =H17/G17 -> 35958.333 | J17: 800 | K17: 30000000 | L17: =K17/J17 -> 37500 | M17: =2400/3 -> 800 | N17: 28914610 | O17: =N17/M17 -> 36143.262 | P17: =O17-F17 -> 2203.6462 | Q17: =O17-I17 -> 184.92917 | R17: =O17-L17 -> -1356.7375
A18: 91703AI | B18: Inteligjenca ushtarake për autoritet e drejtimit dhe komandimit të FA | C18: Numer personeli | D18: 250 | E18: 409041462 | F18: =E18/D18 -> 1636165.8 | G18: 250 | H18: 426088000 | I18: =H18/G18 -> 1704352 | J18: 83.333333 | K18: 139500000 | L18: =K18/J18 -> 1674000 | M18: =250/3 -> 83.333333 | N18: 1.3531777e+08 | O18: =N18/M18 -> 1623813.2 | P18: =O18-F18 -> -12352.629 | Q18: =O18-I18 -> -80538.781 | R18: =O18-L18 -> -50186.781
A19: 91703AJ | B19: Hapesires detare e monitoruar | C19: Numer personeli | D19: 24 | E19: 39948833 | F19: =E19/D19 -> 1664534.7 | G19: 24 | H19: 46400000 | I19: =H19/G19 -> 1933333.3 | J19: 8 | K19: 18350000 | L19: =K19/J19 -> 2293750 | M19: =24/3 -> 8 | N19: 13432877 | O19: =N19/M19 -> 1679109.6 | P19: =O19-F19 -> 14574.917 | Q19: =O19-I19 -> -254223.71 | R19: =O19-L19 -> -614640.38
A20: 91703AK | B20: Polici ushtarake funksionale | C20: Numer personeli | D20: 410 | E20: 736170560 | F20: =E20/D20 -> 1795538 | G20: 427 | H20: 797000000 | I20: =H20/G20 -> 1866510.5 | J20: 136.66667 | K20: 284800000 | L20: =K20/J20 -> 2083902.4 | M20: =410/3 -> 136.66667 | N20: 237160041 | O20: =N20/M20 -> 1735317.4 | P20: =O20-F20 -> -60220.578 | Q20: =O20-I20 -> -131193.17 | R20: =O20-L20 -> -348585.07
A21: 91703AL | B21: Sistem funksional kontrolli per FA | C21: numer personeli | D21: 234 | E21: 405887063 | F21: =E21/D21 -> 1734560.1 | G21: 234 | H21: 474000000 | I21: =H21/G21 -> 2025641 | J21: 78 | K21: 174000000 | L21: =K21/J21 -> 2230769.2 | M21: =234/3 -> 78 | N21: 149417828 | O21: =N21/M21 -> 1915613.2 | P21: =O21-F21 -> 181053.08 | Q21: =O21-I21 -> -110027.85 | R21: =O21-L21 -> -315156.05
A22: 91703AM | B22: Objekte ne ruajtje dhe godina pushimi te ofruara | C22: numer personeli | D22: 599 | E22: 955952577 | F22: =E22/D22 -> 1595914.2 | G22: 599 | H22: 952000000 | I22: =H22/G22 -> 1589315.5 | J22: 199.66667 | K22: 429000000 | L22: =K22/J22 -> 2148581 | M22: =599/3 -> 199.66667 | N22: 315205997 | O22: =N22/M22 -> 1578661.1 | P22: =O22-F22 -> -17253.065 | Q22: =O22-I22 -> -10654.439 | R22: =O22-L22 -> -569919.88
A23: 91703AN | B23: Kologji i Mbrojtjes dhe Sigurise | C23: numer personeli | D23: 54 | E23: 227667172 | F23: =E23/D23 -> 4216058.7 | G23: 54 | H23: 329112000 | I23: =H23/G23 -> 6094666.7 | J23: 18 | K23: 164000000 | L23: =K23/J23 -> 9111111.1 | M23: =54/3 -> 18 | N23: 137398654 | O23: =N23/M23 -> 7633258.6 | P23: =O23-F23 -> 3417199.8 | Q23: =O23-I23 -> 1538591.9 | R23: =O23-L23 -> -1477852.6
A24: 18AZ301 | B24: Mjete transporti dhe speciale FA | C24: cope | D24: 36 | E24: 790694087 | F24: =E24/D24 -> 21963725 | G24: 78 | H24: 1326942841 | I24: =H24/G24 -> 17012088 | J24: 0 | K24: 0 | L24: 0 | M24: 0 | N24: 0 | O24: 0 | P24: 0 | Q24: =O24-I24 -> -17012088 | R24: =O24-L24 -> 0
A25: 18AZ312 | B25: Zhvillimi i kapaciteteve O1001, K1002, S1003, S1004, L1005, N1006, N1007,R1008,I1009,M1010,M1011 | C25: sistem | D25: 14 | E25: 209960508 | F25: =E25/D25 -> 14997179 | G25: 10 | H25: 42400000 | I25: =H25/G25 -> 4240000 | J25: 10 | K25: 42400000 | L25: =K25/J25 -> 4240000 | M25: 0 | N25: 0 | O25: 0 | P25: =O25-F25 -> -14997179 | Q25: =O25-I25 -> -4240000 | R25: =O25-L25 -> -4240000
A26: 18AZ313 | B26: "Ngritja e sistemit te informacionit per gjeografine dhe infrastruktures ushtarake ne sherbim te IGJIU" | C26: cope | D26: 0 | E26: 0 | F26: 0 | G26: 0 | M26: 0 | N26: 0 | O26: 0 | P26: 0 | Q26: 0 | R26: 0
A27: 18AZ317 | B27: Kompletim dhe modernizim me automjete | C27: cope | D27: 0 | E27: 0 | F27: 0 | G27: 0 | M27: 0 | N27: 0 | O27: 0 | P27: =O27-F27 -> 0 | Q27: 0 | R27: =O27-L27 -> 0
A28: 18AZ322 | B28: Kompletim i ambjenteve per Zyrat e Rekrutimit ne rrethe | C28: cope | D28: 90 | E28: 18315480 | F28: =E28/D28 -> 203505.33 | G28: 40 | H28: 8500000 | I28: =H28/G28 -> 212500 | J28: 40 | K28: 8500000 | L28: =K28/J28 -> 212500 | M28: 40 | N28: 8100000 | O28: =N28/M28 -> 202500 | P28: =O28-F28 -> -1005.3333 | Q28: =O28-I28 -> -10000 | R28: =O28-L28 -> -10000
A29: 18AZ324 | B29: Abonimi dhe suporti teknik vjetor per setin e programeTeledzne Cartis,per realiyim e hartave detare elektronike ENC dhe harta detare ne leter ne vazdhim te projektit ALNO-HIP. | C29: cope | D29: 0 | E29: 0 | F29: 0 | G29: 0 | M29: 0 | N29: 0 | O29: 0 | P29: =O29-F29 -> 0 | Q29: 0 | R29: 0
A30: 18AZ325 | B30: Abonimi dhe suporti teknik vjetor per programin SevenCs,per realizimin ekontrollit te saktesise se hartave detare elektronike ENC nevazhdim te projektit ALNO-HIP | C30: cope | D30: 0 | E30: 0 | F30: 0 | G30: 0 | M30: 0 | N30: 0 | O30: 0 | P30: =O30-F30 -> 0 | Q30: 0 | R30: 0
A31: 18AZ326 | B31: Programe te licensuara per sektoret e IGJIU-se(AutoCadcivil,Autocadmap3D, Sletch up etj) | C31: cope | D31: 0 | E31: 0 | F31: 0 | G31: 2 | H31: 10000000 | I31: =H31/G31 -> 5000000 | M31: 0 | N31: 0 | O31: 0 | P31: =O31-F31 -> 0 | Q31: 0 | R31: 0
A32: 18AZ327 | B32: Zhvillimi i kapaciteteve T1012,B1013,R1014,R1015,I1016,N1017 | C32: numer | D32: 0 | E32: 0 | F32: 0 | G32: 0 | M32: 0 | N32: 0 | O32: 0 | P32: =O32-F32 -> 0 | Q32: 0 | R32: 0
A33: 18AZ328 | B33: Kondicioner zyrash 9-btu | C33: cope | D33: 20 | E33: 513012 | F33: =E33/D33 -> 25650.6
A34: 18AZ334 | B34: Blerje, Paisje kompjuterike dhe Kancelarike për Dixhitalizimin dhe Sistemimin e Arkivit | C34: cope | D34: 0 | E34: 0 | F34: 0 | M34: 0 | N34: 0 | O34: 0 | P34: =O34-F34 -> 0 | Q34: 0 | R34: 0
A35: 18AZ335 | B35: Zhvillimi i kapaciteteve Ç1009; M1019; P1020; S1021; P1022; P1023;T1012;Z1024;Z1025;R1014;R1015;I1016 | C35: sistem | D35: 0 | E35: 0 | F35: 0 | G35: 1 | H35: 9600000 | I35: =H35/G35 -> 9600000 | J35: 1 | K35: 9600000 | L35: 9600000 | M35: 1 | N35: 9598800 | O35: 9598800 | P35: =O35-F35 -> 9598800 | Q35: 0 | R35: 0
A36: 18AZ337 | B36: Blerje pajisjesh per zhvillimin e eventeve, trajnimeve dhe backthon-eve (Ekran LED te Brendshem, Ndricim profesional, kamera per takime online) per godinen 2 te QISM | C36: cop | D36: 0 | E36: 0 | F36: 0 | M36: 0 | N36: 0 | O36: 0 | P36: =O36-F36 -> 0 | Q36: 0 | R36: 0
A37: 18AZ338 | B37: Blerje Automjeti transporti per personelin e QISM | C37: cope | D37: 1 | E37: 3834000 | F37: =E37/D37 -> 3834000 | Q37: =O37-I37 -> 0 | R37: =O37-L37 -> 0
A38: 18AZ413 | B38: Përshtatje dhe rikonstruksion ambjentesh per Zyrat e Rekrutimit ne rrethe | C38: m2 | D38: 0 | E38: 0 | F38: 0 | Q38: 0 | R38: 0
A39: 18AZ414 | B39: Ndertim objekti shumefunksional per akomodimin e Komandes, Shtabit dhe Kompanise se Mbeshtetjes ne pronen nr.86 C Ferraj Tirane | C39: m2 | D39: 1433.5329 | E39: 285750883 | F39: =E39/D39 -> 199333.33 | G39: 170 | H39: 34029811 | I39: =H39/G39 -> 200175.36 | J39: 150 | K39: 30000000 | L39: =K39/J39 -> 200000 | M39: 0 | N39: 0 | Q39: =O39-I39 -> -200175.36 | R39: =O39-L39 -> -200000
A40: 18AZ415 | B40: Rikonstruksion teresor i nderteses se komandes dhe shtabit te batalionit.(Rep 4007) demtuar nga termeti,rrethimi,sistemi i sigurise, ndertim depo karburanti, rikonstruksion oficine, rikondtruksion parqesh prona nr.149 Peze-Helmes | C40: m2 | D40: 50 | E40: 5738192 | F40: =E40/D40 -> 114763.84 | Q40: =O40-I40 -> 0 | R40: =O40-L40 -> 0
A41: 18AZ416 | B41: Rikonstruksion ndertesash , rrethim pjesor , ndertim sistem sigurie Rep nr.4009 prona nr.176 Ferraj, Tirane | C41: m2 | D41: 0 | E41: 0 | F41: 0 | Q41: =O41-I41 -> 0 | R41: =O41-L41 -> 0
A42: 18AZ417 | B42: Ndertim grup-depo per administrimin e pajisjeve dhe akomodimin e kompanise II te kerkim shpetimit, ne pronen nr.86, Reparti Ushtarak nr.4030, Ferraj, Tirane | C42: m2 | D42: 1400 | E42: 267350290 | F42: =E42/D42 -> 190964.49 | G42: 220 | H42: 41000000 | I42: =H42/G42 -> 186363.64 | J42: 220 | K42: 41000000 | L42: =K42/J42 -> 186363.64 | M42: 80 | N42: 14988696 | O42: 187358.7 | Q42: =O42-I42 -> 995.06364 | R42: =O42-L42 -> 995.06364
A43: 18AZ419 | B43: Rikonstruksion deposh,godina 1 kateshe,truproje,rrethim pjesor,sistem sigurie grup depo mengel prona nr.318,319 mengel | C43: m2 | D43: 1750 | E43: 44008578 | F43: =E43/D43 -> 25147.759 | G43: 200 | H43: 5000000 | I43: =H43/G43 -> 25000 | J43: 200 | K43: 5000000 | L43: =K43/J43 -> 25000 | Q43: =O43-I43 -> -25000 | R43: =O43-L43 -> -25000
A44: 18AZ429 | B44: Rikonstruksion godine 3-K, zyra e PU, Berat | C44: m2 | D44: 0 | E44: 0 | F44: 0 | I44: =H44/G44 -> #DIV/0! | Q44: =O44-I44 -> #DIV/0! | R44: =O44-L44 -> 0
A45: 18AZ430 | B45: Rikonstruksion i objektit Qendra e pesonel Rekrutim Godina nr.35 . | C45: m2 | D45: 3000 | E45: 84596849 | F45: =E45/D45 -> 28198.95 | Q45: =O45-I45 -> 0 | R45: =O45-L45 -> 0
A46: 18az427 | B46: Godine 2k(Mbulim me cati, rikonstruksion I nyjeve dhe higjenes sanitare | C46: m2 | F46: 0 | G46: 500 | H46: 10300000 | I46: =H46/G46 -> 20600 | J46: 250 | K46: 5000000 | L46: =K46/J46 -> 20000 | M46: 250 | N46: 4922682 | O46: 19690.728
A47: 18AZ502 | B47: Ndërtimin e sistemit të Telefonise VoIP & VTC n ë FA(Radiorele Digitale) + FD | C47: cope | D47: 15 | E47: 2074706 | F47: =E47/D47 -> 138313.73 | G47: 30 | H47: 4994000 | I47: =H47/G47 -> 166466.67 | J47: 30 | K47: 4994000 | L47: 166466.67 | M47: 2 | N47: 369916 | O47: 184958 | Q47: =O47-I47 -> 18491.333 | R47: =O47-L47 -> 18491.333
A48: 18AZ505 | B48: Licenca dhe programe softeurike per FA | C48: cope | D48: 0 | E48: 0 | F48: 0 | G48: 1 | H48: 48606000 | I48: =H48/G48 -> 48606000 | J48: 1 | K48: 48606000 | L48: 48606000 | Q48: =O48-I48 -> -48606000 | R48: =O48-L48 -> -48606000
A49: 18AZ507 | B49: Ndertim/zgjerim i rrjetit te fibres Optike ne FA | C49: ml | D49: 0 | E49: 0 | F49: 0 | G49: 1 | Q49: =O49-I49 -> 0 | R49: =O49-L49 -> 0
A50: 18AZ508 | B50: Ndertimi i sistemit te trasmetimit shumekanalesh me vale FD | C50: sistem | D50: 1 | E50: 9696000 | F50: =E50/D50 -> 9696000 | G50: 1 | Q50: =O50-I50 -> 0 | R50: =O50-L50 -> 0
A51: 18AZ513 | B51: Rrjeti Kombetar i Klasifikuar NATO Sekret | C51: rrjet | D51: 0 | E51: 0 | F51: 0 | G51: 1 | H51: 206187000 | I51: =H51/G51 -> 206187000 | Q51: =O51-I51 -> -206187000 | R51: =O51-L51 -> 0
A52: 18AZ519 | B52: Blerje e pajisjeve Similatore | C52: cope | D52: 1 | E52: 988800 | F52: =E52/D52 -> 988800 | G52: 1 | Q52: =O52-I52 -> 0 | R52: =O52-L52 -> 0
A53: 18AZ522 | B53: Blerje pajisje vegla muzikore per OSFA - ne | C53: cope | D53: 0 | E53: 0 | F53: 0 | G53: 0 | Q53: 0 | R53: 0
A54: 18AZ523 | B54: Automatizimi i Burimeve te Mbrojtjes ( Permiresimi I sistemit te automatizimit, SIMB) | C54: Sistem | D54: 0 | E54: 0 | F54: 0 | G54: 0 | Q54: 0 | R54: 0
A55: 18AZ524 | B55: Permiresime ne hardware, software dhe ndertime te dhomave te serverave per rritjen e performances se sistemeve te MM/FA per vazhdueshmerine e punes | C55: Sistem | D55: 0 | E55: 0 | F55: 0 | G55: 0 | Q55: 0 | R55: 0
A56: 18AZ526 | B56: Kompjutera desktop QNOD | C56: cope | D56: 10 | E56: 765600 | F56: =E56/D56 -> 76560 | G56: 0 | Q56: =O56-I56 -> 0 | R56: =O56-L56 -> 0
A57: 18AZ527 | B57: Blerje Pajisje per permiresimin e Kapaciteteve Operacionale dhe Sigurise te Rrjeteve Kompjuterike te Forcave të Armatosura | C57: cope | D57: 0 | E57: 0 | F57: 0 | G57: 1200 | H57: 150000000 | I57: =H57/G57 -> 125000 | J57: 1200 | K57: 150000000 | L57: 125000 | Q57: 0 | R57: 0
A58: 18AZ529 | B58: Blerje pajisje per sistemin BICES | C58: cope | F58: 0 | G58: 50 | H58: 7100000 | I58: =H58/G58 -> 142000 | J58: 50 | K58: 7100000 | L58: 142000 | Q58: 0 | R58: 0
A59: 18AZ530 | B59: Blerje licencave per permiresimin dhe perditesimin e Sistemeve te Mbrojtjes Kibernetike per Forcat e Armatosura. (NJYSK) | C59: Sistem | D59: 0 | E59: 0 | F59: 0 | G59: 2 | H59: 59000000 | I59: =H59/G59 -> 29500000 | J59: 2 | K59: 59000000 | L59: 29500000 | Q59: 0 | R59: 0
A60: 18AZ608 | B60: Karrige zyrash me mbeshtetje (QNOD) | C60: cope | D60: 30 | E60: 672384 | F60: =E60/D60 -> 22412.8 | Q60: =O60-I60 -> 0 | R60: =O60-L60 -> 0
A61: 18AZ609 | B61: Kompletimi me Smart Bord te Klasave te KMS (Tabela interaktive min 86") | C61: cope | D61: 0 | E61: 0 | F61: 0 | Q61: 0 | R61: 0
A62: 18AZ610 | B62: Blerje pajisjesh per TIK (Teknologjin dhe Informacionin KMS) | C62: cope | D62: 0 | E62: 0 | F62: 0 | G62: 60 | H62: 7813000 | I62: =H62/G62 -> 130216.67 | J62: 60 | K62: 7813000 | L62: 130216.67 | Q62: 0 | R62: 0
A63: 18CI405 | B63: Rikonstruksion i godinave te demtuara nga termeti prona 231 ne SHPU Durres Vila nr.1 dhe nr.2(seksioni i vjeter) nr.4 dhe nr.8 | C63: m2 | D63: 800 | E63: 30706600 | F63: =E63/D63 -> 38383.25 | G63: 150 | Q63: 0 | R63: 0
A64: 18CI408 | B64: Pajisje hotelerie per SHPU Jale, Durre , Pogradec dhe Vlore | C64: cope | D64: 70 | E64: 7153200 | F64: =E64/D64 -> 102188.57 | G64: 50 | Q64: =O64-I64 -> 0 | R64: =O64-L64 -> 0
A65: 18CI409 | B65: Sistemim infrastruktures + Postoblloku nr.4 + Tranazhim i fushes se futbollit ne Garnizonin Skenderbej | C65: m2 | D65: 10000 | E65: 131392262 | F65: =E65/D65 -> 13139.226 | G65: 265 | H65: 5300000 | I65: =H65/G65 -> 20000 | J65: 265 | K65: 5300000 | L65: 20000 | Q65: =O65-I65 -> -20000 | R65: =O65-L65 -> -20000
A66: 18CI5411 | B66: Rikonstruksion i objekteve nr.25 (Palestra e vjeter) dhe nr.28 (Palestra e re), ne garnoizonin "Skenderbej" | C66: m2 | G66: 1000 | H66: 20000000 | I66: =H66/G66 -> 20000
A67: 18CI502 | B67: Paisje me elementet e sistemit te sigurise elektronike ne Rep.Usht.Nr.6630 Garnizoni Skenderbej , OFFA dhe SHPU | C67: cope | D67: 0 | E67: 0 | F67: 0 | G67: 1 | Q67: 0 | R67: 0
A68: 18AZ425 | B68: Ndertim godine polifunksionale, kabinete mesimore per funksionimin e Shkolles se Trupes, prona nr.1275 Peze-Helmes | C68: m2 | F68: 0 | G68: 1 | Q68: 0 | R68: 0
A69: 18AZ434 | B69: Ndertim objekti I perkohshem (element I mbeshtetjes kombetaqre ne filmcity, Prishtine) | C69: m2 | D69: 1200 | E69: 19947637 | F69: =E69/D69 -> 16623.031 | G69: 1200 | Q69: =O69-I69 -> 0 | R69: =O69-L69 -> 0
A70: 18AZ603 | B70: Kompletimi me pajisje e orendi (tavolina,karrige,rafte etj) per FA | C70: cope | D70: 638 | E70: 21392400 | F70: =E70/D70 -> 33530.408 | G70: 2000 | Q70: 0 | R70: 0
A71: M170237 | B71: Blerje studime e projektime (Art.231) | C71: cope | F71: 0 | G71: 120 | H71: 30000000 | I71: =H71/G71 -> 250000 | J71: 120 | K71: 30000000 | L71: 250000 | Q71: 0 | R71: 0
A72: M170237 | B72: Studime e projektime (Art.230) | C72: cope | D72: 556 | E72: 126768609 | F72: =E72/D72 -> 228001.1 | G72: 60 | Q72: =O72-I72 -> 0 | R72: =O72-L72 -> 0
A73: M170411 | B73: TVSH | C73: nr projekti | D73: 3 | E73: 7294687 | F73: =E73/D73 -> 2431562.3 | G73: 2 | H73: 4227348 | I73: =H73/G73 -> 2113674 | Q73: =O73-I73 -> -2113674 | R73: =O73-L73 -> 0
A74: 18AZ611 | B74: Kondicioner zyrash 9-btu AKSHE | C74: cope | D74: 0 | E74: 0 | F74: 0 | Q74: 0 | R74: 0
A75: 18AZ611 | B75: Bateri UPS 100VA AKSHE | C75: cope | D75: 19 | E75: 356400 | F75: =E75/D75 -> 18757.895 | Q75: =O75-I75 -> 0 | R75: =O75-L75 -> 0
A76: 18AZ611 | B76: Tavolina pune ne forme L AKSHE | C76: cope | D76: 0 | E76: 0 | F76: 0 | Q76: 0 | R76: 0
A77: I RI | B77: Qendra rajonale e Emergjencave Krane | C77: Fond I ngrire | D77: 0 | E77: 0 | F77: 0 | H77: 109400000 | Q77: 0 | R77: 0
A78: I RI | B78: Qendra rajonale e Emergjencave Bushat | C78: Fond I ngrire | D78: 0 | E78: 0 | F78: 0 | H78: 120200000 | Q78: 0 | R78: 0
A79: I RI | B79: Blerje pajisje TIK per sektorin Audio-Video | C79: cope | D79: 0 | E79: 0 | F79: 0 | G79: 60 | H79: 4900000 | I79: =H79/G79 -> 81666.667 | J79: 60 | K79: 4900000 | L79: =K79/J79 -> 81666.667 | P79: 0 | Q79: 0 | R79: 0
A80: T | B80: Total | D80: 0 | E80: =SUM(E11:E79) -> 9629528719 | F80: =SUM(F11:F79) -> 77078367 | G80: =SUM(G11:G79) -> 13495 | H80: =SUM(H11:H79) -> 11156536000 | K80: =SUM(K11:K79) -> 3258203000 | L80: =SUM(L11:L79) -> 1.237292e+08 | M80: =SUM(M11:M79) -> 2308 | N80: =SUM(N11:N79) -> 2.5034216e+09 | O80: =SUM(O11:O79) -> 35150181
A81: Produktet e realizuara nga përdorimi i të ardhurave jashtë limitit (Nga kapitulli 06)
A82: 19AH806 | B82: Pajisje inventar ekonomik | D82: 10 | E82: 228114 | F82: =E82/D82 -> 22811.4
A83: T | B83: Total | D83: 0.96505417 | E83: =SUM(E80:E82) -> 9629756833 | F83: =E83/D83 -> 9.9784625e+09 | G83: =G80+G82 -> 13495 | H83: =H80+H82 -> 11156536000 | I83: =I80+I82 -> 0 | J83: =J80+J82 -> 0 | K83: =K80+K82 -> 3258203000 | L83: =L80+L82 -> 1.237292e+08 | M83: =M80+M82 -> 2308 | N83: =N80+N82 -> 2.5034216e+09 | ... P83: =P80+P82 -> 0

Sheet Aneksi 3  Mbësht .Shëndetësinë
B2: ANEKSI nr.3 Raporti i performancës së produkteve të programit
B3: Periudha e Raportimit 04-2026
B4: në/lekë
B5: Emri i Grupit | C5: Ministria e Mbrojtjes | F5: Kodi i grupit | G5: 17
B6: Emri i | C6: Mbështetja për Shëndetësinë | F6: Kodi i programit | G6: 07340
B7: Kodi i Produktit | C7: Emërtimi i Produktit | D7: Njësia matëse | E7: Viti paraardhës | H7: Periudha Rapotuese | K7: Periudha Rapotuese | N7: Periudha Rapotuese | Q7: Deviacioni i Kostos për Njësi
E8: Sasia Faktike (Viti paraardhës) | F8: Shpenzimet Faktike (sipas vitit paraardhes) | G8: Kosto për Njësi (sipas vitit paraardhës) | H8: Sasia (sipas planit Fillestar Vjetor) | I8: Shpenzimet (sipas planit Fillestar Vjetor | J8: Kosto për Njësi (sipas planit Fillestar të vitit | K8: Sasia (sipas planit të rishikuar të vitit korent) | L8: Shpenzimet (sipas /nplanit të rishikuar të vitit korent) | M8: Kosto për Njësi(sipas /nplanit të rishikuar të vitit korent) | N8: Sasia Faktike (në /nfund të vitit korent) | O8: Shpenzimet Faktike /n(në fund të vitit korent) | P8: Kosto për Njësi Faktike n/(në fund të vitit korent) | Q8: 13=(12)-(3) | R8: 14=(12)-(6) | S8: 15=(12)-(9)
E9: (1) | F9: (2) | G9: (3) | H9: (4) | I9: (5) | J9: (6) | K9: (7) | L9: (8) | M9: (9) | N9: (10) | O9: (11) | P9: (12) | Q9: (13) | R9: (14) | S9: (15)
B10: Produktet e realizuara me shpenzimet buxhetore të programit
B11: 91704AA | C11: Pacientet te trajtuar ambulator dhe te shtruar te urgjences | D11: numer pacientesh | E11: 73246 | F11: 1709712230 | G11: 23342.056 | H11: 98502 | I11: 1634800000 | J11: =I11/H11 -> 16596.617 | K11: 98502 | L11: 1634800000 | M11: =L11/K11 -> 16596.617 | N11: 28592 | O11: =452040043+3000 -> 452043043 | P11: =O11/N11 -> 15810.123 | Q11: =P11-G11 -> -7531.9327 | R11: =P11-J11 -> -786.49411 | S11: =P11-M11 -> -786.49411
B12: 18AZ813 | C12: Rikonstruksion Godinash | D12: m2 | E12: 2 | F12: =36170081+98094879+2735040 -> 137000000 | G12: 68500000 | H12: 4 | I12: 290000000 | J12: =I12/H12 -> 72500000 | K12: 4 | L12: 290000000 | M12: =L12/K12 -> 72500000 | N12: 0 | O12: 0
B13: 18AZ817 | C13: Blerje Pajisje Mjeksore | D13: nr | E13: =14+21 -> 35 | F13: 56284800 | G13: 1608137.1 | H13: 65 | I13: 200000000 | J13: =I13/H13 -> 3076923.1 | K13: 65 | L13: 200000000 | M13: =L13/K13 -> 3076923.1 | N13: 1 | O13: 2456160 | P13: =O13/N13 -> 2456160 | Q13: =P13-G13 -> 848022.86 | R13: =P13-J13 -> -620763.08 | S13: =P13-M13 -> -620763.08
B14: 18AZ814 | C14: Blerje mobilje per SUT | D14: nr | E14: 0 | F14: 0 | G14: 0 | H14: 510 | I14: 10000000 | J14: =I14/H14 -> 19607.843 | K14: 510 | L14: 10000000 | M14: =L14/K14 -> 19607.843 | N14: 0 | O14: 0
C15: Total | F15: =SUM(F11:F13) -> 1902997030 | I15: =SUM(I11:I14) -> 2134800000 | L15: =SUM(L11:L14) -> 2134800000 | O15: =SUM(O11:O13) -> 454499203
B16: 91704AA | C16: Pacientet te trajtuar ambulator dhe te shtruar te urgjences | D16: numer pacientesh | F16: =5519195+2397120 -> 7916315 | I16: 0 | L16: 0 | O16: 2809260
B17: 19AH806 | C17: Pajisje inventar ekonomik | F17: 1209600 | I17: 0 | L17: 0
B18: T | C18: Total | F18: =SUM(F16:F17) -> 9125915 | I18: 0 | L18: 0 | O18: =SUM(O16:O17) -> 2809260

Sheet Aneksi 3 Arsimi Ushtarak
B2: ANEKSI nr.3 Raporti i performancës së produkteve të programit
B3: Periudha e Raportimit 4-2026
B4: në/lekë
B5: Emri i Grupit | C5: Ministria e Mbrojtjes | F5: Kodi i grupit | G5: 17
B6: Emri i programit | C6: Arsimi Ushtarak | F6: Kodi i programit | G6: 09430
B7: Kodi i Produktit | C7: Emërtimi i Produktit | D7: Njësia matëse | E7: Viti paraardhës | H7: Periudha Rapotuese | K7: Periudha Rapotuese | N7: Periudha Rapotuese | Q7: Deviacioni i Kostos për Njësi
E8: Sasia Faktike 2025 | F8: Shpenzimet Faktike 2025 | G8: Kosto për Njësi 2025 | H8: Sasia (sipas planit Fillestar Vjetor) | I8: Shpenzimet (sipas planit Fillestar Vjetor | J8: Kosto për Njësi (sipas planit Fillestar të vitit | K8: Sasia (sipas planit të rishikuar të vitit korent) | L8: Shpenzimet (sipas /planit të rishikuar të vitit korent) | M8: Kosto për Njësi(sipas /planit të rishikuar të vitit korent) | N8: Sasia Faktike (në /fund të vitit korent) 4 mujori I | O8: Shpenzimet Faktike / (në fund të vitit korent) 4 mujori I | P8: Kosto për Njësi Faktike /(në fund të vitit korent) 4 mujori I | Q8: 13=(12)-(3) | R8: 14=(12)-(6) | S8: 15=(12)-(9)
E9: (1) | F9: (2) | G9: (3) | H9: (4) | I9: (5) | J9: (6) | K9: (7) | L9: (8) | M9: (9) | N9: (10) | O9: (11) | P9: (12) | Q9: (13) | R9: (14) | S9: (15)
B10: Produktet e realizuara me shpenzimet buxhetore të programit
B11: 91705AA | C11: Kapacitete të afta për trajnimin dhe arsimimin cilësor në Forcat e Armatosura | D11: Numër personeli | E11: 846 | F11: 945965957 | G11: =F11/E11 -> 1118163.1 | H11: 531 | I11: 900900000 | J11: =I11/H11 -> 1696610.2 | K11: 531 | L11: =I11 -> 900900000 | M11: =L11/K11 -> 1696610.2 | N11: 531 | O11: 236627073 | P11: =O11/N11 -> 445625.37 | Q11: =P11-G11 -> -672537.7 | R11: =P11-J11 -> -1250984.8 | S11: =P11-M11 -> -1250984.8
B12: 19AC403 | C12: Ndertimi i godines se re te AFA, (Prona.21) | D12: m2 | E12: 10000 | F12: 159102021 | G12: 15910.202 | H12: 10000 | I12: 24200000 | J12: =I12/H12 -> 2420 | K12: 10000 | L12: 180719902 | M12: =L12/K12 -> 18071.99 | N12: 0 | P12: 0 | Q12: 0 | R12: 0 | S12: 0
B13: 19AC406 | C13: Blerje licenca VBS3 dhe 15 laptop per VBS3 (MTT) | D13: cope | E13: 50 | F13: 82612654 | G13: 1652253.1 | H13: 0 | I13: 0 | J13: 0 | K13: 0 | L13: 0 | M13: 0 | N13: 0 | O13: 0 | P13: 0 | Q13: 0 | R13: 0 | S13: =P13-M13 -> 0
B14: 23AD902 | C14: Arredimi I Ambjenteve te brendshme te godinave (fakultet dhe Mense-Kuzhine te Kampusit te Ri te AFA) | D14: cope | E14: 2 | F14: 100494494 | G14: 50247247 | H14: 2 | I14: 22150000 | J14: =I14/H14 -> 11075000 | K14: 2 | L14: 122494635 | M14: =L14/K14 -> 61247318 | N14: 2 | O14: 12239476 | P14: =O14/N14 -> 6119738 | Q14: =P14-G14 -> -44127509 | R14: =P14-J14 -> -4955262 | S14: =P14-M14 -> -55127580
B15: 23AD903 | C15: Kompletimi me pajisje informatike dhe teknologjike te dy godinave te masterplanit (fakultetit dhe menses) TIK | D15: cope | F15: 0 | G15: 0 | H15: 50 | I15: 55000000 | J15: =I15/H15 -> 1100000 | K15: 50 | L15: 20000000 | M15: =L15/K15 -> 400000 | N15: 0 | O15: 0 | P15: 0 | Q15: =P15-G15 -> 0 | R15: 0 | S15: 0
B16: 23AD904 | C16: Pasurimi me literature te bibliotekes se AFAsje pajisje dhe orendi te dy godinave te masterplanit (fakultetit dhe menses) | D16: cope | F16: 0 | G16: 0 | H16: 400 | I16: 1200000 | J16: =I16/H16 -> 3000 | K16: 400 | L16: 1060000 | M16: =L16/K16 -> 2650 | N16: 0 | O16: 0 | P16: 0 | Q16: 0 | R16: 0 | S16: 0
B17: 24AJ801 | C17: Ndertim I kabines elektrike - Masterplan AFA | D17: cope | E17: 1 | F17: 16941973 | G17: 16941973 | H17: 0 | I17: 0 | J17: 0 | K17: 0 | L17: 0 | M17: 0 | N17: 0 | O17: 0 | P17: 0 | R17: =P17-J17 -> 0 | S17: =P17-M17 -> 0
B18: 25AC201 | C18: Veshje me sistem kapot per objektet e QAPU, Bunavi - Vlore | D18: cope | E18: 5 | F18: 37753707 | G18: 7550741.4 | H18: 0 | I18: 0 | J18: 0 | K18: 0 | L18: 0 | M18: 0 | N18: 0 | O18: 0 | P18: 0 | Q18: 0 | R18: =P18-J18 -> 0 | S18: =P18-M18 -> 0
B19: M170203 | C19: Fond i ngrire | D19: projekte | F19: 0 | H19: 2 | I19: 754450000 | J19: =I19/H19 -> 377225000 | K19: 2 | L19: 754450000 | M19: =L19/K19 -> 377225000 | O19: 0 | Q19: =P19-G19 -> 0 | R19: =P19-J19 -> -377225000 | S19: =P19-M19 -> -377225000
B20: T | C20: Total | F20: =SUM(F11:F19) -> 1342870806 | G20: =SUM(G11:G19) -> 77526288 | H20: =SUM(H11:H19) -> 10985 | I20: =SUM(I11:I19) -> 1757900000 | J20: =SUM(J11:J19) -> 3.9110203e+08 | K20: =SUM(K11:K19) -> 10985 | L20: =SUM(L11:L19) -> 1979624537 | M20: =SUM(M11:M19) -> 4.4058965e+08 | ... P20: =SUM(P11:P19) -> 6565363.4 | Q20: =P20-G20 -> -70960924 | R20: =P20-J20 -> -3.8453667e+08 | S20: =P20-M20 -> -4.3402429e+08

Sheet Aneksi 3 Mbeshtet. Ushtaraket
B2: ANEKSI nr.3 Raporti i performancës së produkteve të programit
B3: Periudha e Raportimit 4-2026
B4: në/lekë
B5: Emri i Grupit | C5: Ministria e Mbrojtjes | F5: Kodi i grupit | G5: 17
B6: Emri i | C6: Mbështetje për Ushtarakët | F6: Kodi i programit | G6: 10270
B7: Kodi i Produktit | C7: Emërtimi i Produktit | D7: Njësia matëse | E7: Viti paraardhës | H7: Periudha Rapotuese | K7: Periudha Rapotuese | N7: Periudha Rapotuese | Q7: Deviacioni i Kostos për Njësi
E8: Sasia Faktike (Viti paraardhës) | F8: Shpenzimet Faktike (sipas vitit paraardhes) | G8: Kosto për Njësi (sipas vitit paraardhës) | H8: Sasia (sipas planit Fillestar Vjetor) | I8: Shpenzimet (sipas planit Fillestar Vjetor | J8: Kosto për Njësi (sipas planit Fillestar të vitit | K8: Sasia (sipas planit të rishikuar të vitit korent) | L8: Shpenzimet (sipas /nplanit të rishikuar të vitit korent) | M8: Kosto për Njësi(sipas /nplanit të rishikuar të vitit korent) | N8: Sasia Faktike (në /nfund të vitit korent) | O8: Shpenzimet Faktike /n(në fund të vitit korent) | P8: Kosto për Njësi Faktike n/(në fund të vitit korent) | Q8: 13=(12)-(3) | R8: 14=(12)-(6) | S8: 15=(12)-(9)
E9: (1) | F9: (2) | G9: (3) | H9: (4) | I9: (5) | J9: (6) | K9: (7) | L9: (8) | M9: (9) | N9: (10) | O9: (11) | P9: (12) | Q9: (13) | R9: (14) | S9: (15)
B10: Produktet e realizuara me shpenzimet buxhetore të programit
B11: 91706AB | C11: Sigurimin suplementar të ish ushtarakëve dhe ish policeve | D11: Sigurime | E11: 25493.91 | F11: 2283025693 | G11: =F11/E11 -> 89551.806 | H11: 24536 | I11: 1799943251 | J11: =G11 -> 89551.806 | K11: =H11 -> 24536 | L11: 1799943251 | M11: =L11/K11 -> 73359.278 | N11: =K11/3 -> 8178.6667 | O11: 692291000 | P11: =M11 -> 73359.278 | Q11: =P11-G11 -> -16192.528 | R11: =P11-J11 -> -16192.528 | S11: =P11-M11 -> 0
B12: 91706AC | C12: Përfitime të llogaritura dhe shpërndara për trajtimin e veçantë të pilotëve fluturues në pension | D12: Perfitime | E12: 211.62893 | F12: 81125683 | G12: =F12/E12 -> 383339.29 | H12: 211 | I12: 84438886 | J12: =G12 -> 383339.29 | K12: =H12 -> 211 | L12: 84438886 | M12: =L12/K12 -> 400184.29 | N12: =K12/3 -> 70.333333 | O12: 32477000 | P12: =M12 -> 400184.29 | Q12: =P12-G12 -> 16845.008 | R12: =P12-J12 -> 16845.008 | S12: =P12-M12 -> 0
B13: 91706AD | C13: Përfitime të llogaritura dhe shpërndara për trajtimin e veçantë i punonjësve të industrisë ushtarake | D13: Perfitime | E13: 256.94077 | F13: 67079294 | G13: =F13/E13 -> 261069.09 | H13: 186 | I13: 57919456 | J13: =G13 -> 261069.09 | K13: =H13 -> 186 | L13: 57919456 | M13: =L13/K13 -> 311394.92 | N13: =K13/3 -> 62 | O13: 22277000 | P13: =M13 -> 311394.92 | Q13: =P13-G13 -> 50325.834 | R13: =P13-J13 -> 50325.834 | S13: =P13-M13 -> 0
B14: 91706AE | C14: Përfitime të llogaritura dhe shpërndara për trajtimin e veçantë të ushtarakëve të nëndetëseve në pension | D14: Perfitime | E14: 60.304445 | F14: 13991791 | G14: =F14/E14 -> 232019.23 | H14: 52 | I14: 13650961 | J14: =G14 -> 232019.23 | K14: =H14 -> 52 | L14: 13650961 | M14: =L14/K14 -> 262518.48 | N14: =K14/3 -> 17.333333 | O14: 5247000 | P14: =M14 -> 262518.48 | Q14: =P14-G14 -> 30499.25 | R14: =P14-J14 -> 30499.25 | S14: =P14-M14 -> 0
B15: 91706AF | C15: Kontributet e buxhetit te shtetit ne baze te legjislacionit per financimin e ushtarakeve ne pension te parakohshem | D15: Kontribute | E15: 5767.0333 | F15: 2783735539 | G15: =F15/E15 -> 482698.02 | H15: 5671 | I15: 3244047446 | J15: =G15 -> 482698.02 | K15: =H15 -> 5671 | L15: 3244047446 | M15: =L15/K15 -> 572041.52 | N15: =K15/3 -> 1890.3333 | O15: 1247708000 | P15: =M15 -> 572041.52 | Q15: =P15-G15 -> 89343.497 | R15: =P15-J15 -> 89343.497 | S15: =P15-M15 -> 0
B16: T | C16: Total | F16: 5228958000 | I16: =SUM(I11:I15) -> 5200000000 | L16: =SUM(L11:L15) -> 5200000000 | O16: =SUM(O11:O15) -> 2000000000
B17: Produktet e realizuara nga përdorimi i të ardhurave jashtë limitit (Nga kapitulli 06)

Sheet Aneksi 3 Emergjencat Civile
B2: ANEKSI nr.3 Raporti i performancës së produkteve të programit
B3: Periudha e Raportimit 04-2026
B4: në/lekë
B5: Emri i Grupit | C5: Ministria e Mbrojtjes | F5: Kodi i grupit | G5: 17
B6: Emri i | C6: Emergjencat Civile | F6: Kodi i programit | G6: 10910
B7: Kodi i Produktit | C7: Emërtimi i Produktit | D7: Njësia matëse | E7: Viti paraardhës | H7: Periudha Rapotuese | K7: Periudha Rapotuese | N7: Periudha Rapotuese
E8: Sasia Faktike (Viti paraardhës) | F8: Shpenzimet Faktike (sipas vitit paraardhes) | G8: Kosto për Njësi (sipas vitit paraardhës) | H8: Sasia (sipas planit Fillestar Vjetor) | I8: Shpenzimet (sipas planit Fillestar Vjetor | J8: Kosto për Njësi (sipas planit Fillestar të vitit | K8: Sasia (sipas planit të rishikuar të vitit korent) | L8: Shpenzimet (sipas /nplanit të rishikuar të vitit korent) | M8: Kosto për Njësi(sipas /nplanit të rishikuar të vitit korent) | N8: Sasia Faktike (në /nfund të vitit korent) | O8: Shpenzimet Faktike /n(në fund të vitit korent) | P8: Kosto për Njësi Faktike n/(në fund të vitit korent)
E9: (1) | F9: (2) | G9: (3) | H9: (4) | I9: (5) | J9: (6) | K9: (7) | L9: (8) | M9: (9) | N9: (10) | O9: (11) | P9: (12)
B10: Produktet e realizuara me shpenzimet buxhetore të programit
B11: 91707AA | C11: Mbrojtja e jetes njerzore, prones, trashigimise kulturore dhe pyjet ndaj zjarrit | D11: Ore/pune | E11: 1733.055 | F11: 362149936 | G11: =F11/E11 -> 208966.21 | H11: 20771 | I11: 611890000 | J11: =I11/H11 -> 29458.861 | K11: 20771 | L11: 611890000 | M11: =L11/K11 -> 29458.861 | N11: 2176.4928 | O11: 64117396 | P11: =O11/N11 -> 29459.043
B12: 91707AB | C12: Shtetas të ndihmuar, banesat e të cileve janë dëmtuar nga fatkeqësi të ndryshme. | D12: Nr. Familjesh | E12: 120.7343 | F12: 428286063 | G12: =F12/E12 -> 3547343.8 | H12: 1380 | I12: 500000000 | J12: =I12/H12 -> 362318.84 | K12: 1380 | L12: 500000000 | M12: =L12/K12 -> 362318.84 | N12: 24.76272 | O12: 8971865 | P12: =O12/N12 -> 362313.39
B13: 91707AE | C13: STOKU MALLRA INDUSTRIAL (REZERVE MATERIALE SHTETERORE) | D13: Cope | E13: 94806 | F13: 94806797 | G13: =F13/E13 -> 1000.0084 | H13: 0 | I13: 0 | K13: 0 | L13: 0 | N13: 0 | O13: 0
B14: 91707AG | C14: Shpenzime për marrjen e masave parandaluese, lehtësuese mbrojtëse dhe | D14: ml | E14: 12 | F14: 1.6184482e+08 | G14: =F14/E14 -> 13487069 | H14: 0 | I14: 0 | K14: 0 | L14: 0 | N14: 0 | O14: 0
B15: 18AZ901 | C15: Fatkeqesi natyrore te menaxhuara | D15: Nr.projektesh | E15: 33 | F15: 7.4955522e+08 | G15: =F15/E15 -> 22713794 | H15: 0 | I15: 0 | K15: 0 | L15: 0 | N15: 0 | O15: 0
B16: 18BA105 | C16: Cadra strehimi | D16: Cope | E16: 930 | F16: 63237120 | G16: =F16/E16 -> 67996.903 | H16: 0 | I16: 0 | K16: 0 | L16: 0 | N16: 0 | O16: 0
B17: 20AD002 | C17: Blerje mjete speciale per AKMC | D17: Nr.i mjeteve | E17: 4 | F17: 17988000 | G17: =F17/E17 -> 4497000 | H17: 0 | I17: 0 | K17: 0 | L17: 0 | N17: 0 | O17: 0
B18: 21AD501 | C18: Ndertim I stacioneve Hidro-meteorologjike | D18: cope | E18: 4 | F18: 11436000 | G18: =F18/E18 -> 2859000 | H18: 0 | I18: 0 | K18: 0 | L18: 0 | N18: 0 | O18: 0
B19: 22AG103 | C19: Bashkefinancim me projektet e huaja Flood North Albania | D19: cope | E19: 1 | F19: 7487000 | G19: =F19/E19 -> 7487000 | H19: 0 | I19: 0 | K19: 0 | L19: 0 | N19: 0 | O19: 0
B20: 25AD701 | C20: Bashkefinancim AKMC per ALBADAPT/EAR-MHES | D20: cope | E20: 1 | F20: 24000000 | G20: =F20/E20 -> 24000000 | H20: 0 | I20: 0 | K20: 0 | L20: 0 | N20: 0 | O20: 0
B21: M170312 | C21: Blerje pajisje zyre dhe kompjuterike | D21: cope | E21: 59 | F21: 2118480 | G21: =F21/E21 -> 35906.441 | H21: 0 | I21: 0 | K21: 0 | L21: 0 | N21: 0 | O21: 0
B22: 18AZ904 | C22: Bashkite /fatkeqesi natyrore te menaxhuara/Digat | D22: Nr.projektesh | E22: 3.2246732 | F22: 128201234 | G22: =F22/E22 -> 39756350 | H22: 7 | I22: 300000000 | J22: =I22/H22 -> 42857143 | K22: 7 | L22: 300000000 | M22: =L22/K22 -> 42857143 | N22: 0 | O22: 0
